BOTTLE,20130510GEMDJMAYT
EXPOCODE,SECT_ID,STNNBR,CASTNO,SAMPNO,BTLNBR,BTLNBR_FLAG_W,DATE,TIME,LATITUDE,LONGITUDE,DEPTH,CTDPRS,CTDTMP,CTDSAL,CTDSAL_FLAG_W,CTDOXY,CTDOXY_FLAG_W,SALNTY,SALNTY_FLAG_W,OXYGEN,OXYGEN_FLAG_W,SILCAT,SILCAT_FLAG_W,NITRAT,NITRAT_FLAG_W,NO2+NO3,NO2+NO3_FLAG_W,NITRIT,NITRIT_FLAG_W,PHSPHT,PHSPHT_FLAG_W,CFC-11,CFC-11_FLAG_W,CFC-12,CFC-12_FLAG_W,DELC13,DELC13_FLAG_W,TCARBN,TCARBN_FLAG_W,ALKALI,ALKALI_FLAG_W,PH,PH_FLAG_W,PH_TMP,PH_SCALE,PH_NBS,PH_NBS_FLAG_W,C13ERR,TOTALP,TOTALP_FLAG_W,AMMONI,AMMONI_FLAG_W,CHLORA,CHLORA_FLAG_W,PPHYTN,PPHYTN_FLAG_W,REVPRS,REVTMP,DEPTH_,DEPTH_FLAG,CTDDEP,THETA,SIGTHT,DOC,DOC_FLAG_W
,,,,,,,GMT,GMT,,,METER,DBAR,ITS-90,PSS-78,,UMOL/KG,,PSS-78,,UMOL/KG,,UMOL/KG,,UMOL/KG,,UMOL/KG,,UMOL/KG,,UMOL/KG,,PMOL/KG,,PMOL/KG,,/MILLE,,UMOL/KG,,UMOL/KG,,25_DEG_C,,DEG_C,,,,/MILLE,UMOL/KG,,UMOL/KG,,UG/L,,UG/L,,DBAR,ITS-90,METERS,,METERS,DEG_C,,UMOL/L,
       KS04-01,  137E,KS-0945,  1,     24,02-16030,2,20040222,1003, 24.9992, 137.0047, 4983,      5.2,  21.8282,  34.9740,2,   -999.0,9,  34.9719,2,    221.0,2,  -999.00,9,  -999.00,9,     0.00,2,     0.00,2,     0.01,2, -999.000,9, -999.000,9,  -999.00,9,   -999.0,9,   -999.0,9,-999.0000,9,   -999.0,  9,  -999.00,9,   -999.0,  -999.00,9,  -999.00,9,  -999.00,9,  -999.00,9,   -999.0,-999.0000, -999,9,    6,  21.8272,  24.2464,   -999.0,9
       KS04-01,  137E,KS-0945,  1,     23,02-16029,2,20040222,1002, 24.9992, 137.0047, 4983,      9.9,  21.8280,  34.9741,2,   -999.0,9,-999.0000,9,    218.0,2,  -999.00,9,  -999.00,9,     0.00,2,     0.00,2,     0.01,2, -999.000,9, -999.000,9,  -999.00,9,   -999.0,9,   -999.0,9,-999.0000,9,   -999.0,  9,  -999.00,9,   -999.0,  -999.00,9,  -999.00,9,  -999.00,9,  -999.00,9,   -999.0,-999.0000, -999,9,   10,  21.8261,  24.2467,   -999.0,9
       KS04-01,  137E,KS-0945,  1,     22,02-16028,2,20040222,1001, 24.9992, 137.0047, 4983,     25.9,  21.8223,  34.9734,2,   -999.0,9,-999.0000,9,    219.0,2,  -999.00,9,  -999.00,9,     0.00,2,     0.00,2,     0.00,2, -999.000,9, -999.000,9,  -999.00,9,   -999.0,9,   -999.0,9,-999.0000,9,   -999.0,  9,  -999.00,9,   -999.0,  -999.00,9,  -999.00,9,  -999.00,9,  -999.00,9,   -999.0,-999.0000, -999,9,   26,  21.8172,  24.2487,   -999.0,9
       KS04-01,  137E,KS-0945,  1,     21,02-16027,2,20040222,0959, 24.9992, 137.0047, 4983,     50.8,  21.7180,  34.9698,2,   -999.0,9,-999.0000,9,    219.0,2,  -999.00,9,  -999.00,9,     0.00,2,     0.00,2,     0.00,2, -999.000,9, -999.000,9,  -999.00,9,   -999.0,9,   -999.0,9,-999.0000,9,   -999.0,  9,  -999.00,9,   -999.0,  -999.00,9,  -999.00,9,  -999.00,9,  -999.00,9,   -999.0,-999.0000, -999,9,   50,  21.7081,  24.2763,   -999.0,9
       KS04-01,  137E,KS-0945,  1,     20,02-16026,2,20040222,0958, 24.9992, 137.0047, 4983,     77.0,  21.0515,  34.9448,2,   -999.0,9,-999.0000,9,    222.0,2,  -999.00,9,  -999.00,9,     0.00,2,     0.00,2,     0.00,2, -999.000,9, -999.000,9,  -999.00,9,   -999.0,9,   -999.0,9,-999.0000,9,   -999.0,  9,  -999.00,9,   -999.0,  -999.00,9,  -999.00,9,  -999.00,9,  -999.00,9,   -999.0,-999.0000, -999,9,   75,  21.0368,  24.4419,   -999.0,9
       KS04-01,  137E,KS-0945,  1,     19,02-16025,2,20040222,0954, 24.9992, 137.0047, 4983,     99.4,  20.7827,  34.9400,2,   -999.0,9,  34.7986,4,    224.0,2,  -999.00,9,  -999.00,9,     0.00,2,     0.00,2,     0.01,2, -999.000,9, -999.000,9,  -999.00,9,   -999.0,9,   -999.0,9,-999.0000,9,   -999.0,  9,  -999.00,9,   -999.0,  -999.00,9,  -999.00,9,  -999.00,9,  -999.00,9,   -999.0,-999.0000, -999,9,   99,  20.7639,  24.5122,   -999.0,9
       KS04-01,  137E,KS-0945,  1,     18,02-16024,2,20040222,0952, 24.9992, 137.0047, 4983,    150.4,  20.4452,  34.9132,2,   -999.0,9,-999.0000,9,    224.0,2,  -999.00,9,  -999.00,9,     0.10,2,     0.14,2,     0.02,2, -999.000,9, -999.000,9,  -999.00,9,   -999.0,9,   -999.0,9,-999.0000,9,   -999.0,  9,  -999.00,9,   -999.0,  -999.00,9,  -999.00,9,  -999.00,9,  -999.00,9,   -999.0,-999.0000, -999,9,  150,  20.4170,  24.5849,   -999.0,9
       KS04-01,  137E,KS-0945,  1,     17,02-16023,2,20040222,0951, 24.9992, 137.0047, 4983,    201.9,  20.3832,  34.9091,2,   -999.0,9,  34.9105,2,    222.0,2,  -999.00,9,  -999.00,9,     0.20,2,     0.17,2,     0.02,2, -999.000,9, -999.000,9,  -999.00,9,   -999.0,9,   -999.0,9,-999.0000,9,   -999.0,  9,  -999.00,9,   -999.0,  -999.00,9,  -999.00,9,  -999.00,9,  -999.00,9,   -999.0,-999.0000, -999,9,  201,  20.3454,  24.6009,   -999.0,9
       KS04-01,  137E,KS-0945,  1,     16,02-16022,2,20040222,0949, 24.9992, 137.0047, 4983,    252.0,  18.1348,  34.7965,2,   -999.0,9,-999.0000,9,    205.0,2,  -999.00,9,  -999.00,9,     4.00,2,     0.01,2,     0.26,2, -999.000,9, -999.000,9,  -999.00,9,   -999.0,9,   -999.0,9,-999.0000,9,   -999.0,  9,  -999.00,9,   -999.0,  -999.00,9,  -999.00,9,  -999.00,9,  -999.00,9,   -999.0,-999.0000, -999,9,  250,  18.0913,  25.0937,   -999.0,9
       KS04-01,  137E,KS-0945,  1,     15,02-16021,2,20040222,0947, 24.9992, 137.0047, 4983,    303.5,  16.9924,  34.7270,2,   -999.0,9,  34.7300,2,    201.0,2,  -999.00,9,  -999.00,9,     5.75,2,     0.00,2,     0.42,2, -999.000,9, -999.000,9,  -999.00,9,   -999.0,9,   -999.0,9,-999.0000,9,   -999.0,  9,  -999.00,9,   -999.0,  -999.00,9,  -999.00,9,  -999.00,9,  -999.00,9,   -999.0,-999.0000, -999,9,  302,  16.9423,  25.3184,   -999.0,9
       KS04-01,  137E,KS-0945,  1,     14,02-16020,2,20040222,0945, 24.9992, 137.0047, 4983,    403.0,  14.1844,  34.5367,2,   -999.0,9,  34.5376,2,    188.0,2,  -999.00,9,  -999.00,9,    11.41,2,     0.00,2,     0.79,2, -999.000,9, -999.000,9,  -999.00,9,   -999.0,9,   -999.0,9,-999.0000,9,   -999.0,  9,  -999.00,9,   -999.0,  -999.00,9,  -999.00,9,  -999.00,9,  -999.00,9,   -999.0,-999.0000, -999,9,  400,  14.1255,  25.8027,   -999.0,9
       KS04-01,  137E,KS-0945,  1,     13,02-16019,2,20040222,0942, 24.9992, 137.0047, 4983,    504.9,  11.6518,  34.3619,2,   -999.0,9,  34.3617,2,    179.0,2,  -999.00,9,  -999.00,9,    16.47,2,     0.00,2,     1.16,2, -999.000,9, -999.000,9,  -999.00,9,   -999.0,9,   -999.0,9,-999.0000,9,   -999.0,  9,  -999.00,9,   -999.0,  -999.00,9,  -999.00,9,  -999.00,9,  -999.00,9,   -999.0,-999.0000, -999,9,  502,  11.5868,  26.1711,   -999.0,9
       KS04-01,  137E,KS-0945,  1,     12,02-16018,2,20040222,0940, 24.9992, 137.0047, 4983,    605.3,   8.6423,  34.1898,2,   -999.0,9,  34.1905,2,    148.0,2,  -999.00,9,  -999.00,9,    24.45,2,     0.00,2,     1.74,2, -999.000,9, -999.000,9,  -999.00,9,   -999.0,9,   -999.0,9,-999.0000,9,   -999.0,  9,  -999.00,9,   -999.0,  -999.00,9,  -999.00,9,  -999.00,9,  -999.00,9,   -999.0,-999.0000, -999,9,  601,   8.5773,  26.5500,   -999.0,9
       KS04-01,  137E,KS-0945,  1,     11,02-16017,2,20040222,0936, 24.9992, 137.0047, 4983,    706.7,   6.7257,  34.1497,2,   -999.0,9,  34.1503,2,    115.0,2,  -999.00,9,  -999.00,9,    30.97,2,     0.00,2,     2.24,2, -999.000,9, -999.000,9,  -999.00,9,   -999.0,9,   -999.0,9,-999.0000,9,   -999.0,  9,  -999.00,9,   -999.0,  -999.00,9,  -999.00,9,  -999.00,9,  -999.00,9,   -999.0,-999.0000, -999,9,  701,   6.6595,  26.7951,   -999.0,9
       KS04-01,  137E,KS-0945,  1,     10,02-16016,3,20040222,0933, 24.9992, 137.0047, 4983,    807.4,   5.5670,  34.1774,2,   -999.0,9,  34.1793,2,     92.0,2,  -999.00,9,  -999.00,9,    34.86,2,     0.00,2,     2.51,2, -999.000,9, -999.000,9,  -999.00,9,   -999.0,9,   -999.0,9,-999.0000,9,   -999.0,  9,  -999.00,9,   -999.0,  -999.00,9,  -999.00,9,  -999.00,9,  -999.00,9,   -999.0,-999.0000, -999,9,  801,   5.4978,  26.9646,   -999.0,9
       KS04-01,  137E,KS-0945,  1,      9,02-16015,2,20040222,0931, 24.9992, 137.0047, 4983,    907.4,   4.5620,  34.2531,2,   -999.0,9,  34.2528,2,     69.0,2,  -999.00,9,  -999.00,9,    38.46,2,     0.00,2,     2.76,2, -999.000,9, -999.000,9,  -999.00,9,   -999.0,9,   -999.0,9,-999.0000,9,   -999.0,  9,  -999.00,9,   -999.0,  -999.00,9,  -999.00,9,  -999.00,9,  -999.00,9,   -999.0,-999.0000, -999,9,  900,   4.4904,  27.1401,   -999.0,9
       KS04-01,  137E,KS-0945,  1,      8,02-16014,2,20040222,0928, 24.9992, 137.0047, 4983,   1010.6,   3.9922,  34.3177,2,   -999.0,9,  34.3178,2,     60.0,2,  -999.00,9,  -999.00,9,    40.01,2,     0.00,2,     2.89,2, -999.000,9, -999.000,9,  -999.00,9,   -999.0,9,   -999.0,9,-999.0000,9,   -999.0,  9,  -999.00,9,   -999.0,  -999.00,9,  -999.00,9,  -999.00,9,  -999.00,9,   -999.0,-999.0000, -999,9, 1001,   3.9160,  27.2520,   -999.0,9
       KS04-01,  137E,KS-0945,  1,      7,02-16013,2,20040222,0921, 24.9992, 137.0047, 4983,   1263.8,   3.0247,  34.4566,2,   -999.0,9,  34.4557,2,     63.0,2,  -999.00,9,  -999.00,9,    40.97,2,     0.00,2,     2.95,2, -999.000,9, -999.000,9,  -999.00,9,   -999.0,9,   -999.0,9,-999.0000,9,   -999.0,  9,  -999.00,9,   -999.0,  -999.00,9,  -999.00,9,  -999.00,9,  -999.00,9,   -999.0,-999.0000, -999,9, 1252,   2.9362,  27.4571,   -999.0,9
       KS04-01,  137E,KS-0945,  1,      6,02-16012,2,20040222,0915, 24.9992, 137.0047, 4983,   1514.1,   2.5427,  34.5313,2,   -999.0,9,  34.5282,2,     82.0,2,  -999.00,9,  -999.00,9,    40.29,2,     0.00,2,     2.86,2, -999.000,9, -999.000,9,  -999.00,9,   -999.0,9,   -999.0,9,-999.0000,9,   -999.0,  9,  -999.00,9,   -999.0,  -999.00,9,  -999.00,9,  -999.00,9,  -999.00,9,   -999.0,-999.0000, -999,9, 1499,   2.4391,  27.5603,   -999.0,9
       KS04-01,  137E,KS-0945,  1,      5,02-16011,2,20040222,0905, 24.9992, 137.0047, 4983,   2024.0,   1.9716,  34.6143,2,   -999.0,9,  34.6130,2,    113.0,2,  -999.00,9,  -999.00,9,    38.63,2,     0.00,2,     2.71,2, -999.000,9, -999.000,9,  -999.00,9,   -999.0,9,   -999.0,9,-999.0000,9,   -999.0,  9,  -999.00,9,   -999.0,  -999.00,9,  -999.00,9,  -999.00,9,  -999.00,9,   -999.0,-999.0000, -999,9, 2002,   1.8336,  27.6757,   -999.0,9
       KS04-01,  137E,KS-0945,  1,      4,02-16010,2,20040222,0855, 24.9992, 137.0047, 4983,   2533.0,   1.7772,  34.6451,2,   -999.0,9,  34.6441,2,    130.0,2,  -999.00,9,  -999.00,9,    37.56,2,     0.00,2,     2.63,2, -999.000,9, -999.000,9,  -999.00,9,   -999.0,9,   -999.0,9,-999.0000,9,   -999.0,  9,  -999.00,9,   -999.0,  -999.00,9,  -999.00,9,  -999.00,9,  -999.00,9,   -999.0,-999.0000, -999,9, 2502,   1.5981,  27.7182,   -999.0,9
       KS04-01,  137E,KS-0945,  1,      3,02-16009,2,20040222,0845, 24.9992, 137.0047, 4983,   3040.2,   1.6438,  34.6637,2,   -999.0,9,  34.6606,2,    143.0,2,  -999.00,9,  -999.00,9,    36.97,2,     0.00,2,     2.56,2, -999.000,9, -999.000,9,  -999.00,9,   -999.0,9,   -999.0,9,-999.0000,9,   -999.0,  9,  -999.00,9,   -999.0,  -999.00,9,  -999.00,9,  -999.00,9,  -999.00,9,   -999.0,-999.0000, -999,9, 2999,   1.4200,  27.7460,   -999.0,9
       KS04-01,  137E,KS-0945,  1,      2,02-16008,2,20040222,0827, 24.9992, 137.0047, 4983,   4064.5,   1.5356,  34.6841,2,   -999.0,9,  34.6812,2,    158.0,2,  -999.00,9,  -999.00,9,    35.90,2,     0.00,2,     2.48,2, -999.000,9, -999.000,9,  -999.00,9,   -999.0,9,   -999.0,9,-999.0000,9,   -999.0,  9,  -999.00,9,   -999.0,  -999.00,9,  -999.00,9,  -999.00,9,  -999.00,9,   -999.0,-999.0000, -999,9, 4000,   1.2086,  27.7774,   -999.0,9
       KS04-01,  137E,KS-0945,  1,      1,02-16007,2,20040222,0809, 24.9992, 137.0047, 4983,   5043.0,   1.6304,  34.6859,2,   -999.0,9,  34.6840,2,    160.0,2,  -999.00,9,  -999.00,9,    35.71,2,     0.00,2,     2.56,4, -999.000,9, -999.000,9,  -999.00,9,   -999.0,9,   -999.0,9,-999.0000,9,   -999.0,  9,  -999.00,9,   -999.0,  -999.00,9,  -999.00,9,  -999.00,9,  -999.00,9,   -999.0,-999.0000, -999,9, 4952,   1.1865,  27.7803,   -999.0,9