BOTTLE,20130510GEMDJMAYT
EXPOCODE,SECT_ID,STNNBR,CASTNO,SAMPNO,BTLNBR,BTLNBR_FLAG_W,DATE,TIME,LATITUDE,LONGITUDE,DEPTH,CTDPRS,CTDTMP,CTDSAL,CTDSAL_FLAG_W,CTDOXY,CTDOXY_FLAG_W,SALNTY,SALNTY_FLAG_W,OXYGEN,OXYGEN_FLAG_W,SILCAT,SILCAT_FLAG_W,NITRAT,NITRAT_FLAG_W,NO2+NO3,NO2+NO3_FLAG_W,NITRIT,NITRIT_FLAG_W,PHSPHT,PHSPHT_FLAG_W,CFC-11,CFC-11_FLAG_W,CFC-12,CFC-12_FLAG_W,DELC13,DELC13_FLAG_W,TCARBN,TCARBN_FLAG_W,ALKALI,ALKALI_FLAG_W,PH,PH_FLAG_W,PH_TMP,PH_SCALE,PH_NBS,PH_NBS_FLAG_W,C13ERR,TOTALP,TOTALP_FLAG_W,AMMONI,AMMONI_FLAG_W,CHLORA,CHLORA_FLAG_W,PPHYTN,PPHYTN_FLAG_W,REVPRS,REVTMP,DEPTH_,DEPTH_FLAG,CTDDEP,THETA,SIGTHT,DOC,DOC_FLAG_W
,,,,,,,GMT,GMT,,,METER,DBAR,ITS-90,PSS-78,,UMOL/KG,,PSS-78,,UMOL/KG,,UMOL/KG,,UMOL/KG,,UMOL/KG,,UMOL/KG,,UMOL/KG,,PMOL/KG,,PMOL/KG,,/MILLE,,UMOL/KG,,UMOL/KG,,25_DEG_C,,DEG_C,,,,/MILLE,UMOL/KG,,UMOL/KG,,UG/L,,UG/L,,DBAR,ITS-90,METERS,,METERS,DEG_C,,UMOL/L,
       KS04-01,  142E,KS-0936,  1,     24,02-16030,2,20040213,1154, -1.9963, 142.0262, 3590,      5.3,  28.8313,  33.7980,2,   -999.0,9,  33.7985,2,    198.0,2,     2.18,2,  -999.00,9,     0.00,2,     0.01,2,     0.06,2, -999.000,9, -999.000,9,  -999.00,9,   1898.9,6,   -999.0,9,   8.1161,2,     25.0, TS,  -999.00,9,   -999.0,  -999.00,9,  -999.00,9,     0.41,2,     0.23,2,   -999.0,-999.0000, -999,9,    5,  28.8300,  21.2183,   -999.0,9
       KS04-01,  142E,KS-0936,  1,     23,02-16029,2,20040213,1153, -1.9963, 142.0262, 3590,     10.8,  28.8606,  33.8125,2,   -999.0,9,-999.0000,9,    197.0,2,     2.12,2,  -999.00,9,     0.10,2,     0.01,2,     0.06,2, -999.000,9, -999.000,9,  -999.00,9,   -999.0,9,   -999.0,9,-999.0000,9,   -999.0,  9,  -999.00,9,   -999.0,  -999.00,9,  -999.00,9,     0.42,2,     0.26,2,   -999.0,-999.0000, -999,9,   11,  28.8580,  21.2200,   -999.0,9
       KS04-01,  142E,KS-0936,  1,     22,02-16028,2,20040213,1152, -1.9963, 142.0262, 3590,     25.7,  28.9307,  33.9576,2,   -999.0,9,-999.0000,9,    193.0,2,     1.81,2,  -999.00,9,     0.29,2,     0.09,2,     0.08,2, -999.000,9, -999.000,9,  -999.00,9,   -999.0,9,   -999.0,9,-999.0000,9,   -999.0,  9,  -999.00,9,   -999.0,  -999.00,9,  -999.00,9,     0.54,2,     0.41,2,   -999.0,-999.0000, -999,9,   26,  28.9245,  21.3067,   -999.0,9
       KS04-01,  142E,KS-0936,  1,     21,02-16027,2,20040213,1148, -1.9963, 142.0262, 3590,     51.5,  28.7166,  34.3091,2,   -999.0,9,-999.0000,9,    180.0,2,     1.49,2,  -999.00,9,     2.06,2,     0.32,2,     0.22,2, -999.000,9, -999.000,9,  -999.00,9,   -999.0,9,   -999.0,9,-999.0000,9,   -999.0,  9,  -999.00,9,   -999.0,  -999.00,9,  -999.00,9,     0.34,2,     0.45,2,   -999.0,-999.0000, -999,9,   51,  28.7043,  21.6437,   -999.0,9
       KS04-01,  142E,KS-0936,  1,     20,02-16026,2,20040213,1147, -1.9963, 142.0262, 3590,     76.5,  26.5566,  35.2504,2,   -999.0,9,-999.0000,9,    153.0,2,     2.15,2,  -999.00,9,     6.06,2,     0.13,2,     0.54,2, -999.000,9, -999.000,9,  -999.00,9,   -999.0,9,   -999.0,9,-999.0000,9,   -999.0,  9,  -999.00,9,   -999.0,  -999.00,9,  -999.00,9,     0.09,2,     0.42,2,   -999.0,-999.0000, -999,9,   76,  26.5393,  23.0528,   -999.0,9
       KS04-01,  142E,KS-0936,  1,     19,02-16025,2,20040213,1146, -1.9963, 142.0262, 3590,    102.5,  24.7407,  35.4341,2,   -999.0,9,  35.4383,2,    143.0,2,     2.30,2,  -999.00,9,     7.13,2,     0.03,2,     0.62,2, -999.000,9, -999.000,9,  -999.00,9,   -999.0,9,   -999.0,9,-999.0000,9,   -999.0,  9,  -999.00,9,   -999.0,  -999.00,9,  -999.00,9,     0.01,2,     0.14,2,   -999.0,-999.0000, -999,9,  102,  24.7186,  23.7548,   -999.0,9
       KS04-01,  142E,KS-0936,  1,     18,02-16024,3,20040213,1145, -1.9963, 142.0262, 3590,    128.1,  22.8831,  35.5369,2,   -999.0,9,-999.0000,9,    144.0,2,     2.38,2,  -999.00,9,     7.52,2,     0.02,2,     0.63,2, -999.000,9, -999.000,9,  -999.00,9,   -999.0,9,   -999.0,9,-999.0000,9,   -999.0,  9,  -999.00,9,   -999.0,  -999.00,9,  -999.00,9,     0.01,2,     0.06,2,   -999.0,-999.0000, -999,9,  127,  22.8570,  24.3821,   -999.0,9
       KS04-01,  142E,KS-0936,  1,     17,02-16023,2,20040213,1143, -1.9963, 142.0262, 3590,    152.5,  21.1314,  35.5647,2,   -999.0,9,-999.0000,9,    142.0,2,     2.99,2,  -999.00,9,     8.88,2,     0.01,2,     0.73,2, -999.000,9, -999.000,9,  -999.00,9,   -999.0,9,   -999.0,9,-999.0000,9,   -999.0,  9,  -999.00,9,   -999.0,  -999.00,9,  -999.00,9,     0.01,2,     0.03,2,   -999.0,-999.0000, -999,9,  152,  21.1020,  24.8960,   -999.0,9
       KS04-01,  142E,KS-0936,  1,     16,02-16022,2,20040213,1140, -1.9963, 142.0262, 3590,    202.9,  17.9026,  35.4279,2,   -999.0,9,  35.4300,2,    145.0,2,     4.61,2,  -999.00,9,    11.51,2,     0.01,2,     0.91,2, -999.000,9, -999.000,9,  -999.00,9,   -999.0,9,   -999.0,9,-999.0000,9,   -999.0,  9,  -999.00,9,   -999.0,  -999.00,9,  -999.00,9,     0.00,2,     0.02,2,   -999.0,-999.0000, -999,9,  202,  17.8678,  25.6325,   -999.0,9
       KS04-01,  142E,KS-0936,  1,     15,02-16021,2,20040213,1138, -1.9963, 142.0262, 3590,    252.2,  14.7230,  35.1710,2,   -999.0,9,-999.0000,9,    150.0,2,     7.60,2,  -999.00,9,    15.30,2,     0.00,2,     1.15,2, -999.000,9, -999.000,9,  -999.00,9,   -999.0,9,   -999.0,9,-999.0000,9,   -999.0,  9,  -999.00,9,   -999.0,  -999.00,9,  -999.00,9,     0.00,2,     0.02,2,   -999.0,-999.0000, -999,9,  251,  14.6852,  26.1727,   -999.0,9
       KS04-01,  142E,KS-0936,  1,     14,02-16020,2,20040213,1136, -1.9963, 142.0262, 3590,    302.4,  12.8550,  35.0066,2,   -999.0,9,  35.0031,2,    154.0,2,    10.03,2,  -999.00,9,    17.73,2,     0.00,2,     1.29,2, -999.000,9, -999.000,9,  -999.00,9,   -999.0,9,   -999.0,9,-999.0000,9,   -999.0,  9,  -999.00,9,   -999.0,  -999.00,9,  -999.00,9,     0.00,2,     0.02,2,   -999.0,-999.0000, -999,9,  301,  12.8135,  26.4354,   -999.0,9
       KS04-01,  142E,KS-0936,  1,     13,02-16019,9,20040213,1132, -1.9963, 142.0262, 3590,    404.0,   9.8527,  34.7236,2,   -999.0,9,-999.0000,9,   -999.0,9,  -999.00,9,  -999.00,9,  -999.00,9,  -999.00,9,  -999.00,9, -999.000,9, -999.000,9,  -999.00,9,   -999.0,9,   -999.0,9,-999.0000,9,   -999.0,  9,  -999.00,9,   -999.0,  -999.00,9,  -999.00,9,  -999.00,9,  -999.00,9,   -999.0,-999.0000, -999,9,  401,   9.8059,  26.7691,   -999.0,9
       KS04-01,  142E,KS-0936,  1,     12,02-16018,2,20040213,1132, -1.9963, 142.0262, 3590,    403.5,   9.8594,  34.7240,2,   -999.0,9,  34.7248,2,    133.0,2,    22.44,2,  -999.00,9,    25.61,2,     0.00,2,     1.80,2, -999.000,9, -999.000,9,  -999.00,9,   -999.0,9,   -999.0,9,-999.0000,9,   -999.0,  9,  -999.00,9,   -999.0,  -999.00,9,  -999.00,9,  -999.00,9,  -999.00,9,   -999.0,-999.0000, -999,9,  401,   9.8127,  26.7682,   -999.0,9
       KS04-01,  142E,KS-0936,  1,     11,02-16017,2,20040213,1129, -1.9963, 142.0262, 3590,    504.9,   8.1641,  34.6066,2,   -999.0,9,  34.6073,2,    162.0,2,    21.86,2,  -999.00,9,    26.10,2,     0.00,2,     1.81,2, -999.000,9, -999.000,9,  -999.00,9,   -999.0,9,   -999.0,9,-999.0000,9,   -999.0,  9,  -999.00,9,   -999.0,  -999.00,9,  -999.00,9,  -999.00,9,  -999.00,9,   -999.0,-999.0000, -999,9,  502,   8.1117,  26.9481,   -999.0,9
       KS04-01,  142E,KS-0936,  1,     10,02-16016,9,20040213,1127, -1.9963, 142.0262, 3590,    605.9,   6.5278,  34.5310,2,   -999.0,9,-999.0000,9,   -999.0,9,  -999.00,9,  -999.00,9,  -999.00,9,  -999.00,9,  -999.00,9, -999.000,9, -999.000,9,  -999.00,9,   -999.0,9,   -999.0,9,-999.0000,9,   -999.0,  9,  -999.00,9,   -999.0,  -999.00,9,  -999.00,9,  -999.00,9,  -999.00,9,   -999.0,-999.0000, -999,9,  602,   6.4720,  27.1208,   -999.0,9
       KS04-01,  142E,KS-0936,  1,      9,02-16015,2,20040213,1127, -1.9963, 142.0262, 3590,    605.8,   6.5325,  34.5307,2,   -999.0,9,  34.5319,2,    145.0,2,    37.97,2,  -999.00,9,    30.96,2,     0.00,2,     2.18,2, -999.000,9, -999.000,9,  -999.00,9,   -999.0,9,   -999.0,9,-999.0000,9,   -999.0,  9,  -999.00,9,   -999.0,  -999.00,9,  -999.00,9,  -999.00,9,  -999.00,9,   -999.0,-999.0000, -999,9,  602,   6.4767,  27.1199,   -999.0,9
       KS04-01,  142E,KS-0936,  1,      8,02-16014,2,20040213,1122, -1.9963, 142.0262, 3590,    707.3,   5.7029,  34.5226,2,   -999.0,9,  34.5217,2,    128.0,2,    51.72,2,  -999.00,9,    33.98,2,     0.00,2,     2.39,2, -999.000,9, -999.000,9,  -999.00,9,   -999.0,9,   -999.0,9,-999.0000,9,   -999.0,  9,  -999.00,9,   -999.0,  -999.00,9,  -999.00,9,  -999.00,9,  -999.00,9,   -999.0,-999.0000, -999,9,  702,   5.6417,  27.2203,   -999.0,9
       KS04-01,  142E,KS-0936,  1,      7,02-16013,2,20040213,1120, -1.9963, 142.0262, 3590,    807.5,   5.1791,  34.5311,2,   -999.0,9,  34.5329,2,    117.0,2,    62.88,2,  -999.00,9,    35.63,2,     0.00,2,     2.52,2, -999.000,9, -999.000,9,  -999.00,9,   -999.0,9,   -999.0,9,-999.0000,9,   -999.0,  9,  -999.00,9,   -999.0,  -999.00,9,  -999.00,9,  -999.00,9,  -999.00,9,   -999.0,-999.0000, -999,9,  801,   5.1118,  27.2905,   -999.0,9
       KS04-01,  142E,KS-0936,  1,      6,02-16012,2,20040213,1117, -1.9963, 142.0262, 3590,    908.0,   4.8719,  34.5411,2,   -999.0,9,  34.5413,2,    108.0,2,    71.65,2,  -999.00,9,    36.99,2,     0.00,2,     2.64,2, -999.000,9, -999.000,9,  -999.00,9,   -999.0,9,   -999.0,9,-999.0000,9,   -999.0,  9,  -999.00,9,   -999.0,  -999.00,9,  -999.00,9,  -999.00,9,  -999.00,9,   -999.0,-999.0000, -999,9,  901,   4.7977,  27.3346,   -999.0,9
       KS04-01,  142E,KS-0936,  1,      5,02-16011,2,20040213,1114, -1.9963, 142.0262, 3590,   1009.3,   4.4164,  34.5525,2,   -999.0,9,  34.5539,2,    104.0,2,    81.59,2,  -999.00,9,    37.67,2,     0.00,2,     2.69,2, -999.000,9, -999.000,9,  -999.00,9,   -999.0,9,   -999.0,9,-999.0000,9,   -999.0,  9,  -999.00,9,   -999.0,  -999.00,9,  -999.00,9,  -999.00,9,  -999.00,9,   -999.0,-999.0000, -999,9, 1001,   4.3367,  27.3946,   -999.0,9
       KS04-01,  142E,KS-0936,  1,      4,02-16010,2,20040213,1107, -1.9963, 142.0262, 3590,   1262.1,   3.5735,  34.5788,2,   -999.0,9,  34.5777,2,    109.0,2,    99.35,2,  -999.00,9,    37.96,2,     0.00,2,     2.70,2, -999.000,9, -999.000,9,  -999.00,9,   -999.0,9,   -999.0,9,-999.0000,9,   -999.0,  9,  -999.00,9,   -999.0,  -999.00,9,  -999.00,9,  -999.00,9,  -999.00,9,   -999.0,-999.0000, -999,9, 1251,   3.4795,  27.5035,   -999.0,9
       KS04-01,  142E,KS-0936,  1,      3,02-16009,2,20040213,1101, -1.9963, 142.0262, 3590,   1513.9,   2.9067,  34.6059,2,   -999.0,9,  34.6034,2,    111.0,2,   114.71,2,  -999.00,9,    38.34,2,     0.00,2,     2.72,2, -999.000,9, -999.000,9,  -999.00,9,   -999.0,9,   -999.0,9,-999.0000,9,   -999.0,  9,  -999.00,9,   -999.0,  -999.00,9,  -999.00,9,  -999.00,9,  -999.00,9,   -999.0,-999.0000, -999,9, 1500,   2.7987,  27.5887,   -999.0,9
       KS04-01,  142E,KS-0936,  1,      2,02-16008,2,20040213,1055, -1.9963, 142.0262, 3590,   1766.5,   2.5318,  34.6233,2,   -999.0,9,  34.6223,2,    116.0,2,   123.35,2,  -999.00,9,    38.24,2,     0.00,2,     2.71,2, -999.000,9, -999.000,9,  -999.00,9,   -999.0,9,   -999.0,9,-999.0000,9,   -999.0,  9,  -999.00,9,   -999.0,  -999.00,9,  -999.00,9,  -999.00,9,  -999.00,9,   -999.0,-999.0000, -999,9, 1749,   2.4074,  27.6366,   -999.0,9
       KS04-01,  142E,KS-0936,  1,      1,02-16007,2,20040213,1050, -1.9963, 142.0262, 3590,   2021.2,   2.2274,  34.6386,2,   -999.0,9,  34.6368,2,    120.0,2,   129.92,2,  -999.00,9,    37.85,2,     0.00,2,     2.68,2, -999.000,9, -999.000,9,  -999.00,9,   -999.0,9,   -999.0,9,-999.0000,9,   -999.0,  9,  -999.00,9,   -999.0,  -999.00,9,  -999.00,9,  -999.00,9,  -999.00,9,   -999.0,-999.0000, -999,9, 2000,   2.0857,  27.6753,   -999.0,9