BOTTLE,20130510GEMDJMAYT
# 05/09/2013: Correct the error of converted time from JST to GMT.
# 01/25/2006: Format changed
# 06/29/2006: TCARBN QF revised
# 11/27/2006: TCARBN QF revised
# 08/14/2008: pH(TOTAL HYDROGEN SCALE) data reviced
# 09/10/2008: QF of TCARBN and pH(TOTAL HYDROGEN SCALE) for SAMPNO 11 of STNNBR KS-0905 were revised.
# 11/14/2008: pH(TOTAL HYDROGEN SCALE) data revised for stations KS-0901,  KS-0902,  KS-0903,  KS-0904.
# 02/19/2009 : pH scale specified in header.
# 02/19/2009 : NO2+NO3 label corrected in header.
# 04/05/2010 : pH scale specified in header, corrected for QF of CTDSAL (5 -> 2), converted time from JST to GMT
EXPOCODE,SECT_ID,STNNBR,CASTNO,SAMPNO,BTLNBR,BTLNBR_FLAG_W,DATE,TIME,LATITUDE,LONGITUDE,DEPTH,CTDPRS,CTDTMP,CTDSAL,CTDSAL_FLAG_W,CTDOXY,CTDOXY_FLAG_W,SALNTY,SALNTY_FLAG_W,OXYGEN,OXYGEN_FLAG_W,SILCAT,SILCAT_FLAG_W,NITRAT,NITRAT_FLAG_W,NO2+NO3,NO2+NO3_FLAG_W,NITRIT,NITRIT_FLAG_W,PHSPHT,PHSPHT_FLAG_W,CFC-11,CFC-11_FLAG_W,CFC-12,CFC-12_FLAG_W,DELC13,DELC13_FLAG_W,TCARBN,TCARBN_FLAG_W,ALKALI,ALKALI_FLAG_W,PH,PH_FLAG_W,PH_TMP,PH_SCALE,PH_NBS,PH_NBS_FLAG_W,C13ERR,TOTALP,TOTALP_FLAG_W,AMMONI,AMMONI_FLAG_W,CHLORA,CHLORA_FLAG_W,PPHYTN,PPHYTN_FLAG_W,REVPRS,REVTMP,DEPTH_,DEPTH_FLAG,CTDDEP,THETA,SIGTHT,DOC,DOC_FLAG_W
,,,,,,,GMT,GMT,,,METER,DBAR,ITS-90,PSS-78,,UMOL/KG,,PSS-78,,UMOL/KG,,UMOL/KG,,UMOL/KG,,UMOL/KG,,UMOL/KG,,UMOL/KG,,PMOL/KG,,PMOL/KG,,/MILLE,,UMOL/KG,,UMOL/KG,,25_DEG_C,,DEG_C,,,,/MILLE,UMOL/KG,,UMOL/KG,,UG/L,,UG/L,,DBAR,ITS-90,METERS,,METERS,DEG_C,,UMOL/L,
       KS04-01,  137E,KS-0889,  1,     24,02-16030,2,20040120,2112, 33.9855, 137.0082, 1196,      5.5,  15.3335,  34.6512,2,   -999.0,9,  34.6510,2,    222.0,2,    11.07,2,  -999.00,9,     7.41,2,     0.38,2,     0.52,2, -999.000,9, -999.000,9,  -999.00,9,   2039.7,2,   -999.0,9,   7.9427,6,     25.0, TS,     8.06,2,   -999.0,  -999.00,9,  -999.00,9,     0.26,2,     0.24,2,   -999.0,-999.0000, -999,9,    5,  15.3327,  25.6296,   -999.0,9
       KS04-01,  137E,KS-0889,  1,     23,02-16029,2,20040120,2112, 33.9855, 137.0082, 1196,     10.1,  15.3400,  34.6511,2,   -999.0,9,-999.0000,9,    223.0,2,    11.08,2,  -999.00,9,     7.41,2,     0.38,2,     0.53,2, -999.000,9, -999.000,9,  -999.00,9,   -999.0,9,   -999.0,9,-999.0000,9,   -999.0,  9,     8.06,2,   -999.0,  -999.00,9,  -999.00,9,     0.30,2,     0.26,2,   -999.0,-999.0000, -999,9,   10,  15.3385,  25.6282,   -999.0,9
       KS04-01,  137E,KS-0889,  1,     22,02-16028,2,20040120,2111, 33.9855, 137.0082, 1196,     25.1,  15.3559,  34.6515,2,   -999.0,9,-999.0000,9,    223.0,2,    11.02,2,  -999.00,9,     7.41,2,     0.38,2,     0.53,2, -999.000,9, -999.000,9,  -999.00,9,   -999.0,9,   -999.0,9,-999.0000,9,   -999.0,  9,     8.06,2,   -999.0,  -999.00,9,  -999.00,9,     0.35,2,     0.29,2,   -999.0,-999.0000, -999,9,   25,  15.3521,  25.6255,   -999.0,9
       KS04-01,  137E,KS-0889,  1,     21,02-16027,2,20040120,2052, 33.9855, 137.0082, 1196,     50.2,  15.3553,  34.6507,2,   -999.0,9,-999.0000,9,    222.0,2,    11.11,2,  -999.00,9,     7.41,2,     0.38,2,     0.53,2, -999.000,9, -999.000,9,  -999.00,9,   -999.0,9,   -999.0,9,-999.0000,9,   -999.0,  9,     8.06,2,   -999.0,  -999.00,9,  -999.00,9,     0.29,2,     0.20,2,   -999.0,-999.0000, -999,9,   50,  15.3476,  25.6259,   -999.0,9
       KS04-01,  137E,KS-0889,  1,     20,02-16026,2,20040120,2051, 33.9855, 137.0082, 1196,     75.8,  15.2686,  34.6372,2,   -999.0,9,-999.0000,9,    215.0,2,    12.61,2,  -999.00,9,     8.39,2,     0.33,2,     0.59,2, -999.000,9, -999.000,9,  -999.00,9,   -999.0,9,   -999.0,9,-999.0000,9,   -999.0,  9,     8.04,2,   -999.0,  -999.00,9,  -999.00,9,     0.21,2,     0.20,2,   -999.0,-999.0000, -999,9,   75,  15.2571,  25.6356,   -999.0,9
       KS04-01,  137E,KS-0889,  1,     19,02-16025,2,20040120,2050, 33.9855, 137.0082, 1196,    100.4,  14.6908,  34.5639,2,   -999.0,9,  34.5633,2,    185.0,2,    17.47,2,  -999.00,9,    11.60,2,     0.13,2,     0.80,2, -999.000,9, -999.000,9,  -999.00,9,   -999.0,9,   -999.0,9,-999.0000,9,   -999.0,  9,     7.99,2,   -999.0,  -999.00,9,  -999.00,9,     0.07,2,     0.09,2,   -999.0,-999.0000, -999,9,  100,  14.6759,  25.7062,   -999.0,9
       KS04-01,  137E,KS-0889,  1,     18,02-16024,2,20040120,2048, 33.9855, 137.0082, 1196,    126.2,  13.8996,  34.5263,2,   -999.0,9,-999.0000,9,    168.0,2,    21.92,2,  -999.00,9,    14.23,2,     0.01,2,     1.00,2, -999.000,9, -999.000,9,  -999.00,9,   -999.0,9,   -999.0,9,-999.0000,9,   -999.0,  9,     7.94,2,   -999.0,  -999.00,9,  -999.00,9,     0.02,2,     0.05,2,   -999.0,-999.0000, -999,9,  125,  13.8816,  25.8458,   -999.0,9
       KS04-01,  137E,KS-0889,  1,     17,02-16023,2,20040120,2047, 33.9855, 137.0082, 1196,    151.0,  13.5233,  34.5114,2,   -999.0,9,-999.0000,9,    164.0,2,    23.51,2,  -999.00,9,    15.11,2,     0.01,2,     1.06,2, -999.000,9, -999.000,9,  -999.00,9,   -999.0,9,   -999.0,9,-999.0000,9,   -999.0,  9,     7.92,2,   -999.0,  -999.00,9,  -999.00,9,     0.02,2,     0.06,2,   -999.0,-999.0000, -999,9,  150,  13.5021,  25.9126,   -999.0,9
       KS04-01,  137E,KS-0889,  1,     16,02-16022,2,20040120,2046, 33.9855, 137.0082, 1196,    202.3,  11.9173,  34.4369,2,   -999.0,9,  34.4394,2,    153.0,2,    30.63,2,  -999.00,9,    18.52,2,     0.00,2,     1.32,2, -999.000,9, -999.000,9,  -999.00,9,   -999.0,9,   -999.0,9,-999.0000,9,   -999.0,  9,     7.86,2,   -999.0,  -999.00,9,  -999.00,9,     0.01,2,     0.04,2,   -999.0,-999.0000, -999,9,  201,  11.8912,  26.1724,   -999.0,9
       KS04-01,  137E,KS-0889,  1,     15,02-16021,2,20040120,2043, 33.9855, 137.0082, 1196,    253.7,  10.8290,  34.3850,2,   -999.0,9,-999.0000,9,    150.0,2,    36.27,2,  -999.00,9,    20.85,2,     0.00,2,     1.48,2, -999.000,9, -999.000,9,  -999.00,9,   -999.0,9,   -999.0,9,-999.0000,9,   -999.0,  9,     7.82,2,   -999.0,  -999.00,9,  -999.00,9,     0.01,2,     0.03,2,   -999.0,-999.0000, -999,9,  252,  10.7982,  26.3327,   -999.0,9
       KS04-01,  137E,KS-0889,  1,     14,02-16020,2,20040120,2041, 33.9855, 137.0082, 1196,    303.5,   9.8749,  34.3483,2,   -999.0,9,  34.3496,2,    138.0,2,    42.12,2,  -999.00,9,    23.19,2,     0.00,2,     1.65,2, -999.000,9, -999.000,9,  -999.00,9,   -999.0,9,   -999.0,9,-999.0000,9,   -999.0,  9,     7.78,2,   -999.0,  -999.00,9,  -999.00,9,     0.01,2,     0.03,2,   -999.0,-999.0000, -999,9,  301,   9.8401,  26.4701,   -999.0,9
       KS04-01,  137E,KS-0889,  1,     13,02-16019,2,20040120,2038, 33.9855, 137.0082, 1196,    403.9,   8.0415,  34.2771,2,   -999.0,9,  34.2778,2,    120.0,2,    56.05,2,  -999.00,9,    27.76,2,     0.00,2,     1.99,2, -999.000,9, -999.000,9,  -999.00,9,   -999.0,9,   -999.0,9,-999.0000,9,   -999.0,  9,     7.71,2,   -999.0,  -999.00,9,  -999.00,9,  -999.00,9,  -999.00,9,   -999.0,-999.0000, -999,9,  401,   8.0004,  26.7060,   -999.0,9
       KS04-01,  137E,KS-0889,  1,     12,02-16018,2,20040120,2034, 33.9855, 137.0082, 1196,    504.9,   6.5491,  34.2680,2,   -999.0,9,  34.2697,2,    103.0,2,    72.01,2,  -999.00,9,    31.94,2,     0.00,2,     2.31,2, -999.000,9, -999.000,9,  -999.00,9,   -999.0,9,   -999.0,9,-999.0000,9,   -999.0,  9,     7.64,2,   -999.0,  -999.00,9,  -999.00,9,  -999.00,9,  -999.00,9,   -999.0,-999.0000, -999,9,  501,   6.5030,  26.9092,   -999.0,9
       KS04-01,  137E,KS-0889,  1,     11,02-16017,2,20040120,2031, 33.9855, 137.0082, 1196,    605.2,   5.8317,  34.2728,2,   -999.0,9,  34.2738,2,     93.0,2,    81.24,2,  -999.00,9,    34.08,2,     0.00,2,     2.46,2, -999.000,9, -999.000,9,  -999.00,9,   -999.0,9,   -999.0,9,-999.0000,9,   -999.0,  9,     7.61,2,   -999.0,  -999.00,9,  -999.00,9,  -999.00,9,  -999.00,9,   -999.0,-999.0000, -999,9,  600,   5.7794,  27.0056,   -999.0,9
       KS04-01,  137E,KS-0889,  1,     10,02-16016,2,20040120,2028, 33.9855, 137.0082, 1196,    707.7,   4.9676,  34.3072,2,   -999.0,9,  34.3080,2,     78.0,2,    94.14,2,  -999.00,9,    36.51,2,     0.00,2,     2.63,2, -999.000,9, -999.000,9,  -999.00,9,   -999.0,9,   -999.0,9,-999.0000,9,   -999.0,  9,     7.57,2,   -999.0,  -999.00,9,  -999.00,9,  -999.00,9,  -999.00,9,   -999.0,-999.0000, -999,9,  701,   4.9105,  27.1362,   -999.0,9
       KS04-01,  137E,KS-0889,  1,      9,02-16015,2,20040120,2025, 33.9855, 137.0082, 1196,    807.5,   4.2903,  34.3563,2,   -999.0,9,  34.3564,2,     71.0,2,   105.82,2,  -999.00,9,    37.97,2,     0.00,2,     2.75,2, -999.000,9, -999.000,9,  -999.00,9,   -999.0,9,   -999.0,9,-999.0000,9,   -999.0,  9,     7.56,2,   -999.0,  -999.00,9,  -999.00,9,  -999.00,9,  -999.00,9,   -999.0,-999.0000, -999,9,  800,   4.2288,  27.2502,   -999.0,9
       KS04-01,  137E,KS-0889,  1,      8,02-16014,2,20040120,2023, 33.9855, 137.0082, 1196,    908.2,   3.9335,  34.3876,2,   -999.0,9,  34.3868,2,     70.0,2,   112.38,2,  -999.00,9,    38.64,2,     0.00,2,     2.78,2, -999.000,9, -999.000,9,  -999.00,9,   -999.0,9,   -999.0,9,-999.0000,9,   -999.0,  9,     7.55,2,   -999.0,  -999.00,9,  -999.00,9,  -999.00,9,  -999.00,9,   -999.0,-999.0000, -999,9,  900,   3.8661,  27.3127,   -999.0,9
       KS04-01,  137E,KS-0889,  1,      7,02-17642,9,20040120,2019, 33.9855, 137.0082, 1196,   1008.8,   3.4734,  34.4297,2,   -999.0,9,-999.0000,9,   -999.0,9,  -999.00,9,  -999.00,9,  -999.00,9,  -999.00,9,  -999.00,9, -999.000,9, -999.000,9,  -999.00,9,   -999.0,9,   -999.0,9,-999.0000,9,   -999.0,  9,  -999.00,9,   -999.0,  -999.00,9,  -999.00,9,  -999.00,9,  -999.00,9,   -999.0,-999.0000, -999,9,  999,   3.4012,  27.3923,   -999.0,9
       KS04-01,  137E,KS-0889,  1,      6,02-16012,2,20040120,2019, 33.9855, 137.0082, 1196,   1009.3,   3.4747,  34.4293,2,   -999.0,9,  34.4302,2,     69.0,2,   120.51,2,  -999.00,9,    39.32,2,     0.00,2,     2.83,2, -999.000,9, -999.000,9,  -999.00,9,   -999.0,9,   -999.0,9,-999.0000,9,   -999.0,  9,     7.54,2,   -999.0,  -999.00,9,  -999.00,9,  -999.00,9,  -999.00,9,   -999.0,-999.0000, -999,9, 1000,   3.4025,  27.3918,   -999.0,9
       KS04-01,  137E,KS-0889,  1,      5,02-16011,9,20040120,2016, 33.9855, 137.0082, 1196,   1117.9,   3.2578,  34.4521,2,   -999.0,9,-999.0000,9,   -999.0,9,  -999.00,9,  -999.00,9,  -999.00,9,  -999.00,9,  -999.00,9, -999.000,9, -999.000,9,  -999.00,9,   -999.0,9,   -999.0,9,-999.0000,9,   -999.0,  9,  -999.00,9,   -999.0,  -999.00,9,  -999.00,9,  -999.00,9,  -999.00,9,   -999.0,-999.0000, -999,9, 1107,   3.1787,  27.4312,   -999.0,9
       KS04-01,  137E,KS-0889,  1,      4,02-16010,9,20040120,2016, 33.9855, 137.0082, 1196,   1118.9,   3.2565,  34.4524,2,   -999.0,9,-999.0000,9,   -999.0,9,  -999.00,9,  -999.00,9,  -999.00,9,  -999.00,9,  -999.00,9, -999.000,9, -999.000,9,  -999.00,9,   -999.0,9,   -999.0,9,-999.0000,9,   -999.0,  9,  -999.00,9,   -999.0,  -999.00,9,  -999.00,9,  -999.00,9,  -999.00,9,   -999.0,-999.0000, -999,9, 1108,   3.1774,  27.4316,   -999.0,9
       KS04-01,  137E,KS-0889,  1,      3,02-16009,9,20040120,2016, 33.9855, 137.0082, 1196,   1119.6,   3.2613,  34.4518,2,   -999.0,9,-999.0000,9,   -999.0,9,  -999.00,9,  -999.00,9,  -999.00,9,  -999.00,9,  -999.00,9, -999.000,9, -999.000,9,  -999.00,9,   -999.0,9,   -999.0,9,-999.0000,9,   -999.0,  9,  -999.00,9,   -999.0,  -999.00,9,  -999.00,9,  -999.00,9,  -999.00,9,   -999.0,-999.0000, -999,9, 1109,   3.1821,  27.4307,   -999.0,9
       KS04-01,  137E,KS-0889,  1,      2,02-16008,9,20040120,2016, 33.9855, 137.0082, 1196,   1120.5,   3.2617,  34.4517,2,   -999.0,9,-999.0000,9,   -999.0,9,  -999.00,9,  -999.00,9,  -999.00,9,  -999.00,9,  -999.00,9, -999.000,9, -999.000,9,  -999.00,9,   -999.0,9,   -999.0,9,-999.0000,9,   -999.0,  9,  -999.00,9,   -999.0,  -999.00,9,  -999.00,9,  -999.00,9,  -999.00,9,   -999.0,-999.0000, -999,9, 1109,   3.1824,  27.4306,   -999.0,9
       KS04-01,  137E,KS-0889,  1,      1,02-16007,2,20040120,2015, 33.9855, 137.0082, 1196,   1121.3,   3.2625,  34.4517,2,   -999.0,9,  34.4508,2,     71.0,2,   124.21,2,  -999.00,9,    39.52,2,     0.00,2,     2.85,2, -999.000,9, -999.000,9,  -999.00,9,   -999.0,9,   -999.0,9,-999.0000,9,   -999.0,  9,     7.55,2,   -999.0,  -999.00,9,  -999.00,9,  -999.00,9,  -999.00,9,   -999.0,-999.0000, -999,9, 1110,   3.1831,  27.4305,   -999.0,9