BOTTLE,20130510GEMDJMAYT
EXPOCODE,SECT_ID,STNNBR,CASTNO,SAMPNO,BTLNBR,BTLNBR_FLAG_W,DATE,TIME,LATITUDE,LONGITUDE,DEPTH,CTDPRS,CTDTMP,CTDSAL,CTDSAL_FLAG_W,CTDOXY,CTDOXY_FLAG_W,SALNTY,SALNTY_FLAG_W,OXYGEN,OXYGEN_FLAG_W,SILCAT,SILCAT_FLAG_W,NITRAT,NITRAT_FLAG_W,NO2+NO3,NO2+NO3_FLAG_W,NITRIT,NITRIT_FLAG_W,PHSPHT,PHSPHT_FLAG_W,CFC-11,CFC-11_FLAG_W,CFC-12,CFC-12_FLAG_W,DELC13,DELC13_FLAG_W,TCARBN,TCARBN_FLAG_W,ALKALI,ALKALI_FLAG_W,PH,PH_FLAG_W,PH_TMP,PH_SCALE,PH_NBS,PH_NBS_FLAG_W,C13ERR,TOTALP,TOTALP_FLAG_W,AMMONI,AMMONI_FLAG_W,CHLORA,CHLORA_FLAG_W,PPHYTN,PPHYTN_FLAG_W,REVPRS,REVTMP,DEPTH_,DEPTH_FLAG,CTDDEP,THETA,SIGTHT,DOC,DOC_FLAG_W
,,,,,,,GMT,GMT,,,METER,DBAR,ITS-90,PSS-78,,UMOL/KG,,PSS-78,,UMOL/KG,,UMOL/KG,,UMOL/KG,,UMOL/KG,,UMOL/KG,,UMOL/KG,,PMOL/KG,,PMOL/KG,,/MILLE,,UMOL/KG,,UMOL/KG,,25_DEG_C,,DEG_C,,,,/MILLE,UMOL/KG,,UMOL/KG,,UG/L,,UG/L,,DBAR,ITS-90,METERS,,METERS,DEG_C,,UMOL/L,
       KS04-01,  NONE,KS-0969,  1,     24,02-16030,9,20040226,2143, 32.5857, 133.2112,  797,      5.9,  19.3896,  34.8184,2,   -999.0,9,-999.0000,9,   -999.0,9,  -999.00,9,  -999.00,9,  -999.00,9,  -999.00,9,  -999.00,9, -999.000,9, -999.000,9,  -999.00,9,   -999.0,9,   -999.0,9,-999.0000,9,   -999.0,  9,  -999.00,9,   -999.0,  -999.00,9,  -999.00,9,  -999.00,9,  -999.00,9,   -999.0,-999.0000, -999,9,    6,  19.3885,  24.7827,   -999.0,9
       KS04-01,  NONE,KS-0969,  1,     23,02-16029,2,20040226,2143, 32.5857, 133.2112,  797,      6.1,  19.4006,  34.8168,2,   -999.0,9,  34.8194,2,   -999.0,9,  -999.00,9,  -999.00,9,  -999.00,9,  -999.00,9,  -999.00,9, -999.000,9, -999.000,9,  -999.00,9,   -999.0,9,   -999.0,9,-999.0000,9,   -999.0,  9,  -999.00,9,   -999.0,  -999.00,9,  -999.00,9,  -999.00,9,  -999.00,9,   -999.0,-999.0000, -999,9,    6,  19.3995,  24.7786,   -999.0,9
       KS04-01,  NONE,KS-0969,  1,     22,02-16028,9,20040226,2138, 32.5857, 133.2112,  797,    102.0,  17.7358,  34.7985,2,   -999.0,9,-999.0000,9,   -999.0,9,  -999.00,9,  -999.00,9,  -999.00,9,  -999.00,9,  -999.00,9, -999.000,9, -999.000,9,  -999.00,9,   -999.0,9,   -999.0,9,-999.0000,9,   -999.0,  9,  -999.00,9,   -999.0,  -999.00,9,  -999.00,9,  -999.00,9,  -999.00,9,   -999.0,-999.0000, -999,9,  101,  17.7185,  25.1867,   -999.0,9
       KS04-01,  NONE,KS-0969,  1,     21,02-16027,2,20040226,2138, 32.5857, 133.2112,  797,    101.6,  17.7339,  34.7986,2,   -999.0,9,  34.8013,2,   -999.0,9,  -999.00,9,  -999.00,9,  -999.00,9,  -999.00,9,  -999.00,9, -999.000,9, -999.000,9,  -999.00,9,   -999.0,9,   -999.0,9,-999.0000,9,   -999.0,  9,  -999.00,9,   -999.0,  -999.00,9,  -999.00,9,  -999.00,9,  -999.00,9,   -999.0,-999.0000, -999,9,  101,  17.7167,  25.1872,   -999.0,9
       KS04-01,  NONE,KS-0969,  1,     20,02-16026,9,20040226,2136, 32.5857, 133.2112,  797,    202.2,  15.2067,  34.6061,2,   -999.0,9,-999.0000,9,   -999.0,9,  -999.00,9,  -999.00,9,  -999.00,9,  -999.00,9,  -999.00,9, -999.000,9, -999.000,9,  -999.00,9,   -999.0,9,   -999.0,9,-999.0000,9,   -999.0,  9,  -999.00,9,   -999.0,  -999.00,9,  -999.00,9,  -999.00,9,  -999.00,9,   -999.0,-999.0000, -999,9,  201,  15.1759,  25.6295,   -999.0,9
       KS04-01,  NONE,KS-0969,  1,     19,02-16025,2,20040226,2136, 32.5857, 133.2112,  797,    201.8,  15.1918,  34.6022,2,   -999.0,9,  34.6005,2,   -999.0,9,  -999.00,9,  -999.00,9,  -999.00,9,  -999.00,9,  -999.00,9, -999.000,9, -999.000,9,  -999.00,9,   -999.0,9,   -999.0,9,-999.0000,9,   -999.0,  9,  -999.00,9,   -999.0,  -999.00,9,  -999.00,9,  -999.00,9,  -999.00,9,   -999.0,-999.0000, -999,9,  200,  15.1611,  25.6298,   -999.0,9
       KS04-01,  NONE,KS-0969,  1,     18,02-16024,9,20040226,2133, 32.5857, 133.2112,  797,    305.0,   9.7830,  34.3690,2,   -999.0,9,-999.0000,9,   -999.0,9,  -999.00,9,  -999.00,9,  -999.00,9,  -999.00,9,  -999.00,9, -999.000,9, -999.000,9,  -999.00,9,   -999.0,9,   -999.0,9,-999.0000,9,   -999.0,  9,  -999.00,9,   -999.0,  -999.00,9,  -999.00,9,  -999.00,9,  -999.00,9,   -999.0,-999.0000, -999,9,  303,   9.7482,  26.5017,   -999.0,9
       KS04-01,  NONE,KS-0969,  1,     17,02-16023,2,20040226,2132, 32.5857, 133.2112,  797,    303.7,   9.8029,  34.3693,2,   -999.0,9,  34.3702,2,   -999.0,9,  -999.00,9,  -999.00,9,  -999.00,9,  -999.00,9,  -999.00,9, -999.000,9, -999.000,9,  -999.00,9,   -999.0,9,   -999.0,9,-999.0000,9,   -999.0,  9,  -999.00,9,   -999.0,  -999.00,9,  -999.00,9,  -999.00,9,  -999.00,9,   -999.0,-999.0000, -999,9,  301,   9.7682,  26.4986,   -999.0,9
       KS04-01,  NONE,KS-0969,  1,     16,02-16022,9,20040226,2130, 32.5857, 133.2112,  797,    404.9,   7.7776,  34.3056,2,   -999.0,9,-999.0000,9,   -999.0,9,  -999.00,9,  -999.00,9,  -999.00,9,  -999.00,9,  -999.00,9, -999.000,9, -999.000,9,  -999.00,9,   -999.0,9,   -999.0,9,-999.0000,9,   -999.0,  9,  -999.00,9,   -999.0,  -999.00,9,  -999.00,9,  -999.00,9,  -999.00,9,   -999.0,-999.0000, -999,9,  402,   7.7372,  26.7672,   -999.0,9
       KS04-01,  NONE,KS-0969,  1,     15,02-16021,2,20040226,2130, 32.5857, 133.2112,  797,    404.0,   7.7810,  34.3051,2,   -999.0,9,  34.3064,2,   -999.0,9,  -999.00,9,  -999.00,9,  -999.00,9,  -999.00,9,  -999.00,9, -999.000,9, -999.000,9,  -999.00,9,   -999.0,9,   -999.0,9,-999.0000,9,   -999.0,  9,  -999.00,9,   -999.0,  -999.00,9,  -999.00,9,  -999.00,9,  -999.00,9,   -999.0,-999.0000, -999,9,  401,   7.7407,  26.7663,   -999.0,9
       KS04-01,  NONE,KS-0969,  1,     14,02-16020,9,20040226,2128, 32.5857, 133.2112,  797,    504.6,   6.2103,  34.2829,2,   -999.0,9,-999.0000,9,   -999.0,9,  -999.00,9,  -999.00,9,  -999.00,9,  -999.00,9,  -999.00,9, -999.000,9, -999.000,9,  -999.00,9,   -999.0,9,   -999.0,9,-999.0000,9,   -999.0,  9,  -999.00,9,   -999.0,  -999.00,9,  -999.00,9,  -999.00,9,  -999.00,9,   -999.0,-999.0000, -999,9,  500,   6.1656,  26.9649,   -999.0,9
       KS04-01,  NONE,KS-0969,  1,     13,02-16019,2,20040226,2128, 32.5857, 133.2112,  797,    504.3,   6.2064,  34.2823,2,   -999.0,9,  34.2832,2,   -999.0,9,  -999.00,9,  -999.00,9,  -999.00,9,  -999.00,9,  -999.00,9, -999.000,9, -999.000,9,  -999.00,9,   -999.0,9,   -999.0,9,-999.0000,9,   -999.0,  9,  -999.00,9,   -999.0,  -999.00,9,  -999.00,9,  -999.00,9,  -999.00,9,   -999.0,-999.0000, -999,9,  500,   6.1617,  26.9649,   -999.0,9
       KS04-01,  NONE,KS-0969,  1,     12,02-16018,9,20040226,2126, 32.5857, 133.2112,  797,    605.3,   5.0315,  34.2922,2,   -999.0,9,-999.0000,9,   -999.0,9,  -999.00,9,  -999.00,9,  -999.00,9,  -999.00,9,  -999.00,9, -999.000,9, -999.000,9,  -999.00,9,   -999.0,9,   -999.0,9,-999.0000,9,   -999.0,  9,  -999.00,9,   -999.0,  -999.00,9,  -999.00,9,  -999.00,9,  -999.00,9,   -999.0,-999.0000, -999,9,  600,   4.9829,  27.1161,   -999.0,9
       KS04-01,  NONE,KS-0969,  1,     11,02-16017,2,20040226,2125, 32.5857, 133.2112,  797,    605.2,   5.0297,  34.2910,2,   -999.0,9,  34.2897,2,   -999.0,9,  -999.00,9,  -999.00,9,  -999.00,9,  -999.00,9,  -999.00,9, -999.000,9, -999.000,9,  -999.00,9,   -999.0,9,   -999.0,9,-999.0000,9,   -999.0,  9,  -999.00,9,   -999.0,  -999.00,9,  -999.00,9,  -999.00,9,  -999.00,9,   -999.0,-999.0000, -999,9,  600,   4.9811,  27.1153,   -999.0,9
       KS04-01,  NONE,KS-0969,  1,     10,02-16016,9,20040226,2124, 32.5857, 133.2112,  797,    652.7,   4.7985,  34.3103,2,   -999.0,9,-999.0000,9,   -999.0,9,  -999.00,9,  -999.00,9,  -999.00,9,  -999.00,9,  -999.00,9, -999.000,9, -999.000,9,  -999.00,9,   -999.0,9,   -999.0,9,-999.0000,9,   -999.0,  9,  -999.00,9,   -999.0,  -999.00,9,  -999.00,9,  -999.00,9,  -999.00,9,   -999.0,-999.0000, -999,9,  647,   4.7470,  27.1572,   -999.0,9
       KS04-01,  NONE,KS-0969,  1,      9,02-16015,9,20040226,2124, 32.5857, 133.2112,  797,    652.6,   4.7932,  34.3111,2,   -999.0,9,-999.0000,9,   -999.0,9,  -999.00,9,  -999.00,9,  -999.00,9,  -999.00,9,  -999.00,9, -999.000,9, -999.000,9,  -999.00,9,   -999.0,9,   -999.0,9,-999.0000,9,   -999.0,  9,  -999.00,9,   -999.0,  -999.00,9,  -999.00,9,  -999.00,9,  -999.00,9,   -999.0,-999.0000, -999,9,  647,   4.7417,  27.1584,   -999.0,9
       KS04-01,  NONE,KS-0969,  1,      8,02-16014,9,20040226,2124, 32.5857, 133.2112,  797,    653.2,   4.7791,  34.3129,2,   -999.0,9,-999.0000,9,   -999.0,9,  -999.00,9,  -999.00,9,  -999.00,9,  -999.00,9,  -999.00,9, -999.000,9, -999.000,9,  -999.00,9,   -999.0,9,   -999.0,9,-999.0000,9,   -999.0,  9,  -999.00,9,   -999.0,  -999.00,9,  -999.00,9,  -999.00,9,  -999.00,9,   -999.0,-999.0000, -999,9,  648,   4.7276,  27.1614,   -999.0,9
       KS04-01,  NONE,KS-0969,  1,      7,02-16013,9,20040226,2124, 32.5857, 133.2112,  797,    653.8,   4.7757,  34.3134,2,   -999.0,9,-999.0000,9,   -999.0,9,  -999.00,9,  -999.00,9,  -999.00,9,  -999.00,9,  -999.00,9, -999.000,9, -999.000,9,  -999.00,9,   -999.0,9,   -999.0,9,-999.0000,9,   -999.0,  9,  -999.00,9,   -999.0,  -999.00,9,  -999.00,9,  -999.00,9,  -999.00,9,   -999.0,-999.0000, -999,9,  648,   4.7242,  27.1622,   -999.0,9
       KS04-01,  NONE,KS-0969,  1,      6,02-16012,9,20040226,2124, 32.5857, 133.2112,  797,    653.6,   4.7780,  34.3132,2,   -999.0,9,-999.0000,9,   -999.0,9,  -999.00,9,  -999.00,9,  -999.00,9,  -999.00,9,  -999.00,9, -999.000,9, -999.000,9,  -999.00,9,   -999.0,9,   -999.0,9,-999.0000,9,   -999.0,  9,  -999.00,9,   -999.0,  -999.00,9,  -999.00,9,  -999.00,9,  -999.00,9,   -999.0,-999.0000, -999,9,  648,   4.7265,  27.1618,   -999.0,9
       KS04-01,  NONE,KS-0969,  1,      5,02-16011,9,20040226,2123, 32.5857, 133.2112,  797,    654.4,   4.7807,  34.3131,2,   -999.0,9,-999.0000,9,   -999.0,9,  -999.00,9,  -999.00,9,  -999.00,9,  -999.00,9,  -999.00,9, -999.000,9, -999.000,9,  -999.00,9,   -999.0,9,   -999.0,9,-999.0000,9,   -999.0,  9,  -999.00,9,   -999.0,  -999.00,9,  -999.00,9,  -999.00,9,  -999.00,9,   -999.0,-999.0000, -999,9,  649,   4.7291,  27.1613,   -999.0,9
       KS04-01,  NONE,KS-0969,  1,      4,02-16010,9,20040226,2123, 32.5857, 133.2112,  797,    654.3,   4.7821,  34.3129,2,   -999.0,9,-999.0000,9,   -999.0,9,  -999.00,9,  -999.00,9,  -999.00,9,  -999.00,9,  -999.00,9, -999.000,9, -999.000,9,  -999.00,9,   -999.0,9,   -999.0,9,-999.0000,9,   -999.0,  9,  -999.00,9,   -999.0,  -999.00,9,  -999.00,9,  -999.00,9,  -999.00,9,   -999.0,-999.0000, -999,9,  649,   4.7305,  27.1611,   -999.0,9
       KS04-01,  NONE,KS-0969,  1,      3,02-16009,9,20040226,2123, 32.5857, 133.2112,  797,    654.8,   4.7717,  34.3139,2,   -999.0,9,-999.0000,9,   -999.0,9,  -999.00,9,  -999.00,9,  -999.00,9,  -999.00,9,  -999.00,9, -999.000,9, -999.000,9,  -999.00,9,   -999.0,9,   -999.0,9,-999.0000,9,   -999.0,  9,  -999.00,9,   -999.0,  -999.00,9,  -999.00,9,  -999.00,9,  -999.00,9,   -999.0,-999.0000, -999,9,  649,   4.7201,  27.1630,   -999.0,9
       KS04-01,  NONE,KS-0969,  1,      2,02-16008,9,20040226,2123, 32.5857, 133.2112,  797,    655.5,   4.7604,  34.3154,2,   -999.0,9,-999.0000,9,   -999.0,9,  -999.00,9,  -999.00,9,  -999.00,9,  -999.00,9,  -999.00,9, -999.000,9, -999.000,9,  -999.00,9,   -999.0,9,   -999.0,9,-999.0000,9,   -999.0,  9,  -999.00,9,   -999.0,  -999.00,9,  -999.00,9,  -999.00,9,  -999.00,9,   -999.0,-999.0000, -999,9,  650,   4.7088,  27.1654,   -999.0,9
       KS04-01,  NONE,KS-0969,  1,      1,02-16007,2,20040226,2123, 32.5857, 133.2112,  797,    655.5,   4.7648,  34.3150,2,   -999.0,9,  34.3123,2,   -999.0,9,  -999.00,9,  -999.00,9,  -999.00,9,  -999.00,9,  -999.00,9, -999.000,9, -999.000,9,  -999.00,9,   -999.0,9,   -999.0,9,-999.0000,9,   -999.0,  9,  -999.00,9,   -999.0,  -999.00,9,  -999.00,9,  -999.00,9,  -999.00,9,   -999.0,-999.0000, -999,9,  650,   4.7132,  27.1646,   -999.0,9