BOTTLE,20130510GEMDJMAYT
EXPOCODE,SECT_ID,STNNBR,CASTNO,SAMPNO,BTLNBR,BTLNBR_FLAG_W,DATE,TIME,LATITUDE,LONGITUDE,DEPTH,CTDPRS,CTDTMP,CTDSAL,CTDSAL_FLAG_W,CTDOXY,CTDOXY_FLAG_W,SALNTY,SALNTY_FLAG_W,OXYGEN,OXYGEN_FLAG_W,SILCAT,SILCAT_FLAG_W,NITRAT,NITRAT_FLAG_W,NO2+NO3,NO2+NO3_FLAG_W,NITRIT,NITRIT_FLAG_W,PHSPHT,PHSPHT_FLAG_W,CFC-11,CFC-11_FLAG_W,CFC-12,CFC-12_FLAG_W,DELC13,DELC13_FLAG_W,TCARBN,TCARBN_FLAG_W,ALKALI,ALKALI_FLAG_W,PH,PH_FLAG_W,PH_TMP,PH_SCALE,PH_NBS,PH_NBS_FLAG_W,C13ERR,TOTALP,TOTALP_FLAG_W,AMMONI,AMMONI_FLAG_W,CHLORA,CHLORA_FLAG_W,PPHYTN,PPHYTN_FLAG_W,REVPRS,REVTMP,DEPTH_,DEPTH_FLAG,CTDDEP,THETA,SIGTHT,DOC,DOC_FLAG_W
,,,,,,,GMT,GMT,,,METER,DBAR,ITS-90,PSS-78,,UMOL/KG,,PSS-78,,UMOL/KG,,UMOL/KG,,UMOL/KG,,UMOL/KG,,UMOL/KG,,UMOL/KG,,PMOL/KG,,PMOL/KG,,/MILLE,,UMOL/KG,,UMOL/KG,,25_DEG_C,,DEG_C,,,,/MILLE,UMOL/KG,,UMOL/KG,,UG/L,,UG/L,,DBAR,ITS-90,METERS,,METERS,DEG_C,,UMOL/L,
       KS04-01,  137E,KS-0920,  1,     24,02-16030,2,20040130,2206,  9.9735, 136.9880, 4975,      4.9,  28.3304,  33.9914,2,   -999.0,9,  33.9921,2,    198.0,2,     1.10,2,  -999.00,9,     0.00,2,     0.00,2,     0.03,2, -999.000,9, -999.000,9,  -999.00,9,   1895.1,2,   -999.0,9,   8.1218,2,     25.0, TS,  -999.00,9,   -999.0,  -999.00,9,  -999.00,9,     0.04,2,     0.02,2,   -999.0,-999.0000, -999,9,    5,  28.3292,  21.5288,     64.4,2
       KS04-01,  137E,KS-0920,  1,     23,02-16029,2,20040130,2205,  9.9735, 136.9880, 4975,     11.1,  28.3310,  33.9911,2,   -999.0,9,-999.0000,9,    199.0,2,     1.09,2,  -999.00,9,     0.00,2,     0.00,2,     0.03,2, -999.000,9, -999.000,9,  -999.00,9,   1895.6,2,   -999.0,9,   8.1231,2,     25.0, TS,  -999.00,9,   -999.0,  -999.00,9,  -999.00,9,     0.04,2,     0.02,2,   -999.0,-999.0000, -999,9,   11,  28.3284,  21.5288,     64.1,2
       KS04-01,  137E,KS-0920,  1,     22,02-16028,2,20040130,2204,  9.9735, 136.9880, 4975,     25.3,  28.3357,  33.9906,2,   -999.0,9,-999.0000,9,    198.0,2,     1.13,2,  -999.00,9,     0.00,2,     0.00,2,     0.03,2, -999.000,9, -999.000,9,  -999.00,9,   1895.5,2,   -999.0,9,   8.1226,2,     25.0, TS,  -999.00,9,   -999.0,  -999.00,9,  -999.00,9,     0.05,2,     0.02,2,   -999.0,-999.0000, -999,9,   25,  28.3297,  21.5280,     66.3,2
       KS04-01,  137E,KS-0920,  1,     21,02-16027,2,20040130,2200,  9.9735, 136.9880, 4975,     49.7,  28.2455,  33.9931,2,   -999.0,9,-999.0000,9,    199.0,2,     1.06,2,  -999.00,9,     0.00,2,     0.00,2,     0.03,2, -999.000,9, -999.000,9,  -999.00,9,   1896.7,2,   -999.0,9,   8.1199,2,     25.0, TS,  -999.00,9,   -999.0,  -999.00,9,  -999.00,9,     0.06,2,     0.04,2,   -999.0,-999.0000, -999,9,   49,  28.2338,  21.5613,     66.3,2
       KS04-01,  137E,KS-0920,  1,     20,02-16026,2,20040130,2159,  9.9735, 136.9880, 4975,     74.6,  25.7963,  34.8127,2,   -999.0,9,-999.0000,9,    203.0,2,     1.35,2,  -999.00,9,     0.00,2,     0.00,2,     0.11,2, -999.000,9, -999.000,9,  -999.00,9,   1972.4,2,   -999.0,9,   8.0727,2,     25.0, TS,  -999.00,9,   -999.0,  -999.00,9,  -999.00,9,     0.09,2,     0.12,2,   -999.0,-999.0000, -999,9,   74,  25.7798,  22.9605,     66.3,2
       KS04-01,  137E,KS-0920,  1,     19,02-16025,2,20040130,2158,  9.9735, 136.9880, 4975,     99.8,  22.5649,  34.9947,2,   -999.0,9,  35.0008,4,    182.0,2,     2.36,2,  -999.00,9,     1.37,2,     0.07,2,     0.24,2, -999.000,9, -999.000,9,  -999.00,9,   2026.8,2,   -999.0,9,   7.9982,2,     25.0, TS,  -999.00,9,   -999.0,  -999.00,9,  -999.00,9,     0.09,2,     0.34,2,   -999.0,-999.0000, -999,9,   99,  22.5448,  24.0599,     58.1,2
       KS04-01,  137E,KS-0920,  1,     18,02-16024,3,20040130,2157,  9.9735, 136.9880, 4975,    127.3,  19.1239,  34.8633,2,   -999.0,9,-999.0000,9,    166.0,2,     4.95,2,  -999.00,9,     6.15,2,     0.03,2,     0.51,2, -999.000,9, -999.000,9,  -999.00,9,   2062.9,2,   -999.0,9,   7.9184,2,     25.0, TS,  -999.00,9,   -999.0,  -999.00,9,  -999.00,9,     0.08,2,     0.33,2,   -999.0,-999.0000, -999,9,  126,  19.1011,  24.8909,     62.2,2
       KS04-01,  137E,KS-0920,  1,     17,02-16023,2,20040130,2156,  9.9735, 136.9880, 4975,    152.2,  16.5557,  34.6827,2,   -999.0,9,-999.0000,9,    156.0,2,     8.29,2,  -999.00,9,    10.05,2,     0.01,2,     0.76,2, -999.000,9, -999.000,9,  -999.00,9,   2087.5,2,   -999.0,9,   7.8564,2,     25.0, TS,  -999.00,9,   -999.0,  -999.00,9,  -999.00,9,     0.04,2,     0.15,2,   -999.0,-999.0000, -999,9,  151,  16.5311,  25.3810,     47.0,2
       KS04-01,  137E,KS-0920,  1,     16,02-16022,2,20040130,2154,  9.9735, 136.9880, 4975,    202.2,  11.9915,  34.4617,2,   -999.0,9,  34.4626,2,    117.0,2,    22.24,2,  -999.00,9,    21.83,2,     0.00,2,     1.58,2, -999.000,9, -999.000,9,  -999.00,9,   2157.0,2,   -999.0,9,   7.6783,2,     25.0, TS,  -999.00,9,   -999.0,  -999.00,9,  -999.00,9,     0.00,2,     0.02,2,   -999.0,-999.0000, -999,9,  201,  11.9653,  26.1776,     48.8,2
       KS04-01,  137E,KS-0920,  1,     15,02-16021,2,20040130,2152,  9.9735, 136.9880, 4975,    252.6,  10.0852,  34.4658,2,   -999.0,9,-999.0000,9,     85.0,2,    32.33,2,  -999.00,9,    28.35,2,     0.00,2,     2.04,2, -999.000,9, -999.000,9,  -999.00,9,   2203.2,2,   -999.0,9,   7.5702,2,     25.0, TS,  -999.00,9,   -999.0,  -999.00,9,  -999.00,9,     0.00,2,     0.01,2,   -999.0,-999.0000, -999,9,  251,  10.0558,  26.5252,     39.4,2
       KS04-01,  137E,KS-0920,  1,     14,02-16020,2,20040130,2150,  9.9735, 136.9880, 4975,    302.7,   9.5385,  34.4935,2,   -999.0,9,  34.4928,2,     75.0,2,    35.97,2,  -999.00,9,    30.29,2,     0.00,2,     2.17,2, -999.000,9, -999.000,9,  -999.00,9,   2219.3,6,   -999.0,9,   7.5536,6,     25.0, TS,  -999.00,9,   -999.0,  -999.00,9,  -999.00,9,     0.00,2,     0.02,2,   -999.0,-999.0000, -999,9,  301,   9.5044,  26.6395,     42.5,2
       KS04-01,  137E,KS-0920,  1,     13,02-16019,4,20040130,2147,  9.9735, 136.9880, 4975,    403.5,   8.1553,  34.5073,2,   -999.0,9,  34.8186,4,    203.0,4,     1.40,4,  -999.00,9,     0.00,4,     0.00,4,     0.12,4, -999.000,9, -999.000,9,  -999.00,9,   1971.6,4,   -999.0,9,   8.0721,4,     25.0, TS,  -999.00,9,   -999.0,  -999.00,9,  -999.00,9,  -999.00,9,  -999.00,9,   -999.0,-999.0000, -999,9,  401,   8.1138,  26.8698,   -999.0,4
       KS04-01,  137E,KS-0920,  1,     12,02-16018,2,20040130,2144,  9.9735, 136.9880, 4975,    505.4,   7.1766,  34.5028,2,   -999.0,9,  34.5017,2,     76.0,2,    52.02,2,  -999.00,9,    35.05,2,     0.00,2,     2.50,2, -999.000,9, -999.000,9,  -999.00,9,   2252.9,2,   -999.0,9,   7.5131,2,     25.0, TS,  -999.00,9,   -999.0,  -999.00,9,  -999.00,9,  -999.00,9,  -999.00,9,   -999.0,-999.0000, -999,9,  502,   7.1279,  27.0093,     41.3,2
       KS04-01,  137E,KS-0920,  1,     11,02-16017,4,20040130,2141,  9.9735, 136.9880, 4975,    605.9,   6.5951,  34.5153,2,   -999.0,9,  33.9937,4,    198.0,4,     1.19,4,  -999.00,9,     0.00,4,     0.00,4,     0.04,4, -999.000,9, -999.000,9,  -999.00,9,   1893.6,4,   -999.0,9,   8.1200,4,     25.0, TS,  -999.00,9,   -999.0,  -999.00,9,  -999.00,9,  -999.00,9,  -999.00,9,   -999.0,-999.0000, -999,9,  602,   6.5390,  27.0995,   -999.0,4
       KS04-01,  137E,KS-0920,  1,     10,02-16016,4,20040130,2136,  9.9735, 136.9880, 4975,    808.4,   5.4848,  34.5272,2,   -999.0,9,  33.9933,4,    196.0,4,     1.17,4,  -999.00,9,     0.00,4,     0.00,4,     0.03,4, -999.000,9, -999.000,9,  -999.00,9,   1892.9,4,   -999.0,9,   8.1183,4,     25.0, TS,  -999.00,9,   -999.0,  -999.00,9,  -999.00,9,  -999.00,9,  -999.00,9,   -999.0,-999.0000, -999,9,  802,   5.4155,  27.2514,   -999.0,4
       KS04-01,  137E,KS-0920,  1,      9,02-16015,9,20040130,2131,  9.9735, 136.9880, 4975,   1011.9,   4.5716,  34.5452,2,   -999.0,9,-999.0000,9,   -999.0,9,  -999.00,9,  -999.00,9,  -999.00,9,  -999.00,9,  -999.00,9, -999.000,9, -999.000,9,  -999.00,9,   -999.0,9,   -999.0,9,-999.0000,9,   -999.0,  9,  -999.00,9,   -999.0,  -999.00,9,  -999.00,9,  -999.00,9,  -999.00,9,   -999.0,-999.0000, -999,9, 1004,   4.4904,  27.3720,     39.7,2
       KS04-01,  137E,KS-0920,  1,      8,02-16014,2,20040130,2130,  9.9735, 136.9880, 4975,   1011.1,   4.5722,  34.5451,2,   -999.0,9,  34.5445,2,     76.0,2,    89.55,2,  -999.00,9,    39.13,2,     0.00,2,     2.80,2, -999.000,9, -999.000,9,  -999.00,9,   2304.8,2,   -999.0,9,   7.4869,2,     25.0, TS,  -999.00,9,   -999.0,  -999.00,9,  -999.00,9,  -999.00,9,  -999.00,9,   -999.0,-999.0000, -999,9, 1003,   4.4911,  27.3719,   -999.0,9
       KS04-01,  137E,KS-0920,  1,      7,02-17642,9,20040130,2130,  9.9735, 136.9880, 4975,   1009.0,   4.5835,  34.5445,2,   -999.0,9,-999.0000,9,   -999.0,9,  -999.00,9,  -999.00,9,  -999.00,9,  -999.00,9,  -999.00,9, -999.000,9, -999.000,9,  -999.00,9,   -999.0,9,   -999.0,9,-999.0000,9,   -999.0,  9,  -999.00,9,   -999.0,  -999.00,9,  -999.00,9,  -999.00,9,  -999.00,9,   -999.0,-999.0000, -999,9, 1001,   4.5025,  27.3701,   -999.0,9
       KS04-01,  137E,KS-0920,  1,      6,02-16012,2,20040130,2124,  9.9735, 136.9880, 4975,   1262.1,   3.6344,  34.5696,2,   -999.0,9,  34.5694,2,     88.0,2,   108.66,2,  -999.00,9,    39.03,2,     0.00,2,     2.78,2, -999.000,9, -999.000,9,  -999.00,9,   -999.0,9,   -999.0,9,-999.0000,9,   -999.0,  9,  -999.00,9,   -999.0,  -999.00,9,  -999.00,9,  -999.00,9,  -999.00,9,   -999.0,-999.0000, -999,9, 1251,   3.5398,  27.4903,   -999.0,9
       KS04-01,  137E,KS-0920,  1,      5,02-16011,2,20040130,2119,  9.9735, 136.9880, 4975,   1514.8,   2.9081,  34.5979,2,   -999.0,9,  34.5969,2,    101.0,2,   121.02,2,  -999.00,9,    38.54,2,     0.00,2,     2.73,2, -999.000,9, -999.000,9,  -999.00,9,   -999.0,9,   -999.0,9,-999.0000,9,   -999.0,  9,  -999.00,9,   -999.0,  -999.00,9,  -999.00,9,  -999.00,9,  -999.00,9,   -999.0,-999.0000, -999,9, 1501,   2.8000,  27.5822,   -999.0,9
       KS04-01,  137E,KS-0920,  1,      4,02-16010,2,20040130,2108,  9.9735, 136.9880, 4975,   2022.4,   2.1797,  34.6356,2,   -999.0,9,  34.6345,2,    117.0,2,   133.24,2,  -999.00,9,    37.95,2,     0.00,2,     2.67,2, -999.000,9, -999.000,9,  -999.00,9,   -999.0,9,   -999.0,9,-999.0000,9,   -999.0,  9,  -999.00,9,   -999.0,  -999.00,9,  -999.00,9,  -999.00,9,  -999.00,9,   -999.0,-999.0000, -999,9, 2001,   2.0386,  27.6767,   -999.0,9
       KS04-01,  137E,KS-0920,  1,      3,02-16009,2,20040130,2049,  9.9735, 136.9880, 4975,   3039.4,   1.5936,  34.6727,2,   -999.0,9,  34.6712,2,    143.0,2,   137.78,2,  -999.00,9,    36.49,2,     0.00,2,     2.53,2, -999.000,9, -999.000,9,  -999.00,9,   -999.0,9,   -999.0,9,-999.0000,9,   -999.0,  9,  -999.00,9,   -999.0,  -999.00,9,  -999.00,9,  -999.00,9,  -999.00,9,   -999.0,-999.0000, -999,9, 3001,   1.3710,  27.7568,   -999.0,9
       KS04-01,  137E,KS-0920,  1,      2,02-16008,2,20040130,2029,  9.9735, 136.9880, 4975,   4061.3,   1.5542,  34.6829,2,   -999.0,9,  34.6798,2,    154.0,2,   136.18,2,  -999.00,9,    35.71,2,     0.00,2,     2.47,2, -999.000,9, -999.000,9,  -999.00,9,   -999.0,9,   -999.0,9,-999.0000,9,   -999.0,  9,  -999.00,9,   -999.0,  -999.00,9,  -999.00,9,  -999.00,9,  -999.00,9,   -999.0,-999.0000, -999,9, 4000,   1.2271,  27.7751,   -999.0,9
       KS04-01,  137E,KS-0920,  1,      1,02-16007,2,20040130,2011,  9.9735, 136.9880, 4975,   5037.0,   1.5973,  34.6881,2,   -999.0,9,  34.6857,2,    162.0,2,   134.79,2,  -999.00,9,    35.32,2,     0.00,2,     2.44,2, -999.000,9, -999.000,9,  -999.00,9,   -999.0,9,   -999.0,9,-999.0000,9,   -999.0,  9,  -999.00,9,   -999.0,  -999.00,9,  -999.00,9,  -999.00,9,  -999.00,9,   -999.0,-999.0000, -999,9, 4950,   1.1553,  27.7842,   -999.0,9