BOTTLE,20130510GEMDJMAYT
EXPOCODE,SECT_ID,STNNBR,CASTNO,SAMPNO,BTLNBR,BTLNBR_FLAG_W,DATE,TIME,LATITUDE,LONGITUDE,DEPTH,CTDPRS,CTDTMP,CTDSAL,CTDSAL_FLAG_W,CTDOXY,CTDOXY_FLAG_W,SALNTY,SALNTY_FLAG_W,OXYGEN,OXYGEN_FLAG_W,SILCAT,SILCAT_FLAG_W,NITRAT,NITRAT_FLAG_W,NO2+NO3,NO2+NO3_FLAG_W,NITRIT,NITRIT_FLAG_W,PHSPHT,PHSPHT_FLAG_W,CFC-11,CFC-11_FLAG_W,CFC-12,CFC-12_FLAG_W,DELC13,DELC13_FLAG_W,TCARBN,TCARBN_FLAG_W,ALKALI,ALKALI_FLAG_W,PH,PH_FLAG_W,PH_TMP,PH_SCALE,PH_NBS,PH_NBS_FLAG_W,C13ERR,TOTALP,TOTALP_FLAG_W,AMMONI,AMMONI_FLAG_W,CHLORA,CHLORA_FLAG_W,PPHYTN,PPHYTN_FLAG_W,REVPRS,REVTMP,DEPTH_,DEPTH_FLAG,CTDDEP,THETA,SIGTHT,DOC,DOC_FLAG_W
,,,,,,,GMT,GMT,,,METER,DBAR,ITS-90,PSS-78,,UMOL/KG,,PSS-78,,UMOL/KG,,UMOL/KG,,UMOL/KG,,UMOL/KG,,UMOL/KG,,UMOL/KG,,PMOL/KG,,PMOL/KG,,/MILLE,,UMOL/KG,,UMOL/KG,,25_DEG_C,,DEG_C,,,,/MILLE,UMOL/KG,,UMOL/KG,,UG/L,,UG/L,,DBAR,ITS-90,METERS,,METERS,DEG_C,,UMOL/L,
       KS04-01,  137E,KS-0928,  1,     24,02-16030,9,20040211,0900,  2.7873, 137.9973, 4432,      5.5,  29.7078,  34.1956,2,   -999.0,9,-999.0000,9,   -999.0,9,  -999.00,9,  -999.00,9,  -999.00,9,  -999.00,9,  -999.00,9, -999.000,9, -999.000,9,  -999.00,9,   -999.0,9,   -999.0,9,-999.0000,9,   -999.0,  9,  -999.00,9,   -999.0,  -999.00,9,  -999.00,9,  -999.00,9,  -999.00,9,   -999.0,-999.0000, -999,9,    5,  29.7064,  21.2229,   -999.0,9
       KS04-01,  137E,KS-0928,  1,     23,02-16029,2,20040211,0900,  2.7873, 137.9973, 4432,      5.8,  29.6856,  34.1929,2,   -999.0,9,  34.1917,2,   -999.0,9,  -999.00,9,  -999.00,9,  -999.00,9,  -999.00,9,  -999.00,9, -999.000,9, -999.000,9,  -999.00,9,   -999.0,9,   -999.0,9,-999.0000,9,   -999.0,  9,  -999.00,9,   -999.0,  -999.00,9,  -999.00,9,  -999.00,9,  -999.00,9,   -999.0,-999.0000, -999,9,    6,  29.6842,  21.2284,   -999.0,9
       KS04-01,  137E,KS-0928,  1,     22,02-16028,9,20040211,0854,  2.7873, 137.9973, 4432,    103.7,  23.1274,  35.2099,2,   -999.0,9,-999.0000,9,   -999.0,9,  -999.00,9,  -999.00,9,  -999.00,9,  -999.00,9,  -999.00,9, -999.000,9, -999.000,9,  -999.00,9,   -999.0,9,   -999.0,9,-999.0000,9,   -999.0,  9,  -999.00,9,   -999.0,  -999.00,9,  -999.00,9,  -999.00,9,  -999.00,9,   -999.0,-999.0000, -999,9,  103,  23.1061,  24.0622,   -999.0,9
       KS04-01,  137E,KS-0928,  1,     21,02-16027,2,20040211,0854,  2.7873, 137.9973, 4432,    102.3,  23.1276,  35.2009,2,   -999.0,9,  35.2160,4,   -999.0,9,  -999.00,9,  -999.00,9,  -999.00,9,  -999.00,9,  -999.00,9, -999.000,9, -999.000,9,  -999.00,9,   -999.0,9,   -999.0,9,-999.0000,9,   -999.0,  9,  -999.00,9,   -999.0,  -999.00,9,  -999.00,9,  -999.00,9,  -999.00,9,   -999.0,-999.0000, -999,9,  102,  23.1066,  24.0552,   -999.0,9
       KS04-01,  137E,KS-0928,  1,     20,02-16026,2,20040211,0852,  2.7873, 137.9973, 4432,    201.4,  19.9977,  35.2562,2,   -999.0,9,  35.2580,2,   -999.0,9,  -999.00,9,  -999.00,9,  -999.00,9,  -999.00,9,  -999.00,9, -999.000,9, -999.000,9,  -999.00,9,   -999.0,9,   -999.0,9,-999.0000,9,   -999.0,  9,  -999.00,9,   -999.0,  -999.00,9,  -999.00,9,  -999.00,9,  -999.00,9,   -999.0,-999.0000, -999,9,  200,  19.9604,  24.9676,   -999.0,9
       KS04-01,  137E,KS-0928,  1,     19,02-16025,2,20040211,0849,  2.7873, 137.9973, 4432,    304.6,   9.5695,  34.6498,2,   -999.0,9,  34.5360,4,   -999.0,9,  -999.00,9,  -999.00,9,  -999.00,9,  -999.00,9,  -999.00,9, -999.000,9, -999.000,9,  -999.00,9,   -999.0,9,   -999.0,9,-999.0000,9,   -999.0,  9,  -999.00,9,   -999.0,  -999.00,9,  -999.00,9,  -999.00,9,  -999.00,9,   -999.0,-999.0000, -999,9,  303,   9.5351,  26.7567,   -999.0,9
       KS04-01,  137E,KS-0928,  1,     18,02-16024,3,20040211,0847,  2.7873, 137.9973, 4432,    403.7,   8.8774,  34.6434,2,   -999.0,9,-999.0000,4,   -999.0,9,  -999.00,9,  -999.00,9,  -999.00,9,  -999.00,9,  -999.00,9, -999.000,9, -999.000,9,  -999.00,9,   -999.0,9,   -999.0,9,-999.0000,9,   -999.0,  9,  -999.00,9,   -999.0,  -999.00,9,  -999.00,9,  -999.00,9,  -999.00,9,   -999.0,-999.0000, -999,9,  401,   8.8336,  26.8654,   -999.0,9
       KS04-01,  137E,KS-0928,  1,     17,02-16023,2,20040211,0845,  2.7873, 137.9973, 4432,    503.0,   7.9590,  34.5961,2,   -999.0,9,  34.5965,2,   -999.0,9,  -999.00,9,  -999.00,9,  -999.00,9,  -999.00,9,  -999.00,9, -999.000,9, -999.000,9,  -999.00,9,   -999.0,9,   -999.0,9,-999.0000,9,   -999.0,  9,  -999.00,9,   -999.0,  -999.00,9,  -999.00,9,  -999.00,9,  -999.00,9,   -999.0,-999.0000, -999,9,  500,   7.9075,  26.9704,   -999.0,9
       KS04-01,  137E,KS-0928,  1,     16,02-16022,2,20040211,0843,  2.7873, 137.9973, 4432,    605.1,   7.2543,  34.5602,2,   -999.0,9,  34.5600,2,   -999.0,9,  -999.00,9,  -999.00,9,  -999.00,9,  -999.00,9,  -999.00,9, -999.000,9, -999.000,9,  -999.00,9,   -999.0,9,   -999.0,9,-999.0000,9,   -999.0,  9,  -999.00,9,   -999.0,  -999.00,9,  -999.00,9,  -999.00,9,  -999.00,9,   -999.0,-999.0000, -999,9,  601,   7.1952,  27.0451,   -999.0,9
       KS04-01,  137E,KS-0928,  1,     15,02-16021,2,20040211,0841,  2.7873, 137.9973, 4432,    705.2,   6.5321,  34.5366,2,   -999.0,9,  34.5376,2,   -999.0,9,  -999.00,9,  -999.00,9,  -999.00,9,  -999.00,9,  -999.00,9, -999.000,9, -999.000,9,  -999.00,9,   -999.0,9,   -999.0,9,-999.0000,9,   -999.0,  9,  -999.00,9,   -999.0,  -999.00,9,  -999.00,9,  -999.00,9,  -999.00,9,   -999.0,-999.0000, -999,9,  700,   6.4666,  27.1260,   -999.0,9
       KS04-01,  137E,KS-0928,  1,     14,02-16020,9,20040211,0839,  2.7873, 137.9973, 4432,    805.5,   5.6261,  34.5372,2,   -999.0,9,-999.0000,9,   -999.0,9,  -999.00,9,  -999.00,9,  -999.00,9,  -999.00,9,  -999.00,9, -999.000,9, -999.000,9,  -999.00,9,   -999.0,9,   -999.0,9,-999.0000,9,   -999.0,  9,  -999.00,9,   -999.0,  -999.00,9,  -999.00,9,  -999.00,9,  -999.00,9,   -999.0,-999.0000, -999,9,  800,   5.5562,  27.2423,   -999.0,9
       KS04-01,  137E,KS-0928,  1,     13,02-16019,2,20040211,0838,  2.7873, 137.9973, 4432,    805.5,   5.6097,  34.5371,2,   -999.0,9,  34.5360,2,   -999.0,9,  -999.00,9,  -999.00,9,  -999.00,9,  -999.00,9,  -999.00,9, -999.000,9, -999.000,9,  -999.00,9,   -999.0,9,   -999.0,9,-999.0000,9,   -999.0,  9,  -999.00,9,   -999.0,  -999.00,9,  -999.00,9,  -999.00,9,  -999.00,9,   -999.0,-999.0000, -999,9,  799,   5.5399,  27.2442,   -999.0,9
       KS04-01,  137E,KS-0928,  1,     12,02-16018,9,20040211,0836,  2.7873, 137.9973, 4432,    907.2,   5.0281,  34.5456,2,   -999.0,9,-999.0000,9,   -999.0,9,  -999.00,9,  -999.00,9,  -999.00,9,  -999.00,9,  -999.00,9, -999.000,9, -999.000,9,  -999.00,9,   -999.0,9,   -999.0,9,-999.0000,9,   -999.0,  9,  -999.00,9,   -999.0,  -999.00,9,  -999.00,9,  -999.00,9,  -999.00,9,   -999.0,-999.0000, -999,9,  900,   4.9529,  27.3204,   -999.0,9
       KS04-01,  137E,KS-0928,  1,     11,02-16017,2,20040211,0836,  2.7873, 137.9973, 4432,    906.2,   5.0292,  34.5460,2,   -999.0,9,  34.5449,2,   -999.0,9,  -999.00,9,  -999.00,9,  -999.00,9,  -999.00,9,  -999.00,9, -999.000,9, -999.000,9,  -999.00,9,   -999.0,9,   -999.0,9,-999.0000,9,   -999.0,  9,  -999.00,9,   -999.0,  -999.00,9,  -999.00,9,  -999.00,9,  -999.00,9,   -999.0,-999.0000, -999,9,  899,   4.9541,  27.3206,   -999.0,9
       KS04-01,  137E,KS-0928,  1,     10,02-16016,9,20040211,0834,  2.7873, 137.9973, 4432,   1009.8,   4.6697,  34.5516,2,   -999.0,9,-999.0000,9,   -999.0,9,  -999.00,9,  -999.00,9,  -999.00,9,  -999.00,9,  -999.00,9, -999.000,9, -999.000,9,  -999.00,9,   -999.0,9,   -999.0,9,-999.0000,9,   -999.0,  9,  -999.00,9,   -999.0,  -999.00,9,  -999.00,9,  -999.00,9,  -999.00,9,   -999.0,-999.0000, -999,9, 1002,   4.5880,  27.3664,   -999.0,9
       KS04-01,  137E,KS-0928,  1,      9,02-16015,2,20040211,0834,  2.7873, 137.9973, 4432,   1009.0,   4.6515,  34.5514,2,   -999.0,9,  34.5521,2,   -999.0,9,  -999.00,9,  -999.00,9,  -999.00,9,  -999.00,9,  -999.00,9, -999.000,9, -999.000,9,  -999.00,9,   -999.0,9,   -999.0,9,-999.0000,9,   -999.0,  9,  -999.00,9,   -999.0,  -999.00,9,  -999.00,9,  -999.00,9,  -999.00,9,   -999.0,-999.0000, -999,9, 1001,   4.5700,  27.3682,   -999.0,9
       KS04-01,  137E,KS-0928,  1,      8,02-16014,9,20040211,0829,  2.7873, 137.9973, 4432,   1264.1,   3.7769,  34.5755,2,   -999.0,9,-999.0000,9,   -999.0,9,  -999.00,9,  -999.00,9,  -999.00,9,  -999.00,9,  -999.00,9, -999.000,9, -999.000,9,  -999.00,9,   -999.0,9,   -999.0,9,-999.0000,9,   -999.0,  9,  -999.00,9,   -999.0,  -999.00,9,  -999.00,9,  -999.00,9,  -999.00,9,   -999.0,-999.0000, -999,9, 1253,   3.6808,  27.4810,   -999.0,9
       KS04-01,  137E,KS-0928,  1,      7,02-16013,2,20040211,0829,  2.7873, 137.9973, 4432,   1263.3,   3.7673,  34.5756,2,   -999.0,9,  34.5753,2,   -999.0,9,  -999.00,9,  -999.00,9,  -999.00,9,  -999.00,9,  -999.00,9, -999.000,9, -999.000,9,  -999.00,9,   -999.0,9,   -999.0,9,-999.0000,9,   -999.0,  9,  -999.00,9,   -999.0,  -999.00,9,  -999.00,9,  -999.00,9,  -999.00,9,   -999.0,-999.0000, -999,9, 1252,   3.6713,  27.4821,   -999.0,9
       KS04-01,  137E,KS-0928,  1,      6,02-16012,2,20040211,0825,  2.7873, 137.9973, 4432,   1516.3,   3.0570,  34.6002,2,   -999.0,9,  34.5997,2,   -999.0,9,  -999.00,9,  -999.00,9,  -999.00,9,  -999.00,9,  -999.00,9, -999.000,9, -999.000,9,  -999.00,9,   -999.0,9,   -999.0,9,-999.0000,9,   -999.0,  9,  -999.00,9,   -999.0,  -999.00,9,  -999.00,9,  -999.00,9,  -999.00,9,   -999.0,-999.0000, -999,9, 1502,   2.9471,  27.5708,   -999.0,9
       KS04-01,  137E,KS-0928,  1,      5,02-16011,9,20040211,0824,  2.7873, 137.9973, 4432,   1515.6,   3.0565,  34.6001,2,   -999.0,9,-999.0000,9,   -999.0,9,  -999.00,9,  -999.00,9,  -999.00,9,  -999.00,9,  -999.00,9, -999.000,9, -999.000,9,  -999.00,9,   -999.0,9,   -999.0,9,-999.0000,9,   -999.0,  9,  -999.00,9,   -999.0,  -999.00,9,  -999.00,9,  -999.00,9,  -999.00,9,   -999.0,-999.0000, -999,9, 1502,   2.9466,  27.5707,   -999.0,9
       KS04-01,  137E,KS-0928,  1,      4,02-16010,9,20040211,0820,  2.7873, 137.9973, 4432,   1767.8,   2.5505,  34.6218,2,   -999.0,9,-999.0000,9,   -999.0,9,  -999.00,9,  -999.00,9,  -999.00,9,  -999.00,9,  -999.00,9, -999.000,9, -999.000,9,  -999.00,9,   -999.0,9,   -999.0,9,-999.0000,9,   -999.0,  9,  -999.00,9,   -999.0,  -999.00,9,  -999.00,9,  -999.00,9,  -999.00,9,   -999.0,-999.0000, -999,9, 1751,   2.4257,  27.6338,   -999.0,9
       KS04-01,  137E,KS-0928,  1,      3,02-16009,2,20040211,0820,  2.7873, 137.9973, 4432,   1767.3,   2.5500,  34.6217,2,   -999.0,9,  34.6199,2,   -999.0,9,  -999.00,9,  -999.00,9,  -999.00,9,  -999.00,9,  -999.00,9, -999.000,9, -999.000,9,  -999.00,9,   -999.0,9,   -999.0,9,-999.0000,9,   -999.0,  9,  -999.00,9,   -999.0,  -999.00,9,  -999.00,9,  -999.00,9,  -999.00,9,   -999.0,-999.0000, -999,9, 1750,   2.4253,  27.6337,   -999.0,9
       KS04-01,  137E,KS-0928,  1,      2,02-16008,9,20040211,0814,  2.7873, 137.9973, 4432,   2020.8,   2.1738,  34.6404,2,   -999.0,9,-999.0000,9,   -999.0,9,  -999.00,9,  -999.00,9,  -999.00,9,  -999.00,9,  -999.00,9, -999.000,9, -999.000,9,  -999.00,9,   -999.0,9,   -999.0,9,-999.0000,9,   -999.0,  9,  -999.00,9,   -999.0,  -999.00,9,  -999.00,9,  -999.00,9,  -999.00,9,   -999.0,-999.0000, -999,9, 2000,   2.0329,  27.6810,   -999.0,9
       KS04-01,  137E,KS-0928,  1,      1,02-16007,2,20040211,0814,  2.7873, 137.9973, 4432,   2021.1,   2.1728,  34.6405,2,   -999.0,9,  34.6388,2,   -999.0,9,  -999.00,9,  -999.00,9,  -999.00,9,  -999.00,9,  -999.00,9, -999.000,9, -999.000,9,  -999.00,9,   -999.0,9,   -999.0,9,-999.0000,9,   -999.0,  9,  -999.00,9,   -999.0,  -999.00,9,  -999.00,9,  -999.00,9,  -999.00,9,   -999.0,-999.0000, -999,9, 2000,   2.0319,  27.6811,   -999.0,9