BOTTLE,20130510GEMDJMAYT
EXPOCODE,SECT_ID,STNNBR,CASTNO,SAMPNO,BTLNBR,BTLNBR_FLAG_W,DATE,TIME,LATITUDE,LONGITUDE,DEPTH,CTDPRS,CTDTMP,CTDSAL,CTDSAL_FLAG_W,CTDOXY,CTDOXY_FLAG_W,SALNTY,SALNTY_FLAG_W,OXYGEN,OXYGEN_FLAG_W,SILCAT,SILCAT_FLAG_W,NITRAT,NITRAT_FLAG_W,NO2+NO3,NO2+NO3_FLAG_W,NITRIT,NITRIT_FLAG_W,PHSPHT,PHSPHT_FLAG_W,CFC-11,CFC-11_FLAG_W,CFC-12,CFC-12_FLAG_W,DELC13,DELC13_FLAG_W,TCARBN,TCARBN_FLAG_W,ALKALI,ALKALI_FLAG_W,PH,PH_FLAG_W,PH_TMP,PH_SCALE,PH_NBS,PH_NBS_FLAG_W,C13ERR,TOTALP,TOTALP_FLAG_W,AMMONI,AMMONI_FLAG_W,CHLORA,CHLORA_FLAG_W,PPHYTN,PPHYTN_FLAG_W,REVPRS,REVTMP,DEPTH_,DEPTH_FLAG,CTDDEP,THETA,SIGTHT,DOC,DOC_FLAG_W
,,,,,,,GMT,GMT,,,METER,DBAR,ITS-90,PSS-78,,UMOL/KG,,PSS-78,,UMOL/KG,,UMOL/KG,,UMOL/KG,,UMOL/KG,,UMOL/KG,,UMOL/KG,,PMOL/KG,,PMOL/KG,,/MILLE,,UMOL/KG,,UMOL/KG,,25_DEG_C,,DEG_C,,,,/MILLE,UMOL/KG,,UMOL/KG,,UG/L,,UG/L,,DBAR,ITS-90,METERS,,METERS,DEG_C,,UMOL/L,
       KS04-01,  137E,KS-0915,  1,     24,02-16030,2,20040129,0414, 14.9743, 136.9528, 5333,      5.1,  27.7460,  34.2389,2,   -999.0,9,  34.2395,2,    201.0,2,     0.92,2,  -999.00,9,     0.00,2,     0.00,2,     0.03,2, -999.000,9, -999.000,9,  -999.00,9,   1902.5,2,   -999.0,9,   8.1265,2,     25.0, TS,     8.25,2,   -999.0,  -999.00,9,  -999.00,9,     0.04,2,     0.02,2,   -999.0,-999.0000, -999,9,    5,  27.7448,  21.9053,     71.6,2
       KS04-01,  137E,KS-0915,  1,     23,02-16029,2,20040129,0413, 14.9743, 136.9528, 5333,      9.5,  27.7364,  34.2392,2,   -999.0,9,-999.0000,9,    200.0,2,     1.01,2,  -999.00,9,     0.00,2,     0.00,2,     0.03,2, -999.000,9, -999.000,9,  -999.00,9,   1901.9,2,   -999.0,9,   8.1252,2,     25.0, TS,     8.26,2,   -999.0,  -999.00,9,  -999.00,9,     0.04,2,     0.01,2,   -999.0,-999.0000, -999,9,    9,  27.7342,  21.9090,     69.3,2
       KS04-01,  137E,KS-0915,  1,     22,02-16028,2,20040129,0412, 14.9743, 136.9528, 5333,     26.2,  27.6982,  34.2404,2,   -999.0,9,-999.0000,9,    200.0,2,     0.94,2,  -999.00,9,     0.00,2,     0.00,2,     0.03,2, -999.000,9, -999.000,9,  -999.00,9,   1902.0,2,   -999.0,9,   8.1270,2,     25.0, TS,     8.25,2,   -999.0,  -999.00,9,  -999.00,9,     0.04,2,     0.02,2,   -999.0,-999.0000, -999,9,   26,  27.6921,  21.9235,     75.5,2
       KS04-01,  137E,KS-0915,  1,     21,02-16027,2,20040129,0407, 14.9743, 136.9528, 5333,     49.4,  27.6452,  34.3195,2,   -999.0,9,-999.0000,9,    201.0,2,     0.98,2,  -999.00,9,     0.00,2,     0.00,2,     0.02,2, -999.000,9, -999.000,9,  -999.00,9,   1906.4,2,   -999.0,9,   8.1288,2,     25.0, TS,     8.25,2,   -999.0,  -999.00,9,  -999.00,9,     0.06,2,     0.02,2,   -999.0,-999.0000, -999,9,   49,  27.6337,  22.0019,     71.1,2
       KS04-01,  137E,KS-0915,  1,     20,02-16026,2,20040129,0406, 14.9743, 136.9528, 5333,     76.3,  27.5457,  34.3956,2,   -999.0,9,-999.0000,9,    202.0,2,     0.96,2,  -999.00,9,     0.00,2,     0.00,2,     0.02,2, -999.000,9, -999.000,9,  -999.00,9,   1909.0,2,   -999.0,9,   8.1281,2,     25.0, TS,     8.25,2,   -999.0,  -999.00,9,  -999.00,9,     0.09,2,     0.04,2,   -999.0,-999.0000, -999,9,   76,  27.5280,  22.0933,     72.9,2
       KS04-01,  137E,KS-0915,  1,     19,02-16025,2,20040129,0405, 14.9743, 136.9528, 5333,    101.0,  26.7121,  34.9016,2,   -999.0,9,  34.9136,4,    203.0,2,     1.10,2,  -999.00,9,     0.00,2,     0.00,2,     0.05,2, -999.000,9, -999.000,9,  -999.00,9,   1960.1,2,   -999.0,9,   8.0956,2,     25.0, TS,     8.22,2,   -999.0,  -999.00,9,  -999.00,9,     0.18,2,     0.17,2,   -999.0,-999.0000, -999,9,  100,  26.6891,  22.7425,     68.3,2
       KS04-01,  137E,KS-0915,  1,     18,02-16024,2,20040129,0404, 14.9743, 136.9528, 5333,    126.7,  24.6051,  35.1288,2,   -999.0,9,-999.0000,9,    188.0,2,     1.40,2,  -999.00,9,     0.29,2,     0.12,2,     0.10,2, -999.000,9, -999.000,9,  -999.00,9,   1998.5,2,   -999.0,9,   8.0522,2,     25.0, TS,     8.17,2,   -999.0,  -999.00,9,  -999.00,9,     0.12,2,     0.39,2,   -999.0,-999.0000, -999,9,  126,  24.5779,  23.5663,     62.4,2
       KS04-01,  137E,KS-0915,  1,     17,02-16023,2,20040129,0403, 14.9743, 136.9528, 5333,    152.0,  22.7807,  35.0851,2,   -999.0,9,-999.0000,9,    174.0,2,     2.15,2,  -999.00,9,     2.05,2,     0.03,2,     0.22,2, -999.000,9, -999.000,9,  -999.00,9,   2023.9,2,   -999.0,9,   8.0051,2,     25.0, TS,     8.12,2,   -999.0,  -999.00,9,  -999.00,9,     0.05,2,     0.22,2,   -999.0,-999.0000, -999,9,  151,  22.7499,  24.0700,     60.0,2
       KS04-01,  137E,KS-0915,  1,     16,02-16022,2,20040129,0401, 14.9743, 136.9528, 5333,    201.6,  18.7457,  34.8447,2,   -999.0,9,  34.8497,2,    169.0,2,     5.14,2,  -999.00,9,     6.54,2,     0.00,2,     0.52,2, -999.000,9, -999.000,9,  -999.00,9,   2062.3,2,   -999.0,9,   7.9150,2,     25.0, TS,     8.03,2,   -999.0,  -999.00,9,  -999.00,9,     0.01,2,     0.03,2,   -999.0,-999.0000, -999,9,  200,  18.7101,  24.9760,     51.5,2
       KS04-01,  137E,KS-0915,  1,     15,02-16021,2,20040129,0400, 14.9743, 136.9528, 5333,    251.6,  15.6599,  34.6209,2,   -999.0,9,-999.0000,9,    155.0,2,     9.97,2,  -999.00,9,    11.51,2,     0.00,2,     0.85,2, -999.000,9, -999.000,9,  -999.00,9,   2093.6,2,   -999.0,9,   7.8340,2,     25.0, TS,     7.95,2,   -999.0,  -999.00,9,  -999.00,9,     0.00,2,     0.02,2,   -999.0,-999.0000, -999,9,  250,  15.6207,  25.5419,     46.8,2
       KS04-01,  137E,KS-0915,  1,     14,02-16020,2,20040129,0358, 14.9743, 136.9528, 5333,    302.6,  12.8258,  34.4477,2,   -999.0,9,  34.4506,2,    153.0,2,    16.98,2,  -999.00,9,    16.37,2,     0.00,2,     1.17,2, -999.000,9, -999.000,9,  -999.00,9,   2117.5,6,   -999.0,9,   7.7649,6,     25.0, TS,     7.88,2,   -999.0,  -999.00,9,  -999.00,9,     0.00,2,     0.01,2,   -999.0,-999.0000, -999,9,  301,  12.7846,  26.0078,     46.1,2
       KS04-01,  137E,KS-0915,  1,     13,02-16019,2,20040129,0355, 14.9743, 136.9528, 5333,    402.0,   8.9060,  34.2031,2,   -999.0,9,  34.2034,2,    135.0,2,    35.55,2,  -999.00,9,    24.84,2,     0.00,2,     1.77,2, -999.000,9, -999.000,9,  -999.00,9,   2176.6,2,   -999.0,9,   7.6324,2,     25.0, TS,     7.74,2,   -999.0,  -999.00,9,  -999.00,9,  -999.00,9,  -999.00,9,   -999.0,-999.0000, -999,9,  399,   8.8625,  26.5159,     43.5,2
       KS04-01,  137E,KS-0915,  1,     12,02-16018,2,20040129,0353, 14.9743, 136.9528, 5333,    503.8,   7.1866,  34.2662,2,   -999.0,9,  34.2709,2,     82.0,2,    55.41,2,  -999.00,9,    33.01,2,     0.00,2,     2.40,2, -999.000,9, -999.000,9,  -999.00,9,   2241.8,2,   -999.0,9,   7.5050,2,     25.0, TS,     7.61,2,   -999.0,  -999.00,9,  -999.00,9,  -999.00,9,  -999.00,9,   -999.0,-999.0000, -999,9,  500,   7.1382,  26.8216,     45.3,2
       KS04-01,  137E,KS-0915,  1,     11,02-16017,4,20040129,0350, 14.9743, 136.9528, 5333,    605.9,   6.5077,  34.4145,2,   -999.0,9,  34.5325,4,    201.0,4,     1.02,4,  -999.00,9,     0.00,4,     0.00,4,     0.04,4, -999.000,9, -999.000,9,  -999.00,9,   1922.8,4,   -999.0,9,   8.1187,4,     25.0, TS,     8.24,4,   -999.0,  -999.00,9,  -999.00,9,  -999.00,9,  -999.00,9,   -999.0,-999.0000, -999,9,  602,   6.4521,  27.0315,     56.6,2
       KS04-01,  137E,KS-0915,  1,     10,02-16016,4,20040129,0347, 14.9743, 136.9528, 5333,    707.5,   5.7822,  34.4609,2,   -999.0,9,-999.0000,9,   -999.0,9,  -999.00,9,  -999.00,9,  -999.00,9,  -999.00,9,  -999.00,9, -999.000,9, -999.000,9,  -999.00,9,   -999.0,9,   -999.0,9,-999.0000,9,   -999.0,  9,  -999.00,9,   -999.0,  -999.00,9,  -999.00,9,  -999.00,9,  -999.00,9,   -999.0,-999.0000, -999,9,  702,   5.7206,  27.1617,   -999.0,9
       KS04-01,  137E,KS-0915,  1,      9,02-16015,2,20040129,0344, 14.9743, 136.9528, 5333,    807.4,   5.2417,  34.4940,2,   -999.0,9,  34.4907,2,     81.0,2,    80.25,2,  -999.00,9,    37.48,2,     0.00,2,     2.71,2, -999.000,9, -999.000,9,  -999.00,9,   2304.2,3,   -999.0,9,   7.5012,2,     25.0, TS,     7.60,2,   -999.0,  -999.00,9,  -999.00,9,  -999.00,9,  -999.00,9,   -999.0,-999.0000, -999,9,  801,   5.1741,  27.2538,     36.8,2
       KS04-01,  137E,KS-0915,  1,      8,02-16014,2,20040129,0339, 14.9743, 136.9528, 5333,   1009.2,   4.3159,  34.5379,2,   -999.0,9,  34.5349,2,     87.0,2,    94.23,2,  -999.00,9,    38.06,2,     0.00,2,     2.74,2, -999.000,9, -999.000,9,  -999.00,9,   2287.5,3,   -999.0,9,   7.4896,2,     25.0, TS,     7.61,2,   -999.0,  -999.00,9,  -999.00,9,  -999.00,9,  -999.00,9,   -999.0,-999.0000, -999,9, 1001,   4.2370,  27.3936,   -999.0,4
       KS04-01,  137E,KS-0915,  1,      7,02-17642,2,20040129,0332, 14.9743, 136.9528, 5333,   1263.2,   3.5030,  34.5637,2,   -999.0,9,  34.5614,2,     94.0,2,   111.40,2,  -999.00,9,    38.44,2,     0.00,2,     2.73,2, -999.000,9, -999.000,9,  -999.00,9,   -999.0,9,   -999.0,9,-999.0000,9,   -999.0,  9,     7.61,2,   -999.0,  -999.00,9,  -999.00,9,  -999.00,9,  -999.00,9,   -999.0,-999.0000, -999,9, 1252,   3.4096,  27.4982,   -999.0,9
       KS04-01,  137E,KS-0915,  1,      6,02-16012,2,20040129,0324, 14.9743, 136.9528, 5333,   1513.9,   2.9275,  34.5855,2,   -999.0,9,  34.5846,2,    100.0,2,   123.00,2,  -999.00,9,    38.25,2,     0.00,2,     2.72,2, -999.000,9, -999.000,9,  -999.00,9,   -999.0,9,   -999.0,9,-999.0000,9,   -999.0,  9,     7.62,2,   -999.0,  -999.00,9,  -999.00,9,  -999.00,9,  -999.00,9,   -999.0,-999.0000, -999,9, 1500,   2.8193,  27.5705,   -999.0,9
       KS04-01,  137E,KS-0915,  1,      5,02-16011,2,20040129,0309, 14.9743, 136.9528, 5333,   2021.3,   2.2251,  34.6234,2,   -999.0,9,  34.6211,2,    113.0,2,   134.82,2,  -999.00,9,    37.95,2,     0.00,2,     2.68,2, -999.000,9, -999.000,9,  -999.00,9,   -999.0,9,   -999.0,9,-999.0000,9,   -999.0,  9,     7.64,2,   -999.0,  -999.00,9,  -999.00,9,  -999.00,9,  -999.00,9,   -999.0,-999.0000, -999,9, 2000,   2.0835,  27.6633,   -999.0,9
       KS04-01,  137E,KS-0915,  1,      4,02-16010,2,20040129,0258, 14.9743, 136.9528, 5333,   2531.2,   1.8315,  34.6511,2,   -999.0,9,  34.6496,2,    129.0,2,   140.43,2,  -999.00,9,    37.36,2,     0.00,2,     2.62,2, -999.000,9, -999.000,9,  -999.00,9,   -999.0,9,   -999.0,9,-999.0000,9,   -999.0,  9,     7.65,2,   -999.0,  -999.00,9,  -999.00,9,  -999.00,9,  -999.00,9,   -999.0,-999.0000, -999,9, 2501,   1.6515,  27.7190,   -999.0,9
       KS04-01,  137E,KS-0915,  1,      3,02-16009,2,20040129,0247, 14.9743, 136.9528, 5333,   3039.3,   1.6829,  34.6656,2,   -999.0,9,  34.6647,2,    138.0,2,   140.97,2,  -999.00,9,    36.78,2,     0.00,2,     2.57,2, -999.000,9, -999.000,9,  -999.00,9,   -999.0,9,   -999.0,9,-999.0000,9,   -999.0,  9,     7.67,2,   -999.0,  -999.00,9,  -999.00,9,  -999.00,9,  -999.00,9,   -999.0,-999.0000, -999,9, 3000,   1.4583,  27.7448,   -999.0,9
       KS04-01,  137E,KS-0915,  1,      2,02-16008,2,20040129,0230, 14.9743, 136.9528, 5333,   4058.3,   1.5700,  34.6817,2,   -999.0,9,  34.6800,2,    153.0,2,   137.64,2,  -999.00,9,    35.90,2,     0.00,2,     2.47,2, -999.000,9, -999.000,9,  -999.00,9,   -999.0,9,   -999.0,9,-999.0000,9,   -999.0,  9,     7.70,2,   -999.0,  -999.00,9,  -999.00,9,  -999.00,9,  -999.00,9,   -999.0,-999.0000, -999,9, 3996,   1.2428,  27.7730,   -999.0,9
       KS04-01,  137E,KS-0915,  1,      1,02-16007,2,20040129,0209, 14.9743, 136.9528, 5333,   5241.9,   1.5973,  34.6895,2,   -999.0,9,  34.6887,2,    164.0,2,   134.27,2,  -999.00,9,    35.12,2,     0.00,2,     2.42,2, -999.000,9, -999.000,9,  -999.00,9,   -999.0,9,   -999.0,9,-999.0000,9,   -999.0,  9,     7.71,2,   -999.0,  -999.00,9,  -999.00,9,  -999.00,9,  -999.00,9,   -999.0,-999.0000, -999,9, 5148,   1.1299,  27.7871,   -999.0,9