BOTTLE,20130510GEMDJMAYT
EXPOCODE,SECT_ID,STNNBR,CASTNO,SAMPNO,BTLNBR,BTLNBR_FLAG_W,DATE,TIME,LATITUDE,LONGITUDE,DEPTH,CTDPRS,CTDTMP,CTDSAL,CTDSAL_FLAG_W,CTDOXY,CTDOXY_FLAG_W,SALNTY,SALNTY_FLAG_W,OXYGEN,OXYGEN_FLAG_W,SILCAT,SILCAT_FLAG_W,NITRAT,NITRAT_FLAG_W,NO2+NO3,NO2+NO3_FLAG_W,NITRIT,NITRIT_FLAG_W,PHSPHT,PHSPHT_FLAG_W,CFC-11,CFC-11_FLAG_W,CFC-12,CFC-12_FLAG_W,DELC13,DELC13_FLAG_W,TCARBN,TCARBN_FLAG_W,ALKALI,ALKALI_FLAG_W,PH,PH_FLAG_W,PH_TMP,PH_SCALE,PH_NBS,PH_NBS_FLAG_W,C13ERR,TOTALP,TOTALP_FLAG_W,AMMONI,AMMONI_FLAG_W,CHLORA,CHLORA_FLAG_W,PPHYTN,PPHYTN_FLAG_W,REVPRS,REVTMP,DEPTH_,DEPTH_FLAG,CTDDEP,THETA,SIGTHT,DOC,DOC_FLAG_W
,,,,,,,GMT,GMT,,,METER,DBAR,ITS-90,PSS-78,,UMOL/KG,,PSS-78,,UMOL/KG,,UMOL/KG,,UMOL/KG,,UMOL/KG,,UMOL/KG,,UMOL/KG,,PMOL/KG,,PMOL/KG,,/MILLE,,UMOL/KG,,UMOL/KG,,25_DEG_C,,DEG_C,,,,/MILLE,UMOL/KG,,UMOL/KG,,UG/L,,UG/L,,DBAR,ITS-90,METERS,,METERS,DEG_C,,UMOL/L,
       KS04-01,  NONE,KS-0959,  1,     24,02-16030,2,20040225,1402, 30.5077, 134.3340, 4532,      5.2,  20.1388,  34.8637,2,   -999.0,9,  34.8629,2,    228.0,2,  -999.00,9,  -999.00,9,     0.00,2,     0.01,2,     0.02,2, -999.000,9, -999.000,9,  -999.00,9,   -999.0,9,   -999.0,9,-999.0000,9,   -999.0,  9,  -999.00,9,   -999.0,  -999.00,9,  -999.00,9,  -999.00,9,  -999.00,9,   -999.0,-999.0000, -999,9,    5,  20.1378,  24.6213,   -999.0,9
       KS04-01,  NONE,KS-0959,  1,     23,02-16029,2,20040225,1401, 30.5077, 134.3340, 4532,     10.2,  20.1448,  34.8633,2,   -999.0,9,-999.0000,9,    228.0,2,  -999.00,9,  -999.00,9,     0.00,2,     0.01,2,     0.02,2, -999.000,9, -999.000,9,  -999.00,9,   -999.0,9,   -999.0,9,-999.0000,9,   -999.0,  9,  -999.00,9,   -999.0,  -999.00,9,  -999.00,9,  -999.00,9,  -999.00,9,   -999.0,-999.0000, -999,9,   10,  20.1429,  24.6197,   -999.0,9
       KS04-01,  NONE,KS-0959,  1,     22,02-16028,4,20040225,1400, 30.5077, 134.3340, 4532,     25.2,  20.0228,  34.8633,2,   -999.0,9,-999.0000,9,   -999.0,9,  -999.00,9,  -999.00,9,  -999.00,9,  -999.00,9,  -999.00,9, -999.000,9, -999.000,9,  -999.00,9,   -999.0,9,   -999.0,9,-999.0000,9,   -999.0,  9,  -999.00,9,   -999.0,  -999.00,9,  -999.00,9,  -999.00,9,  -999.00,9,   -999.0,-999.0000, -999,9,   25,  20.0182,  24.6527,   -999.0,9
       KS04-01,  NONE,KS-0959,  1,     21,02-16027,2,20040225,1357, 30.5077, 134.3340, 4532,     50.9,  19.9243,  34.8651,2,   -999.0,9,-999.0000,9,    224.0,2,  -999.00,9,  -999.00,9,     0.20,2,     0.04,2,     0.04,2, -999.000,9, -999.000,9,  -999.00,9,   -999.0,9,   -999.0,9,-999.0000,9,   -999.0,  9,  -999.00,9,   -999.0,  -999.00,9,  -999.00,9,  -999.00,9,  -999.00,9,   -999.0,-999.0000, -999,9,   51,  19.9149,  24.6813,   -999.0,9
       KS04-01,  NONE,KS-0959,  1,     20,02-16026,2,20040225,1356, 30.5077, 134.3340, 4532,     75.8,  19.8604,  34.8622,2,   -999.0,9,-999.0000,9,    221.0,2,  -999.00,9,  -999.00,9,     0.68,2,     0.08,2,     0.07,2, -999.000,9, -999.000,9,  -999.00,9,   -999.0,9,   -999.0,9,-999.0000,9,   -999.0,  9,  -999.00,9,   -999.0,  -999.00,9,  -999.00,9,  -999.00,9,  -999.00,9,   -999.0,-999.0000, -999,9,   75,  19.8465,  24.6970,   -999.0,9
       KS04-01,  NONE,KS-0959,  1,     19,02-16025,2,20040225,1355, 30.5077, 134.3340, 4532,    101.3,  19.6647,  34.8689,2,   -999.0,9,  34.8635,4,    212.0,2,  -999.00,9,  -999.00,9,     1.66,2,     0.22,2,     0.13,2, -999.000,9, -999.000,9,  -999.00,9,   -999.0,9,   -999.0,9,-999.0000,9,   -999.0,  9,  -999.00,9,   -999.0,  -999.00,9,  -999.00,9,  -999.00,9,  -999.00,9,   -999.0,-999.0000, -999,9,  101,  19.6462,  24.7544,   -999.0,9
       KS04-01,  NONE,KS-0959,  1,     18,02-16024,2,20040225,1354, 30.5077, 134.3340, 4532,    126.5,  19.3086,  34.8387,2,   -999.0,9,-999.0000,9,    207.0,2,  -999.00,9,  -999.00,9,     2.54,2,     0.12,2,     0.19,2, -999.000,9, -999.000,9,  -999.00,9,   -999.0,9,   -999.0,9,-999.0000,9,   -999.0,  9,  -999.00,9,   -999.0,  -999.00,9,  -999.00,9,  -999.00,9,  -999.00,9,   -999.0,-999.0000, -999,9,  126,  19.2858,  24.8247,   -999.0,9
       KS04-01,  NONE,KS-0959,  1,     17,02-16023,2,20040225,1353, 30.5077, 134.3340, 4532,    151.7,  19.0502,  34.8186,2,   -999.0,9,-999.0000,9,    198.0,2,  -999.00,9,  -999.00,9,     3.61,2,     0.05,2,     0.24,2, -999.000,9, -999.000,9,  -999.00,9,   -999.0,9,   -999.0,9,-999.0000,9,   -999.0,  9,  -999.00,9,   -999.0,  -999.00,9,  -999.00,9,  -999.00,9,  -999.00,9,   -999.0,-999.0000, -999,9,  151,  19.0231,  24.8766,   -999.0,9
       KS04-01,  NONE,KS-0959,  1,     16,02-16022,2,20040225,1352, 30.5077, 134.3340, 4532,    202.0,  18.2944,  34.7654,2,   -999.0,9,  34.7655,2,    190.0,2,  -999.00,9,  -999.00,9,     5.46,2,     0.01,2,     0.38,2, -999.000,9, -999.000,9,  -999.00,9,   -999.0,9,   -999.0,9,-999.0000,9,   -999.0,  9,  -999.00,9,   -999.0,  -999.00,9,  -999.00,9,  -999.00,9,  -999.00,9,   -999.0,-999.0000, -999,9,  201,  18.2594,  25.0282,   -999.0,9
       KS04-01,  NONE,KS-0959,  1,     15,02-16021,2,20040225,1350, 30.5077, 134.3340, 4532,    252.8,  17.3386,  34.7439,2,   -999.0,9,-999.0000,9,    196.0,2,  -999.00,9,  -999.00,9,     5.75,2,     0.00,2,     0.39,2, -999.000,9, -999.000,9,  -999.00,9,   -999.0,9,   -999.0,9,-999.0000,9,   -999.0,  9,  -999.00,9,   -999.0,  -999.00,9,  -999.00,9,  -999.00,9,  -999.00,9,   -999.0,-999.0000, -999,9,  251,  17.2963,  25.2470,   -999.0,9
       KS04-01,  NONE,KS-0959,  1,     14,02-16020,2,20040225,1349, 30.5077, 134.3340, 4532,    302.5,  16.5410,  34.6998,2,   -999.0,9,  34.6997,2,    194.0,2,  -999.00,9,  -999.00,9,     7.02,2,     0.00,2,     0.47,2, -999.000,9, -999.000,9,  -999.00,9,   -999.0,9,   -999.0,9,-999.0000,9,   -999.0,  9,  -999.00,9,   -999.0,  -999.00,9,  -999.00,9,  -999.00,9,  -999.00,9,   -999.0,-999.0000, -999,9,  300,  16.4920,  25.4032,   -999.0,9
       KS04-01,  NONE,KS-0959,  1,     13,02-16019,9,20040225,1347, 30.5077, 134.3340, 4532,    403.4,  15.1701,  34.6043,2,   -999.0,9,-999.0000,9,   -999.0,9,  -999.00,9,  -999.00,9,  -999.00,9,  -999.00,9,  -999.00,9, -999.000,9, -999.000,9,  -999.00,9,   -999.0,9,   -999.0,9,-999.0000,9,   -999.0,  9,  -999.00,9,   -999.0,  -999.00,9,  -999.00,9,  -999.00,9,  -999.00,9,   -999.0,-999.0000, -999,9,  400,  15.1083,  25.6431,   -999.0,9
       KS04-01,  NONE,KS-0959,  1,     12,02-16018,2,20040225,1346, 30.5077, 134.3340, 4532,    403.5,  15.1263,  34.5993,2,   -999.0,9,  34.6022,2,    187.0,2,  -999.00,9,  -999.00,9,     9.85,2,     0.00,2,     0.65,2, -999.000,9, -999.000,9,  -999.00,9,   -999.0,9,   -999.0,9,-999.0000,9,   -999.0,  9,  -999.00,9,   -999.0,  -999.00,9,  -999.00,9,  -999.00,9,  -999.00,9,   -999.0,-999.0000, -999,9,  400,  15.0647,  25.6488,   -999.0,9
       KS04-01,  NONE,KS-0959,  1,     11,02-16017,4,20040225,1344, 30.5077, 134.3340, 4532,    504.3,  12.4619,  34.4348,2,   -999.0,9,-999.0000,9,   -999.0,9,  -999.00,9,  -999.00,9,  -999.00,9,  -999.00,9,  -999.00,9, -999.000,9, -999.000,9,  -999.00,9,   -999.0,9,   -999.0,9,-999.0000,9,   -999.0,  9,  -999.00,9,   -999.0,  -999.00,9,  -999.00,9,  -999.00,9,  -999.00,9,   -999.0,-999.0000, -999,9,  500,  12.3940,  26.0744,   -999.0,9
       KS04-01,  NONE,KS-0959,  1,     10,02-16016,9,20040225,1341, 30.5077, 134.3340, 4532,    605.2,  10.0727,  34.2875,2,   -999.0,9,-999.0000,9,   -999.0,9,  -999.00,9,  -999.00,9,  -999.00,9,  -999.00,9,  -999.00,9, -999.000,9, -999.000,9,  -999.00,9,   -999.0,9,   -999.0,9,-999.0000,9,   -999.0,  9,  -999.00,9,   -999.0,  -999.00,9,  -999.00,9,  -999.00,9,  -999.00,9,   -999.0,-999.0000, -999,9,  600,  10.0013,  26.3953,   -999.0,9
       KS04-01,  NONE,KS-0959,  1,      9,02-16015,3,20040225,1341, 30.5077, 134.3340, 4532,    605.4,  10.0616,  34.2866,2,   -999.0,9,  34.2881,2,    157.0,2,  -999.00,9,  -999.00,9,    21.24,2,     0.00,2,     1.48,2, -999.000,9, -999.000,9,  -999.00,9,   -999.0,9,   -999.0,9,-999.0000,9,   -999.0,  9,  -999.00,9,   -999.0,  -999.00,9,  -999.00,9,  -999.00,9,  -999.00,9,   -999.0,-999.0000, -999,9,  600,   9.9902,  26.3965,   -999.0,9
       KS04-01,  NONE,KS-0959,  1,      8,02-16014,2,20040225,1339, 30.5077, 134.3340, 4532,    706.3,   7.5273,  34.1975,2,   -999.0,9,  34.1987,2,    125.0,2,  -999.00,9,  -999.00,9,    28.54,2,     0.00,2,     2.03,2, -999.000,9, -999.000,9,  -999.00,9,   -999.0,9,   -999.0,9,-999.0000,9,   -999.0,  9,  -999.00,9,   -999.0,  -999.00,9,  -999.00,9,  -999.00,9,  -999.00,9,   -999.0,-999.0000, -999,9,  700,   7.4568,  26.7226,   -999.0,9
       KS04-01,  NONE,KS-0959,  1,      7,02-16013,2,20040225,1336, 30.5077, 134.3340, 4532,    807.7,   6.0671,  34.2278,2,   -999.0,9,  34.2287,2,     96.0,2,  -999.00,9,  -999.00,9,    33.30,2,     0.00,2,     2.39,2, -999.000,9, -999.000,9,  -999.00,9,   -999.0,9,   -999.0,9,-999.0000,9,   -999.0,  9,  -999.00,9,   -999.0,  -999.00,9,  -999.00,9,  -999.00,9,  -999.00,9,   -999.0,-999.0000, -999,9,  801,   5.9947,  26.9431,   -999.0,9
       KS04-01,  NONE,KS-0959,  1,      6,02-16012,2,20040225,1334, 30.5077, 134.3340, 4532,    909.0,   4.8158,  34.2878,2,   -999.0,9,  34.2801,4,     76.0,2,  -999.00,9,  -999.00,9,    37.00,2,     0.00,2,     2.65,2, -999.000,9, -999.000,9,  -999.00,9,   -999.0,9,   -999.0,9,-999.0000,9,   -999.0,  9,  -999.00,9,   -999.0,  -999.00,9,  -999.00,9,  -999.00,9,  -999.00,9,   -999.0,-999.0000, -999,9,  901,   4.7423,  27.1398,   -999.0,9
       KS04-01,  NONE,KS-0959,  1,      5,02-16011,2,20040225,1332, 30.5077, 134.3340, 4532,   1009.7,   4.1561,  34.3325,2,   -999.0,9,  34.3323,2,     65.0,2,  -999.00,9,  -999.00,9,    38.55,2,     0.00,2,     2.79,2, -999.000,9, -999.000,9,  -999.00,9,   -999.0,9,   -999.0,9,-999.0000,9,   -999.0,  9,  -999.00,9,   -999.0,  -999.00,9,  -999.00,9,  -999.00,9,  -999.00,9,   -999.0,-999.0000, -999,9, 1000,   4.0787,  27.2470,   -999.0,9
       KS04-01,  NONE,KS-0959,  1,      4,02-16010,2,20040225,1326, 30.5077, 134.3340, 4532,   1262.7,   3.1508,  34.4577,2,   -999.0,9,  34.4573,2,     68.0,2,  -999.00,9,  -999.00,9,    40.10,2,     0.00,2,     2.88,2, -999.000,9, -999.000,9,  -999.00,9,   -999.0,9,   -999.0,9,-999.0000,9,   -999.0,  9,  -999.00,9,   -999.0,  -999.00,9,  -999.00,9,  -999.00,9,  -999.00,9,   -999.0,-999.0000, -999,9, 1250,   3.0611,  27.4465,   -999.0,9
       KS04-01,  NONE,KS-0959,  1,      3,02-16009,2,20040225,1321, 30.5077, 134.3340, 4532,   1517.3,   2.5904,  34.5235,2,   -999.0,9,  34.5219,2,     82.0,2,  -999.00,9,  -999.00,9,    39.90,2,     0.00,2,     2.82,2, -999.000,9, -999.000,9,  -999.00,9,   -999.0,9,   -999.0,9,-999.0000,9,   -999.0,  9,  -999.00,9,   -999.0,  -999.00,9,  -999.00,9,  -999.00,9,  -999.00,9,   -999.0,-999.0000, -999,9, 1501,   2.4860,  27.5500,   -999.0,9
       KS04-01,  NONE,KS-0959,  1,      2,02-16008,2,20040225,1315, 30.5077, 134.3340, 4532,   1770.2,   2.2642,  34.5680,2,   -999.0,9,  34.5673,2,     93.0,2,  -999.00,9,  -999.00,9,    39.31,2,     0.00,2,     2.76,2, -999.000,9, -999.000,9,  -999.00,9,   -999.0,9,   -999.0,9,-999.0000,9,   -999.0,  9,  -999.00,9,   -999.0,  -999.00,9,  -999.00,9,  -999.00,9,  -999.00,9,   -999.0,-999.0000, -999,9, 1751,   2.1432,  27.6141,   -999.0,9
       KS04-01,  NONE,KS-0959,  1,      1,02-16007,2,20040225,1310, 30.5077, 134.3340, 4532,   2027.0,   2.0234,  34.6030,2,   -999.0,9,  34.6022,2,    108.0,2,  -999.00,9,  -999.00,9,    38.14,2,     0.00,2,     2.71,2, -999.000,9, -999.000,9,  -999.00,9,   -999.0,9,   -999.0,9,-999.0000,9,   -999.0,  9,  -999.00,9,   -999.0,  -999.00,9,  -999.00,9,  -999.00,9,  -999.00,9,   -999.0,-999.0000, -999,9, 2003,   1.8844,  27.6626,   -999.0,9