BOTTLE,20130510GEMDJMAYT
EXPOCODE,SECT_ID,STNNBR,CASTNO,SAMPNO,BTLNBR,BTLNBR_FLAG_W,DATE,TIME,LATITUDE,LONGITUDE,DEPTH,CTDPRS,CTDTMP,CTDSAL,CTDSAL_FLAG_W,CTDOXY,CTDOXY_FLAG_W,SALNTY,SALNTY_FLAG_W,OXYGEN,OXYGEN_FLAG_W,SILCAT,SILCAT_FLAG_W,NITRAT,NITRAT_FLAG_W,NO2+NO3,NO2+NO3_FLAG_W,NITRIT,NITRIT_FLAG_W,PHSPHT,PHSPHT_FLAG_W,CFC-11,CFC-11_FLAG_W,CFC-12,CFC-12_FLAG_W,DELC13,DELC13_FLAG_W,TCARBN,TCARBN_FLAG_W,ALKALI,ALKALI_FLAG_W,PH,PH_FLAG_W,PH_TMP,PH_SCALE,PH_NBS,PH_NBS_FLAG_W,C13ERR,TOTALP,TOTALP_FLAG_W,AMMONI,AMMONI_FLAG_W,CHLORA,CHLORA_FLAG_W,PPHYTN,PPHYTN_FLAG_W,REVPRS,REVTMP,DEPTH_,DEPTH_FLAG,CTDDEP,THETA,SIGTHT,DOC,DOC_FLAG_W
,,,,,,,GMT,GMT,,,METER,DBAR,ITS-90,PSS-78,,UMOL/KG,,PSS-78,,UMOL/KG,,UMOL/KG,,UMOL/KG,,UMOL/KG,,UMOL/KG,,UMOL/KG,,PMOL/KG,,PMOL/KG,,/MILLE,,UMOL/KG,,UMOL/KG,,25_DEG_C,,DEG_C,,,,/MILLE,UMOL/KG,,UMOL/KG,,UG/L,,UG/L,,DBAR,ITS-90,METERS,,METERS,DEG_C,,UMOL/L,
       KS04-01,  NONE,KS-0954,  1,     24,02-16030,2,20040224,2158, 29.0245, 135.0978, 4842,      5.7,  20.8500,  34.9300,2,   -999.0,9,  34.9294,2,    221.0,2,  -999.00,9,  -999.00,9,     0.10,2,     0.10,2,     0.02,2, -999.000,9, -999.000,9,  -999.00,9,   -999.0,9,   -999.0,9,-999.0000,9,   -999.0,  9,     8.18,2,   -999.0,  -999.00,9,  -999.00,9,     0.18,2,     0.16,2,   -999.0,-999.0000, -999,9,    6,  20.8489,  24.4816,   -999.0,9
       KS04-01,  NONE,KS-0954,  1,     23,02-16029,2,20040224,2158, 29.0245, 135.0978, 4842,     10.6,  20.8502,  34.9301,2,   -999.0,9,-999.0000,9,    221.0,2,  -999.00,9,  -999.00,9,     0.10,2,     0.10,2,     0.02,2, -999.000,9, -999.000,9,  -999.00,9,   -999.0,9,   -999.0,9,-999.0000,9,   -999.0,  9,     8.19,2,   -999.0,  -999.00,9,  -999.00,9,     0.09,2,     0.12,2,   -999.0,-999.0000, -999,9,   10,  20.8482,  24.4819,   -999.0,9
       KS04-01,  NONE,KS-0954,  1,     22,02-16028,2,20040224,2156, 29.0245, 135.0978, 4842,     25.6,  20.8589,  34.9300,2,   -999.0,9,-999.0000,9,    221.0,2,  -999.00,9,  -999.00,9,     0.10,2,     0.10,2,     0.02,2, -999.000,9, -999.000,9,  -999.00,9,   -999.0,9,   -999.0,9,-999.0000,9,   -999.0,  9,     8.18,2,   -999.0,  -999.00,9,  -999.00,9,     0.04,2,     0.33,2,   -999.0,-999.0000, -999,9,   25,  20.8540,  24.4802,   -999.0,9
       KS04-01,  NONE,KS-0954,  1,     21,02-16027,2,20040224,2153, 29.0245, 135.0978, 4842,     50.7,  20.8657,  34.9298,2,   -999.0,9,-999.0000,9,    220.0,2,  -999.00,9,  -999.00,9,     0.10,2,     0.10,2,     0.02,2, -999.000,9, -999.000,9,  -999.00,9,   -999.0,9,   -999.0,9,-999.0000,9,   -999.0,  9,     8.18,2,   -999.0,  -999.00,9,  -999.00,9,     0.06,2,     0.23,2,   -999.0,-999.0000, -999,9,   50,  20.8561,  24.4795,   -999.0,9
       KS04-01,  NONE,KS-0954,  1,     20,02-16026,2,20040224,2152, 29.0245, 135.0978, 4842,     76.4,  20.8715,  34.9294,2,   -999.0,9,-999.0000,9,    220.0,2,  -999.00,9,  -999.00,9,     0.10,2,     0.10,2,     0.02,2, -999.000,9, -999.000,9,  -999.00,9,   -999.0,9,   -999.0,9,-999.0000,9,   -999.0,  9,     8.18,2,   -999.0,  -999.00,9,  -999.00,9,     0.03,2,     0.28,2,   -999.0,-999.0000, -999,9,   76,  20.8570,  24.4790,   -999.0,9
       KS04-01,  NONE,KS-0954,  1,     19,02-16025,2,20040224,2151, 29.0245, 135.0978, 4842,    100.7,  20.8744,  34.9293,2,   -999.0,9,  34.9294,2,    221.0,2,  -999.00,9,  -999.00,9,     0.10,2,     0.09,2,     0.02,2, -999.000,9, -999.000,9,  -999.00,9,   -999.0,9,   -999.0,9,-999.0000,9,   -999.0,  9,     8.19,2,   -999.0,  -999.00,9,  -999.00,9,     0.14,2,     0.23,2,   -999.0,-999.0000, -999,9,  100,  20.8552,  24.4794,   -999.0,9
       KS04-01,  NONE,KS-0954,  1,     18,02-16024,2,20040224,2150, 29.0245, 135.0978, 4842,    152.5,  20.8805,  34.9288,2,   -999.0,9,-999.0000,9,    220.0,2,  -999.00,9,  -999.00,9,     0.10,2,     0.10,2,     0.02,2, -999.000,9, -999.000,9,  -999.00,9,   -999.0,9,   -999.0,9,-999.0000,9,   -999.0,  9,     8.18,2,   -999.0,  -999.00,9,  -999.00,9,     0.05,2,     0.20,2,   -999.0,-999.0000, -999,9,  151,  20.8515,  24.4800,   -999.0,9
       KS04-01,  NONE,KS-0954,  1,     17,02-16023,2,20040224,2149, 29.0245, 135.0978, 4842,    202.8,  20.7951,  34.9186,2,   -999.0,9,  34.9195,2,    218.0,2,  -999.00,9,  -999.00,9,     0.29,2,     0.18,2,     0.03,2, -999.000,9, -999.000,9,  -999.00,9,   -999.0,9,   -999.0,9,-999.0000,9,   -999.0,  9,     8.18,2,   -999.0,  -999.00,9,  -999.00,9,     0.03,2,     0.16,2,   -999.0,-999.0000, -999,9,  201,  20.7566,  24.4979,   -999.0,9
       KS04-01,  NONE,KS-0954,  1,     16,02-16022,2,20040224,2146, 29.0245, 135.0978, 4842,    254.4,  19.8555,  34.8720,2,   -999.0,9,-999.0000,9,    212.0,2,  -999.00,9,  -999.00,9,     1.46,2,     0.06,2,     0.11,2, -999.000,9, -999.000,9,  -999.00,9,   -999.0,9,   -999.0,9,-999.0000,9,   -999.0,  9,     8.15,2,   -999.0,  -999.00,9,  -999.00,9,     0.00,2,     0.04,2,   -999.0,-999.0000, -999,9,  253,  19.8087,  24.7143,   -999.0,9
       KS04-01,  NONE,KS-0954,  1,     15,02-16021,2,20040224,2145, 29.0245, 135.0978, 4842,    303.8,  18.4462,  34.8169,2,   -999.0,9,  34.8186,2,    201.0,2,  -999.00,9,  -999.00,9,     3.61,2,     0.01,2,     0.25,2, -999.000,9, -999.000,9,  -999.00,9,   -999.0,9,   -999.0,9,-999.0000,9,   -999.0,  9,     8.10,2,   -999.0,  -999.00,9,  -999.00,9,     0.00,2,     0.02,2,   -999.0,-999.0000, -999,9,  302,  18.3931,  25.0344,   -999.0,9
       KS04-01,  NONE,KS-0954,  1,     14,02-16020,2,20040224,2142, 29.0245, 135.0978, 4842,    405.2,  16.4137,  34.6872,2,   -999.0,9,  34.6873,2,    192.0,2,  -999.00,9,  -999.00,9,     7.31,2,     0.00,2,     0.51,2, -999.000,9, -999.000,9,  -999.00,9,   -999.0,9,   -999.0,9,-999.0000,9,   -999.0,  9,     8.04,2,   -999.0,  -999.00,9,  -999.00,9,  -999.00,9,  -999.00,9,   -999.0,-999.0000, -999,9,  402,  16.3482,  25.4269,   -999.0,9
       KS04-01,  NONE,KS-0954,  1,     13,02-16019,2,20040224,2139, 29.0245, 135.0978, 4842,    505.1,  13.7078,  34.5069,2,   -999.0,9,  34.5107,2,    182.0,2,  -999.00,9,  -999.00,9,    12.48,2,     0.00,2,     0.84,2, -999.000,9, -999.000,9,  -999.00,9,   -999.0,9,   -999.0,9,-999.0000,9,   -999.0,  9,     7.96,2,   -999.0,  -999.00,9,  -999.00,9,  -999.00,9,  -999.00,9,   -999.0,-999.0000, -999,9,  501,  13.6354,  25.8818,   -999.0,9
       KS04-01,  NONE,KS-0954,  1,     12,02-16018,2,20040224,2137, 29.0245, 135.0978, 4842,    606.8,  11.3864,  34.3495,2,   -999.0,9,  34.3499,2,    173.0,2,  -999.00,9,  -999.00,9,    17.44,2,     0.00,2,     1.21,2, -999.000,9, -999.000,9,  -999.00,9,   -999.0,9,   -999.0,9,-999.0000,9,   -999.0,  9,     7.88,2,   -999.0,  -999.00,9,  -999.00,9,  -999.00,9,  -999.00,9,   -999.0,-999.0000, -999,9,  602,  11.3091,  26.2128,   -999.0,9
       KS04-01,  NONE,KS-0954,  1,     11,02-16017,2,20040224,2134, 29.0245, 135.0978, 4842,    707.8,   8.9034,  34.2090,2,   -999.0,9,  34.2107,2,    149.0,2,  -999.00,9,  -999.00,9,    23.77,2,     0.00,2,     1.69,2, -999.000,9, -999.000,9,  -999.00,9,   -999.0,9,   -999.0,9,-999.0000,9,   -999.0,  9,     7.78,2,   -999.0,  -999.00,9,  -999.00,9,  -999.00,9,  -999.00,9,   -999.0,-999.0000, -999,9,  702,   8.8256,  26.5263,   -999.0,9
       KS04-01,  NONE,KS-0954,  1,     10,02-16016,2,20040224,2131, 29.0245, 135.0978, 4842,    808.8,   6.7118,  34.1622,2,   -999.0,9,  34.1623,2,    114.0,2,  -999.00,9,  -999.00,9,    30.77,2,     0.00,2,     2.19,2, -999.000,9, -999.000,9,  -999.00,9,   -999.0,9,   -999.0,9,-999.0000,9,   -999.0,  9,     7.65,2,   -999.0,  -999.00,9,  -999.00,9,  -999.00,9,  -999.00,9,   -999.0,-999.0000, -999,9,  802,   6.6355,  26.8082,   -999.0,9
       KS04-01,  NONE,KS-0954,  1,      9,02-16015,9,20040224,2127, 29.0245, 135.0978, 4842,   1011.5,   4.6248,  34.2501,2,   -999.0,9,-999.0000,9,   -999.0,9,  -999.00,9,  -999.00,9,  -999.00,9,  -999.00,9,  -999.00,9, -999.000,9, -999.000,9,  -999.00,9,   -999.0,9,   -999.0,9,-999.0000,9,   -999.0,  9,  -999.00,9,   -999.0,  -999.00,9,  -999.00,9,  -999.00,9,  -999.00,9,   -999.0,-999.0000, -999,9, 1002,   4.5438,  27.1319,   -999.0,9
       KS04-01,  NONE,KS-0954,  1,      8,02-16014,2,20040224,2126, 29.0245, 135.0978, 4842,   1010.6,   4.6272,  34.2495,2,   -999.0,9,  34.2499,2,     69.0,2,  -999.00,9,  -999.00,9,    37.97,2,     0.00,2,     2.73,2, -999.000,9, -999.000,9,  -999.00,9,   -999.0,9,   -999.0,9,-999.0000,9,   -999.0,  9,     7.53,2,   -999.0,  -999.00,9,  -999.00,9,  -999.00,9,  -999.00,9,   -999.0,-999.0000, -999,9, 1001,   4.5462,  27.1312,   -999.0,9
       KS04-01,  NONE,KS-0954,  1,      7,02-16013,2,20040224,2121, 29.0245, 135.0978, 4842,   1263.6,   3.3051,  34.4210,2,   -999.0,9,  34.4202,2,     62.0,2,  -999.00,9,  -999.00,9,    40.49,2,     0.00,2,     2.90,2, -999.000,9, -999.000,9,  -999.00,9,   -999.0,9,   -999.0,9,-999.0000,9,   -999.0,  9,     7.52,2,   -999.0,  -999.00,9,  -999.00,9,  -999.00,9,  -999.00,9,   -999.0,-999.0000, -999,9, 1251,   3.2139,  27.4031,   -999.0,9
       KS04-01,  NONE,KS-0954,  1,      6,02-16012,2,20040224,2116, 29.0245, 135.0978, 4842,   1516.1,   2.7674,  34.4986,2,   -999.0,9,  34.4979,2,     73.0,2,  -999.00,9,  -999.00,9,    40.19,2,     0.00,2,     2.85,2, -999.000,9, -999.000,9,  -999.00,9,   -999.0,9,   -999.0,9,-999.0000,9,   -999.0,  9,     7.54,2,   -999.0,  -999.00,9,  -999.00,9,  -999.00,9,  -999.00,9,   -999.0,-999.0000, -999,9, 1500,   2.6611,  27.5151,   -999.0,9
       KS04-01,  NONE,KS-0954,  1,      5,02-16011,3,20040224,2105, 29.0245, 135.0978, 4842,   2023.3,   2.0732,  34.5970,2,   -999.0,9,  34.5961,2,    106.0,2,  -999.00,9,  -999.00,9,    38.44,2,     0.00,2,     2.70,2, -999.000,9, -999.000,9,  -999.00,9,   -999.0,9,   -999.0,9,-999.0000,9,   -999.0,  9,     7.60,2,   -999.0,  -999.00,9,  -999.00,9,  -999.00,9,  -999.00,9,   -999.0,-999.0000, -999,9, 2000,   1.9338,  27.6540,   -999.0,9
       KS04-01,  NONE,KS-0954,  1,      4,02-16010,2,20040224,2055, 29.0245, 135.0978, 4842,   2531.6,   1.7871,  34.6403,2,   -999.0,9,  34.6396,2,    128.0,2,  -999.00,9,  -999.00,9,    37.36,2,     0.00,2,     2.61,2, -999.000,9, -999.000,9,  -999.00,9,   -999.0,9,   -999.0,9,-999.0000,9,   -999.0,  9,     7.64,2,   -999.0,  -999.00,9,  -999.00,9,  -999.00,9,  -999.00,9,   -999.0,-999.0000, -999,9, 2499,   1.6080,  27.7135,   -999.0,9
       KS04-01,  NONE,KS-0954,  1,      3,02-16009,2,20040224,2046, 29.0245, 135.0978, 4842,   3041.9,   1.6186,  34.6641,2,   -999.0,9,  34.6639,2,    141.0,2,  -999.00,9,  -999.00,9,    36.58,2,     0.00,2,     2.53,2, -999.000,9, -999.000,9,  -999.00,9,   -999.0,9,   -999.0,9,-999.0000,9,   -999.0,  9,     7.66,2,   -999.0,  -999.00,9,  -999.00,9,  -999.00,9,  -999.00,9,   -999.0,-999.0000, -999,9, 3000,   1.3952,  27.7482,   -999.0,9
       KS04-01,  NONE,KS-0954,  1,      2,02-16008,2,20040224,2028, 29.0245, 135.0978, 4842,   4065.0,   1.5454,  34.6831,2,   -999.0,9,  34.6818,2,    155.0,2,  -999.00,9,  -999.00,9,    35.81,2,     0.00,2,     2.46,2, -999.000,9, -999.000,9,  -999.00,9,   -999.0,9,   -999.0,9,-999.0000,9,   -999.0,  9,     7.69,2,   -999.0,  -999.00,9,  -999.00,9,  -999.00,9,  -999.00,9,   -999.0,-999.0000, -999,9, 3999,   1.2181,  27.7759,   -999.0,9
       KS04-01,  NONE,KS-0954,  1,      1,02-16007,2,20040224,2013, 29.0245, 135.0978, 4842,   4948.7,   1.6230,  34.6854,2,   -999.0,9,  34.6840,2,    157.0,2,  -999.00,9,  -999.00,9,    35.61,2,     0.00,2,     2.46,2, -999.000,9, -999.000,9,  -999.00,9,   -999.0,9,   -999.0,9,-999.0000,9,   -999.0,  9,     7.69,2,   -999.0,  -999.00,9,  -999.00,9,  -999.00,9,  -999.00,9,   -999.0,-999.0000, -999,9, 4859,   1.1909,  27.7796,   -999.0,9