BOTTLE,20130510GEMDJMAYT
EXPOCODE,SECT_ID,STNNBR,CASTNO,SAMPNO,BTLNBR,BTLNBR_FLAG_W,DATE,TIME,LATITUDE,LONGITUDE,DEPTH,CTDPRS,CTDTMP,CTDSAL,CTDSAL_FLAG_W,CTDOXY,CTDOXY_FLAG_W,SALNTY,SALNTY_FLAG_W,OXYGEN,OXYGEN_FLAG_W,SILCAT,SILCAT_FLAG_W,NITRAT,NITRAT_FLAG_W,NO2+NO3,NO2+NO3_FLAG_W,NITRIT,NITRIT_FLAG_W,PHSPHT,PHSPHT_FLAG_W,CFC-11,CFC-11_FLAG_W,CFC-12,CFC-12_FLAG_W,DELC13,DELC13_FLAG_W,TCARBN,TCARBN_FLAG_W,ALKALI,ALKALI_FLAG_W,PH,PH_FLAG_W,PH_TMP,PH_SCALE,PH_NBS,PH_NBS_FLAG_W,C13ERR,TOTALP,TOTALP_FLAG_W,AMMONI,AMMONI_FLAG_W,CHLORA,CHLORA_FLAG_W,PPHYTN,PPHYTN_FLAG_W,REVPRS,REVTMP,DEPTH_,DEPTH_FLAG,CTDDEP,THETA,SIGTHT,DOC,DOC_FLAG_W
,,,,,,,GMT,GMT,,,METER,DBAR,ITS-90,PSS-78,,UMOL/KG,,PSS-78,,UMOL/KG,,UMOL/KG,,UMOL/KG,,UMOL/KG,,UMOL/KG,,UMOL/KG,,PMOL/KG,,PMOL/KG,,/MILLE,,UMOL/KG,,UMOL/KG,,25_DEG_C,,DEG_C,,,,/MILLE,UMOL/KG,,UMOL/KG,,UG/L,,UG/L,,DBAR,ITS-90,METERS,,METERS,DEG_C,,UMOL/L,
       KS04-01,  NONE,KS-0964,  1,     24,02-16030,2,20040226,0746, 31.7410, 133.6873, 4567,      4.8,  19.5593,  34.8967,2,   -999.0,9,  34.8959,2,    226.0,2,  -999.00,9,  -999.00,9,     0.29,2,     0.08,2,     0.04,2, -999.000,9, -999.000,9,  -999.00,9,   -999.0,9,   -999.0,9,-999.0000,9,   -999.0,  9,  -999.00,9,   -999.0,  -999.00,9,  -999.00,9,  -999.00,9,  -999.00,9,   -999.0,-999.0000, -999,9,    5,  19.5584,  24.7985,   -999.0,9
       KS04-01,  NONE,KS-0964,  1,     23,02-16029,2,20040226,0741, 31.7410, 133.6873, 4567,     10.2,  19.5735,  34.8954,2,   -999.0,9,-999.0000,9,    227.0,2,  -999.00,9,  -999.00,9,     0.29,2,     0.08,2,     0.04,2, -999.000,9, -999.000,9,  -999.00,9,   -999.0,9,   -999.0,9,-999.0000,9,   -999.0,  9,  -999.00,9,   -999.0,  -999.00,9,  -999.00,9,  -999.00,9,  -999.00,9,   -999.0,-999.0000, -999,9,   10,  19.5717,  24.7940,   -999.0,9
       KS04-01,  NONE,KS-0964,  1,     22,02-16028,9,20040226,0740, 31.7410, 133.6873, 4567,     25.0,  19.5778,  34.8951,2,   -999.0,9,-999.0000,9,   -999.0,9,  -999.00,9,  -999.00,9,  -999.00,9,  -999.00,9,  -999.00,9, -999.000,9, -999.000,9,  -999.00,9,   -999.0,9,   -999.0,9,-999.0000,9,   -999.0,  9,  -999.00,9,   -999.0,  -999.00,9,  -999.00,9,  -999.00,9,  -999.00,9,   -999.0,-999.0000, -999,9,   25,  19.5733,  24.7934,   -999.0,9
       KS04-01,  NONE,KS-0964,  1,     21,02-16027,2,20040226,0740, 31.7410, 133.6873, 4567,     25.9,  19.5742,  34.8942,2,   -999.0,9,-999.0000,9,    226.0,2,  -999.00,9,  -999.00,9,     0.29,2,     0.08,2,     0.05,2, -999.000,9, -999.000,9,  -999.00,9,   -999.0,9,   -999.0,9,-999.0000,9,   -999.0,  9,  -999.00,9,   -999.0,  -999.00,9,  -999.00,9,  -999.00,9,  -999.00,9,   -999.0,-999.0000, -999,9,   26,  19.5695,  24.7937,   -999.0,9
       KS04-01,  NONE,KS-0964,  1,     20,02-16026,2,20040226,0738, 31.7410, 133.6873, 4567,     51.5,  19.5817,  34.8955,2,   -999.0,9,-999.0000,9,    226.0,2,  -999.00,9,  -999.00,9,     0.29,2,     0.08,2,     0.04,2, -999.000,9, -999.000,9,  -999.00,9,   -999.0,9,   -999.0,9,-999.0000,9,   -999.0,  9,  -999.00,9,   -999.0,  -999.00,9,  -999.00,9,  -999.00,9,  -999.00,9,   -999.0,-999.0000, -999,9,   51,  19.5723,  24.7939,   -999.0,9
       KS04-01,  NONE,KS-0964,  1,     19,02-16025,2,20040226,0737, 31.7410, 133.6873, 4567,     76.0,  19.3683,  34.8629,2,   -999.0,9,-999.0000,9,    212.0,2,  -999.00,9,  -999.00,9,     1.76,2,     0.08,2,     0.14,2, -999.000,9, -999.000,9,  -999.00,9,   -999.0,9,   -999.0,9,-999.0000,9,   -999.0,  9,  -999.00,9,   -999.0,  -999.00,9,  -999.00,9,  -999.00,9,  -999.00,9,   -999.0,-999.0000, -999,9,   75,  19.3546,  24.8254,   -999.0,9
       KS04-01,  NONE,KS-0964,  1,     18,02-16024,2,20040226,0735, 31.7410, 133.6873, 4567,    101.0,  19.1706,  34.8874,2,   -999.0,9,  34.8880,2,    225.0,2,  -999.00,9,  -999.00,9,     0.88,2,     0.18,2,     0.08,2, -999.000,9, -999.000,9,  -999.00,9,   -999.0,9,   -999.0,9,-999.0000,9,   -999.0,  9,  -999.00,9,   -999.0,  -999.00,9,  -999.00,9,  -999.00,9,  -999.00,9,   -999.0,-999.0000, -999,9,  100,  19.1525,  24.8961,   -999.0,9
       KS04-01,  NONE,KS-0964,  1,     17,02-16023,2,20040226,0734, 31.7410, 133.6873, 4567,    127.0,  18.9937,  34.8851,2,   -999.0,9,-999.0000,9,    224.0,2,  -999.00,9,  -999.00,9,     1.17,2,     0.25,2,     0.09,2, -999.000,9, -999.000,9,  -999.00,9,   -999.0,9,   -999.0,9,-999.0000,9,   -999.0,  9,  -999.00,9,   -999.0,  -999.00,9,  -999.00,9,  -999.00,9,  -999.00,9,   -999.0,-999.0000, -999,9,  126,  18.9711,  24.9407,   -999.0,9
       KS04-01,  NONE,KS-0964,  1,     16,02-16022,2,20040226,0730, 31.7410, 133.6873, 4567,    151.6,  18.8918,  34.8781,2,   -999.0,9,-999.0000,9,    221.0,2,  -999.00,9,  -999.00,9,     1.76,2,     0.22,2,     0.13,2, -999.000,9, -999.000,9,  -999.00,9,   -999.0,9,   -999.0,9,-999.0000,9,   -999.0,  9,  -999.00,9,   -999.0,  -999.00,9,  -999.00,9,  -999.00,9,  -999.00,9,   -999.0,-999.0000, -999,9,  150,  18.8649,  24.9623,   -999.0,9
       KS04-01,  NONE,KS-0964,  1,     15,02-16021,2,20040226,0728, 31.7410, 133.6873, 4567,    200.5,  17.8852,  34.7777,2,   -999.0,9,  34.7787,2,    199.0,2,  -999.00,9,  -999.00,9,     4.78,2,     0.01,2,     0.32,2, -999.000,9, -999.000,9,  -999.00,9,   -999.0,9,   -999.0,9,-999.0000,9,   -999.0,  9,  -999.00,9,   -999.0,  -999.00,9,  -999.00,9,  -999.00,9,  -999.00,9,   -999.0,-999.0000, -999,9,  199,  17.8510,  25.1384,   -999.0,9
       KS04-01,  NONE,KS-0964,  1,     14,02-16020,2,20040226,0726, 31.7410, 133.6873, 4567,    252.4,  17.0541,  34.7344,2,   -999.0,9,-999.0000,9,    200.0,2,  -999.00,9,  -999.00,9,     5.85,2,     0.00,2,     0.40,2, -999.000,9, -999.000,9,  -999.00,9,   -999.0,9,   -999.0,9,-999.0000,9,   -999.0,  9,  -999.00,9,   -999.0,  -999.00,9,  -999.00,9,  -999.00,9,  -999.00,9,   -999.0,-999.0000, -999,9,  251,  17.0124,  25.3074,   -999.0,9
       KS04-01,  NONE,KS-0964,  1,     13,02-16019,2,20040226,0724, 31.7410, 133.6873, 4567,    303.0,  16.3274,  34.6916,2,   -999.0,9,  34.6942,2,    196.0,2,  -999.00,9,  -999.00,9,     7.31,2,     0.01,2,     0.50,2, -999.000,9, -999.000,9,  -999.00,9,   -999.0,9,   -999.0,9,-999.0000,9,   -999.0,  9,  -999.00,9,   -999.0,  -999.00,9,  -999.00,9,  -999.00,9,  -999.00,9,   -999.0,-999.0000, -999,9,  301,  16.2787,  25.4464,   -999.0,9
       KS04-01,  NONE,KS-0964,  1,     12,02-16018,2,20040226,0722, 31.7410, 133.6873, 4567,    404.4,  13.6100,  34.5084,2,   -999.0,9,  34.5109,2,    179.0,2,  -999.00,9,  -999.00,9,    13.26,2,     0.00,2,     0.90,2, -999.000,9, -999.000,9,  -999.00,9,   -999.0,9,   -999.0,9,-999.0000,9,   -999.0,  9,  -999.00,9,   -999.0,  -999.00,9,  -999.00,9,  -999.00,9,  -999.00,9,   -999.0,-999.0000, -999,9,  401,  13.5525,  25.9000,   -999.0,9
       KS04-01,  NONE,KS-0964,  1,     11,02-16017,9,20040226,0720, 31.7410, 133.6873, 4567,    504.8,  10.9799,  34.3383,2,   -999.0,9,-999.0000,9,   -999.0,9,  -999.00,9,  -999.00,9,  -999.00,9,  -999.00,9,  -999.00,9, -999.000,9, -999.000,9,  -999.00,9,   -999.0,9,   -999.0,9,-999.0000,9,   -999.0,  9,  -999.00,9,   -999.0,  -999.00,9,  -999.00,9,  -999.00,9,  -999.00,9,   -999.0,-999.0000, -999,9,  501,  10.9173,  26.2750,   -999.0,9
       KS04-01,  NONE,KS-0964,  1,     10,02-16016,2,20040226,0720, 31.7410, 133.6873, 4567,    503.2,  10.9746,  34.3370,2,   -999.0,9,  34.3394,2,    164.0,2,  -999.00,9,  -999.00,9,    18.90,2,     0.00,2,     1.32,2, -999.000,9, -999.000,9,  -999.00,9,   -999.0,9,   -999.0,9,-999.0000,9,   -999.0,  9,  -999.00,9,   -999.0,  -999.00,9,  -999.00,9,  -999.00,9,  -999.00,9,   -999.0,-999.0000, -999,9,  499,  10.9123,  26.2750,   -999.0,9
       KS04-01,  NONE,KS-0964,  1,      9,02-16015,2,20040226,0717, 31.7410, 133.6873, 4567,    603.6,   9.1392,  34.2947,2,   -999.0,9,  34.2972,2,    138.0,2,  -999.00,9,  -999.00,9,    24.74,2,     0.00,2,     1.76,2, -999.000,9, -999.000,9,  -999.00,9,   -999.0,9,   -999.0,9,-999.0000,9,   -999.0,  9,  -999.00,9,   -999.0,  -999.00,9,  -999.00,9,  -999.00,9,  -999.00,9,   -999.0,-999.0000, -999,9,  599,   9.0721,  26.5543,   -999.0,9
       KS04-01,  NONE,KS-0964,  1,      8,02-16014,2,20040226,0715, 31.7410, 133.6873, 4567,    707.6,   7.1730,  34.2858,2,   -999.0,9,  34.2870,2,    107.0,2,  -999.00,9,  -999.00,9,    30.77,2,     0.00,2,     2.19,2, -999.000,9, -999.000,9,  -999.00,9,   -999.0,9,   -999.0,9,-999.0000,9,   -999.0,  9,  -999.00,9,   -999.0,  -999.00,9,  -999.00,9,  -999.00,9,  -999.00,9,   -999.0,-999.0000, -999,9,  701,   7.1041,  26.8418,   -999.0,9
       KS04-01,  NONE,KS-0964,  1,      7,02-16013,2,20040226,0712, 31.7410, 133.6873, 4567,    809.1,   5.5470,  34.2920,2,   -999.0,9,  34.2921,2,     85.0,2,  -999.00,9,  -999.00,9,    35.54,2,     0.00,2,     2.54,2, -999.000,9, -999.000,9,  -999.00,9,   -999.0,9,   -999.0,9,-999.0000,9,   -999.0,  9,  -999.00,9,   -999.0,  -999.00,9,  -999.00,9,  -999.00,9,  -999.00,9,   -999.0,-999.0000, -999,9,  802,   5.4776,  27.0577,   -999.0,9
       KS04-01,  NONE,KS-0964,  1,      6,02-16012,2,20040226,0710, 31.7410, 133.6873, 4567,    907.0,   4.7207,  34.3421,2,   -999.0,9,  34.3419,2,     77.0,2,  -999.00,9,  -999.00,9,    37.48,2,     0.00,2,     2.69,2, -999.000,9, -999.000,9,  -999.00,9,   -999.0,9,   -999.0,9,-999.0000,9,   -999.0,  9,  -999.00,9,   -999.0,  -999.00,9,  -999.00,9,  -999.00,9,  -999.00,9,   -999.0,-999.0000, -999,9,  899,   4.6479,  27.1935,   -999.0,9
       KS04-01,  NONE,KS-0964,  1,      5,02-16011,2,20040226,0708, 31.7410, 133.6873, 4567,   1012.8,   3.9394,  34.3791,2,   -999.0,9,  34.3772,2,     68.0,2,  -999.00,9,  -999.00,9,    39.23,2,     0.00,2,     2.82,2, -999.000,9, -999.000,9,  -999.00,9,   -999.0,9,   -999.0,9,-999.0000,9,   -999.0,  9,  -999.00,9,   -999.0,  -999.00,9,  -999.00,9,  -999.00,9,  -999.00,9,   -999.0,-999.0000, -999,9, 1003,   3.8634,  27.3062,   -999.0,9
       KS04-01,  NONE,KS-0964,  1,      4,02-16010,2,20040226,0703, 31.7410, 133.6873, 4567,   1262.3,   3.0697,  34.4751,2,   -999.0,9,  34.4740,2,     73.0,2,  -999.00,9,  -999.00,9,    40.00,2,     0.00,2,     2.87,2, -999.000,9, -999.000,9,  -999.00,9,   -999.0,9,   -999.0,9,-999.0000,9,   -999.0,  9,  -999.00,9,   -999.0,  -999.00,9,  -999.00,9,  -999.00,9,  -999.00,9,   -999.0,-999.0000, -999,9, 1250,   2.9808,  27.4678,   -999.0,9
       KS04-01,  NONE,KS-0964,  1,      3,02-16009,2,20040226,0658, 31.7410, 133.6873, 4567,   1515.7,   2.6140,  34.5254,2,   -999.0,9,  34.5235,2,     82.0,2,  -999.00,9,  -999.00,9,    39.80,2,     0.00,2,     2.82,2, -999.000,9, -999.000,9,  -999.00,9,   -999.0,9,   -999.0,9,-999.0000,9,   -999.0,  9,  -999.00,9,   -999.0,  -999.00,9,  -999.00,9,  -999.00,9,  -999.00,9,   -999.0,-999.0000, -999,9, 1500,   2.5095,  27.5496,   -999.0,9
       KS04-01,  NONE,KS-0964,  1,      2,02-16008,2,20040226,0654, 31.7410, 133.6873, 4567,   1771.4,   2.2724,  34.5705,2,   -999.0,9,  34.5688,2,     97.0,2,  -999.00,9,  -999.00,9,    39.22,2,     0.00,2,     2.75,2, -999.000,9, -999.000,9,  -999.00,9,   -999.0,9,   -999.0,9,-999.0000,9,   -999.0,  9,  -999.00,9,   -999.0,  -999.00,9,  -999.00,9,  -999.00,9,  -999.00,9,   -999.0,-999.0000, -999,9, 1752,   2.1512,  27.6155,   -999.0,9
       KS04-01,  NONE,KS-0964,  1,      1,02-16007,2,20040226,0649, 31.7410, 133.6873, 4567,   2025.1,   2.0531,  34.6015,2,   -999.0,9,  34.6007,2,    108.0,2,  -999.00,9,  -999.00,9,    38.44,2,     0.00,2,     2.71,2, -999.000,9, -999.000,9,  -999.00,9,   -999.0,9,   -999.0,9,-999.0000,9,   -999.0,  9,  -999.00,9,   -999.0,  -999.00,9,  -999.00,9,  -999.00,9,  -999.00,9,   -999.0,-999.0000, -999,9, 2001,   1.9138,  27.6592,   -999.0,9