BOTTLE,20130510GEMDJMAYT
EXPOCODE,SECT_ID,STNNBR,CASTNO,SAMPNO,BTLNBR,BTLNBR_FLAG_W,DATE,TIME,LATITUDE,LONGITUDE,DEPTH,CTDPRS,CTDTMP,CTDSAL,CTDSAL_FLAG_W,CTDOXY,CTDOXY_FLAG_W,SALNTY,SALNTY_FLAG_W,OXYGEN,OXYGEN_FLAG_W,SILCAT,SILCAT_FLAG_W,NITRAT,NITRAT_FLAG_W,NO2+NO3,NO2+NO3_FLAG_W,NITRIT,NITRIT_FLAG_W,PHSPHT,PHSPHT_FLAG_W,CFC-11,CFC-11_FLAG_W,CFC-12,CFC-12_FLAG_W,DELC13,DELC13_FLAG_W,TCARBN,TCARBN_FLAG_W,ALKALI,ALKALI_FLAG_W,PH,PH_FLAG_W,PH_TMP,PH_SCALE,PH_NBS,PH_NBS_FLAG_W,C13ERR,TOTALP,TOTALP_FLAG_W,AMMONI,AMMONI_FLAG_W,CHLORA,CHLORA_FLAG_W,PPHYTN,PPHYTN_FLAG_W,REVPRS,REVTMP,DEPTH_,DEPTH_FLAG,CTDDEP,THETA,SIGTHT,DOC,DOC_FLAG_W
,,,,,,,GMT,GMT,,,METER,DBAR,ITS-90,PSS-78,,UMOL/KG,,PSS-78,,UMOL/KG,,UMOL/KG,,UMOL/KG,,UMOL/KG,,UMOL/KG,,UMOL/KG,,PMOL/KG,,PMOL/KG,,/MILLE,,UMOL/KG,,UMOL/KG,,25_DEG_C,,DEG_C,,,,/MILLE,UMOL/KG,,UMOL/KG,,UG/L,,UG/L,,DBAR,ITS-90,METERS,,METERS,DEG_C,,UMOL/L,
       KS04-01, EQPAC,KS-0939,  1,     24,02-16030,2,20040217,0928,  0.0172, 145.0338, 3537,      5.3,  29.1692,  34.0509,2,   -999.0,9,  34.0513,2,    198.0,2,  -999.00,9,  -999.00,9,     0.00,2,     0.00,2,     0.03,2, -999.000,9, -999.000,9,  -999.00,9,   -999.0,9,   -999.0,9,-999.0000,9,   -999.0,  9,  -999.00,9,   -999.0,  -999.00,9,  -999.00,9,     0.24,2,     0.15,2,   -999.0,-999.0000, -999,9,    5,  29.1679,  21.2956,   -999.0,9
       KS04-01, EQPAC,KS-0939,  1,     23,02-16029,2,20040217,0927,  0.0172, 145.0338, 3537,     10.5,  29.1784,  34.0484,2,   -999.0,9,-999.0000,9,    197.0,2,  -999.00,9,  -999.00,9,     0.00,2,     0.00,2,     0.03,2, -999.000,9, -999.000,9,  -999.00,9,   -999.0,9,   -999.0,9,-999.0000,9,   -999.0,  9,  -999.00,9,   -999.0,  -999.00,9,  -999.00,9,     0.21,2,     0.14,2,   -999.0,-999.0000, -999,9,   10,  29.1759,  21.2911,   -999.0,9
       KS04-01, EQPAC,KS-0939,  1,     22,02-16028,2,20040217,0925,  0.0172, 145.0338, 3537,     25.5,  29.1874,  34.0524,2,   -999.0,9,-999.0000,9,    197.0,2,  -999.00,9,  -999.00,9,     0.00,2,     0.00,2,     0.03,2, -999.000,9, -999.000,9,  -999.00,9,   -999.0,9,   -999.0,9,-999.0000,9,   -999.0,  9,  -999.00,9,   -999.0,  -999.00,9,  -999.00,9,     0.25,2,     0.16,2,   -999.0,-999.0000, -999,9,   25,  29.1812,  21.2923,   -999.0,9
       KS04-01, EQPAC,KS-0939,  1,     21,02-16027,2,20040217,0921,  0.0172, 145.0338, 3537,     51.6,  29.2331,  34.1151,2,   -999.0,9,-999.0000,9,    196.0,2,  -999.00,9,  -999.00,9,     0.00,2,     0.01,2,     0.05,2, -999.000,9, -999.000,9,  -999.00,9,   -999.0,9,   -999.0,9,-999.0000,9,   -999.0,  9,  -999.00,9,   -999.0,  -999.00,9,  -999.00,9,     0.26,2,     0.18,2,   -999.0,-999.0000, -999,9,   51,  29.2206,  21.3261,   -999.0,9
       KS04-01, EQPAC,KS-0939,  1,     20,02-16026,2,20040217,0920,  0.0172, 145.0338, 3537,     75.8,  29.0113,  34.4833,2,   -999.0,9,-999.0000,9,    185.0,2,  -999.00,9,  -999.00,9,     1.27,2,     0.38,2,     0.18,2, -999.000,9, -999.000,9,  -999.00,9,   -999.0,9,   -999.0,9,-999.0000,9,   -999.0,  9,  -999.00,9,   -999.0,  -999.00,9,  -999.00,9,     0.24,2,     0.35,2,   -999.0,-999.0000, -999,9,   75,  28.9930,  21.6785,   -999.0,9
       KS04-01, EQPAC,KS-0939,  1,     19,02-16025,2,20040217,0919,  0.0172, 145.0338, 3537,     98.7,  26.6514,  35.4109,2,   -999.0,9,  35.4121,2,    145.0,2,  -999.00,9,  -999.00,9,     7.33,2,     0.13,2,     0.63,2, -999.000,9, -999.000,9,  -999.00,9,   -999.0,9,   -999.0,9,-999.0000,9,   -999.0,  9,  -999.00,9,   -999.0,  -999.00,9,  -999.00,9,     0.06,2,     0.70,2,   -999.0,-999.0000, -999,9,   98,  26.6289,  23.1455,   -999.0,9
       KS04-01, EQPAC,KS-0939,  1,     18,02-16024,2,20040217,0918,  0.0172, 145.0338, 3537,    123.5,  24.3572,  35.3178,2,   -999.0,9,-999.0000,9,    138.0,2,  -999.00,9,  -999.00,9,     8.69,2,     0.04,2,     0.68,2, -999.000,9, -999.000,9,  -999.00,9,   -999.0,9,   -999.0,9,-999.0000,9,   -999.0,  9,  -999.00,9,   -999.0,  -999.00,9,  -999.00,9,  -999.00,4,  -999.00,4,   -999.0,-999.0000, -999,9,  123,  24.3309,  23.7834,   -999.0,9
       KS04-01, EQPAC,KS-0939,  1,     17,02-16023,3,20040217,0917,  0.0172, 145.0338, 3537,    151.9,  22.1398,  35.3079,2,   -999.0,9,-999.0000,9,    136.0,2,  -999.00,9,  -999.00,9,     9.57,2,     0.02,2,     0.73,2, -999.000,9, -999.000,9,  -999.00,9,   -999.0,9,   -999.0,9,-999.0000,9,   -999.0,  9,  -999.00,9,   -999.0,  -999.00,9,  -999.00,9,     0.00,2,     0.09,2,   -999.0,-999.0000, -999,9,  151,  22.1096,  24.4210,   -999.0,9
       KS04-01, EQPAC,KS-0939,  1,     16,02-16022,2,20040217,0915,  0.0172, 145.0338, 3537,    202.1,  18.0484,  35.4155,2,   -999.0,9,  35.4204,2,    144.0,2,  -999.00,9,  -999.00,9,    11.60,2,     0.01,2,     0.88,2, -999.000,9, -999.000,9,  -999.00,9,   -999.0,9,   -999.0,9,-999.0000,9,   -999.0,  9,  -999.00,9,   -999.0,  -999.00,9,  -999.00,9,     0.00,2,     0.03,2,   -999.0,-999.0000, -999,9,  201,  18.0135,  25.5870,   -999.0,9
       KS04-01, EQPAC,KS-0939,  1,     15,02-16021,2,20040217,0913,  0.0172, 145.0338, 3537,    255.9,  13.0981,  34.9450,2,   -999.0,9,-999.0000,9,    142.0,2,  -999.00,9,  -999.00,9,    18.71,2,     0.00,2,     1.32,2, -999.000,9, -999.000,9,  -999.00,9,   -999.0,9,   -999.0,9,-999.0000,9,   -999.0,  9,  -999.00,9,   -999.0,  -999.00,9,  -999.00,9,     0.00,2,     0.02,2,   -999.0,-999.0000, -999,9,  254,  13.0627,  26.3377,   -999.0,9
       KS04-01, EQPAC,KS-0939,  1,     14,02-16020,2,20040217,0911,  0.0172, 145.0338, 3537,    305.6,  11.0343,  34.7929,2,   -999.0,9,  34.7917,2,    135.0,2,  -999.00,9,  -999.00,9,    23.09,2,     0.00,2,     1.59,2, -999.000,9, -999.000,9,  -999.00,9,   -999.0,9,   -999.0,9,-999.0000,9,   -999.0,  9,  -999.00,9,   -999.0,  -999.00,9,  -999.00,9,     0.00,2,     0.02,2,   -999.0,-999.0000, -999,9,  304,  10.9964,  26.6149,   -999.0,9
       KS04-01, EQPAC,KS-0939,  1,     13,02-16019,2,20040217,0908,  0.0172, 145.0338, 3537,    407.4,   9.5396,  34.6944,2,   -999.0,9,-999.0000,9,   -999.0,9,  -999.00,9,  -999.00,9,    30.58,2,     0.00,2,     2.07,2, -999.000,9, -999.000,9,  -999.00,9,   -999.0,9,   -999.0,9,-999.0000,9,   -999.0,  9,  -999.00,9,   -999.0,  -999.00,9,  -999.00,9,  -999.00,9,  -999.00,9,   -999.0,-999.0000, -999,9,  405,   9.4934,  26.7984,   -999.0,9
       KS04-01, EQPAC,KS-0939,  1,     12,02-16018,3,20040217,0908,  0.0172, 145.0338, 3537,    405.3,   9.5521,  34.6940,2,   -999.0,9,  34.6922,2,     88.0,2,  -999.00,9,  -999.00,9,    30.58,2,     0.00,2,     2.06,2, -999.000,9, -999.000,9,  -999.00,9,   -999.0,9,   -999.0,9,-999.0000,9,   -999.0,  9,  -999.00,9,   -999.0,  -999.00,9,  -999.00,9,  -999.00,9,  -999.00,9,   -999.0,-999.0000, -999,9,  403,   9.5061,  26.7961,   -999.0,9
       KS04-01, EQPAC,KS-0939,  1,     11,02-16017,2,20040217,0904,  0.0172, 145.0338, 3537,    505.9,   8.4817,  34.6286,2,   -999.0,9,  34.6282,2,    112.0,2,  -999.00,9,  -999.00,9,    30.38,2,     0.00,2,     2.06,2, -999.000,9, -999.000,9,  -999.00,9,   -999.0,9,   -999.0,9,-999.0000,9,   -999.0,  9,  -999.00,9,   -999.0,  -999.00,9,  -999.00,9,  -999.00,9,  -999.00,9,   -999.0,-999.0000, -999,9,  503,   8.4280,  26.9172,   -999.0,9
       KS04-01, EQPAC,KS-0939,  1,     10,02-16016,9,20040217,0901,  0.0172, 145.0338, 3537,    610.6,   7.1050,  34.5663,2,   -999.0,9,-999.0000,9,   -999.0,9,  -999.00,9,  -999.00,9,  -999.00,9,  -999.00,9,  -999.00,9, -999.000,9, -999.000,9,  -999.00,9,   -999.0,9,   -999.0,9,-999.0000,9,   -999.0,  9,  -999.00,9,   -999.0,  -999.00,9,  -999.00,9,  -999.00,9,  -999.00,9,   -999.0,-999.0000, -999,9,  606,   7.0460,  27.0708,   -999.0,9
       KS04-01, EQPAC,KS-0939,  1,      9,02-16015,2,20040217,0901,  0.0172, 145.0338, 3537,    609.1,   7.1200,  34.5670,2,   -999.0,9,  34.5677,2,    114.0,2,  -999.00,9,  -999.00,9,    33.30,2,     0.00,2,     2.29,2, -999.000,9, -999.000,9,  -999.00,9,   -999.0,9,   -999.0,9,-999.0000,9,   -999.0,  9,  -999.00,9,   -999.0,  -999.00,9,  -999.00,9,  -999.00,9,  -999.00,9,   -999.0,-999.0000, -999,9,  605,   7.0611,  27.0692,   -999.0,9
       KS04-01, EQPAC,KS-0939,  1,      8,02-16014,2,20040217,0858,  0.0172, 145.0338, 3537,    709.2,   6.2358,  34.5394,2,   -999.0,9,  34.5376,2,    117.0,2,  -999.00,9,  -999.00,9,    34.27,2,     0.00,2,     2.35,2, -999.000,9, -999.000,9,  -999.00,9,   -999.0,9,   -999.0,9,-999.0000,9,   -999.0,  9,  -999.00,9,   -999.0,  -999.00,9,  -999.00,9,  -999.00,9,  -999.00,9,   -999.0,-999.0000, -999,9,  704,   6.1715,  27.1667,   -999.0,9
       KS04-01, EQPAC,KS-0939,  1,      7,02-16013,2,20040217,0855,  0.0172, 145.0338, 3537,    806.2,   5.6401,  34.5374,2,   -999.0,9,  34.5380,2,    102.0,2,  -999.00,9,  -999.00,9,    36.41,2,     0.00,2,     2.53,2, -999.000,9, -999.000,9,  -999.00,9,   -999.0,9,   -999.0,9,-999.0000,9,   -999.0,  9,  -999.00,9,   -999.0,  -999.00,9,  -999.00,9,  -999.00,9,  -999.00,9,   -999.0,-999.0000, -999,9,  800,   5.5701,  27.2407,   -999.0,9
       KS04-01, EQPAC,KS-0939,  1,      6,02-16012,2,20040217,0851,  0.0172, 145.0338, 3537,    908.0,   5.0012,  34.5395,2,   -999.0,9,  34.5380,2,    106.0,2,  -999.00,9,  -999.00,9,    36.79,2,     0.00,2,     2.57,2, -999.000,9, -999.000,9,  -999.00,9,   -999.0,9,   -999.0,9,-999.0000,9,   -999.0,  9,  -999.00,9,   -999.0,  -999.00,9,  -999.00,9,  -999.00,9,  -999.00,9,   -999.0,-999.0000, -999,9,  901,   4.9261,  27.3186,   -999.0,9
       KS04-01, EQPAC,KS-0939,  1,      5,02-16011,2,20040217,0849,  0.0172, 145.0338, 3537,   1012.3,   4.5587,  34.5498,2,   -999.0,9,  34.5488,2,    101.0,2,  -999.00,9,  -999.00,9,    37.77,2,     0.00,2,     2.65,2, -999.000,9, -999.000,9,  -999.00,9,   -999.0,9,   -999.0,9,-999.0000,9,   -999.0,  9,  -999.00,9,   -999.0,  -999.00,9,  -999.00,9,  -999.00,9,  -999.00,9,   -999.0,-999.0000, -999,9, 1004,   4.4776,  27.3771,   -999.0,9
       KS04-01, EQPAC,KS-0939,  1,      4,02-16010,2,20040217,0843,  0.0172, 145.0338, 3537,   1262.0,   3.7105,  34.5754,2,   -999.0,9,  34.5739,2,    106.0,2,  -999.00,9,  -999.00,9,    38.05,2,     0.00,2,     2.69,2, -999.000,9, -999.000,9,  -999.00,9,   -999.0,9,   -999.0,9,-999.0000,9,   -999.0,  9,  -999.00,9,   -999.0,  -999.00,9,  -999.00,9,  -999.00,9,  -999.00,9,   -999.0,-999.0000, -999,9, 1251,   3.6152,  27.4875,   -999.0,9
       KS04-01, EQPAC,KS-0939,  1,      3,02-16009,2,20040217,0838,  0.0172, 145.0338, 3537,   1512.4,   3.0460,  34.6012,2,   -999.0,9,  34.6001,2,    106.0,2,  -999.00,9,  -999.00,9,    38.54,2,     0.00,2,     2.74,2, -999.000,9, -999.000,9,  -999.00,9,   -999.0,9,   -999.0,9,-999.0000,9,   -999.0,  9,  -999.00,9,   -999.0,  -999.00,9,  -999.00,9,  -999.00,9,  -999.00,9,   -999.0,-999.0000, -999,9, 1499,   2.9365,  27.5726,   -999.0,9
       KS04-01, EQPAC,KS-0939,  1,      2,02-16008,2,20040217,0834,  0.0172, 145.0338, 3537,   1764.9,   2.5430,  34.6229,2,   -999.0,9,  34.6205,2,    116.0,2,  -999.00,9,  -999.00,9,    38.15,2,     0.00,2,     2.71,2, -999.000,9, -999.000,9,  -999.00,9,   -999.0,9,   -999.0,9,-999.0000,9,   -999.0,  9,  -999.00,9,   -999.0,  -999.00,9,  -999.00,9,  -999.00,9,  -999.00,9,   -999.0,-999.0000, -999,9, 1748,   2.4186,  27.6353,   -999.0,9
       KS04-01, EQPAC,KS-0939,  1,      1,02-16007,2,20040217,0830,  0.0172, 145.0338, 3537,   2018.0,   2.2378,  34.6385,2,   -999.0,9,  34.6366,2,    121.0,2,  -999.00,9,  -999.00,9,    37.95,2,     0.00,2,     2.70,2, -999.000,9, -999.000,9,  -999.00,9,   -999.0,9,   -999.0,9,-999.0000,9,   -999.0,  9,  -999.00,9,   -999.0,  -999.00,9,  -999.00,9,  -999.00,9,  -999.00,9,   -999.0,-999.0000, -999,9, 1997,   2.0962,  27.6744,   -999.0,9