BOTTLE,20130510GEMDJMAYT
EXPOCODE,SECT_ID,STNNBR,CASTNO,SAMPNO,BTLNBR,BTLNBR_FLAG_W,DATE,TIME,LATITUDE,LONGITUDE,DEPTH,CTDPRS,CTDTMP,CTDSAL,CTDSAL_FLAG_W,CTDOXY,CTDOXY_FLAG_W,SALNTY,SALNTY_FLAG_W,OXYGEN,OXYGEN_FLAG_W,SILCAT,SILCAT_FLAG_W,NITRAT,NITRAT_FLAG_W,NO2+NO3,NO2+NO3_FLAG_W,NITRIT,NITRIT_FLAG_W,PHSPHT,PHSPHT_FLAG_W,CFC-11,CFC-11_FLAG_W,CFC-12,CFC-12_FLAG_W,DELC13,DELC13_FLAG_W,TCARBN,TCARBN_FLAG_W,ALKALI,ALKALI_FLAG_W,PH,PH_FLAG_W,PH_TMP,PH_SCALE,PH_NBS,PH_NBS_FLAG_W,C13ERR,TOTALP,TOTALP_FLAG_W,AMMONI,AMMONI_FLAG_W,CHLORA,CHLORA_FLAG_W,PPHYTN,PPHYTN_FLAG_W,REVPRS,REVTMP,DEPTH_,DEPTH_FLAG,CTDDEP,THETA,SIGTHT,DOC,DOC_FLAG_W
,,,,,,,GMT,GMT,,,METER,DBAR,ITS-90,PSS-78,,UMOL/KG,,PSS-78,,UMOL/KG,,UMOL/KG,,UMOL/KG,,UMOL/KG,,UMOL/KG,,UMOL/KG,,PMOL/KG,,PMOL/KG,,/MILLE,,UMOL/KG,,UMOL/KG,,25_DEG_C,,DEG_C,,,,/MILLE,UMOL/KG,,UMOL/KG,,UG/L,,UG/L,,DBAR,ITS-90,METERS,,METERS,DEG_C,,UMOL/L,
       KS04-01,  137E,KS-0925,  1,     24,02-16030,2,20040201,1850,  5.0183, 137.0038, 4845,      5.6,  28.8665,  34.0794,2,   -999.0,9,-999.0000,9,    199.0,2,     1.15,2,  -999.00,9,     0.00,2,     0.00,2,     0.02,2, -999.000,9, -999.000,9,  -999.00,9,   1902.8,2,   -999.0,9,   8.1191,6,     25.0, TS,     8.24,2,   -999.0,  -999.00,9,  -999.00,9,     0.07,2,     0.06,2,   -999.0,-999.0000, -999,9,    6,  28.8651,  21.4179,   -999.0,9
       KS04-01,  137E,KS-0925,  1,     23,02-16029,2,20040201,1849,  5.0183, 137.0038, 4845,     11.1,  28.8457,  34.0798,2,   -999.0,9,-999.0000,9,    198.0,2,     1.11,2,  -999.00,9,     0.00,2,     0.00,2,     0.02,2, -999.000,9, -999.000,9,  -999.00,9,   1902.4,2,   -999.0,9,-999.0000,9,   -999.0,  9,     8.25,2,   -999.0,  -999.00,9,  -999.00,9,     0.10,2,     0.05,2,   -999.0,-999.0000, -999,9,   11,  28.8430,  21.4255,   -999.0,9
       KS04-01,  137E,KS-0925,  1,     22,02-16028,2,20040201,1848,  5.0183, 137.0038, 4845,     25.7,  28.8582,  34.0785,2,   -999.0,9,-999.0000,9,    198.0,2,     1.07,2,  -999.00,9,     0.00,2,     0.00,2,     0.02,2, -999.000,9, -999.000,9,  -999.00,9,   1901.4,2,   -999.0,9,-999.0000,9,   -999.0,  9,     8.24,2,   -999.0,  -999.00,9,  -999.00,9,     0.08,2,     0.05,2,   -999.0,-999.0000, -999,9,   26,  28.8520,  21.4215,   -999.0,9
       KS04-01,  137E,KS-0925,  1,     21,02-16027,2,20040201,1844,  5.0183, 137.0038, 4845,     51.4,  28.2868,  34.0743,2,   -999.0,9,-999.0000,9,    202.0,2,     1.39,2,  -999.00,9,     0.00,2,     0.00,2,     0.02,2, -999.000,9, -999.000,9,  -999.00,9,   1908.8,2,   -999.0,9,-999.0000,9,   -999.0,  9,     8.23,2,   -999.0,  -999.00,9,  -999.00,9,     0.17,2,     0.15,2,   -999.0,-999.0000, -999,9,   51,  28.2746,  21.6090,   -999.0,9
       KS04-01,  137E,KS-0925,  1,     20,02-16026,2,20040201,1843,  5.0183, 137.0038, 4845,     75.0,  25.4983,  34.4611,2,   -999.0,9,-999.0000,9,    189.0,2,     1.93,2,  -999.00,9,     0.29,2,     0.08,2,     0.17,2, -999.000,9, -999.000,9,  -999.00,9,   1978.7,2,   -999.0,9,-999.0000,9,   -999.0,  9,     8.16,2,   -999.0,  -999.00,9,  -999.00,9,     0.28,2,     0.51,2,   -999.0,-999.0000, -999,9,   75,  25.4818,  22.7870,   -999.0,9
       KS04-01,  137E,KS-0925,  1,     19,02-16025,2,20040201,1842,  5.0183, 137.0038, 4845,    101.1,  21.4891,  34.7555,2,   -999.0,9,  34.7616,4,    165.0,2,     5.64,2,  -999.00,9,     5.17,2,     0.27,2,     0.46,2, -999.000,9, -999.000,9,  -999.00,9,   2036.0,2,   -999.0,9,-999.0000,9,   -999.0,  9,     8.08,2,   -999.0,  -999.00,9,  -999.00,9,     0.07,2,     0.23,2,   -999.0,-999.0000, -999,9,  100,  21.4695,  24.1794,   -999.0,9
       KS04-01,  137E,KS-0925,  1,     18,02-16024,2,20040201,1841,  5.0183, 137.0038, 4845,    124.2,  20.6365,  34.8194,2,   -999.0,9,-999.0000,9,    157.0,2,     6.63,2,  -999.00,9,     7.71,2,     0.03,2,     0.59,2, -999.000,9, -999.000,9,  -999.00,9,   2053.9,2,   -999.0,9,-999.0000,9,   -999.0,  9,     8.05,2,   -999.0,  -999.00,9,  -999.00,9,     0.04,2,     0.15,2,   -999.0,-999.0000, -999,9,  124,  20.6131,  24.4610,   -999.0,9
       KS04-01,  137E,KS-0925,  1,     17,02-16023,2,20040201,1840,  5.0183, 137.0038, 4845,    150.5,  19.0758,  34.8918,2,   -999.0,9,-999.0000,9,    152.0,2,     8.33,2,  -999.00,9,     9.85,2,     0.02,2,     0.73,2, -999.000,9, -999.000,9,  -999.00,9,   2073.9,2,   -999.0,9,-999.0000,9,   -999.0,  9,     8.02,2,   -999.0,  -999.00,9,  -999.00,9,     0.02,2,     0.10,2,   -999.0,-999.0000, -999,9,  150,  19.0489,  24.9260,   -999.0,9
       KS04-01,  137E,KS-0925,  1,     16,02-16022,2,20040201,1839,  5.0183, 137.0038, 4845,    201.0,  13.7265,  34.5291,2,   -999.0,9,  34.5327,2,    153.0,2,    16.82,2,  -999.00,9,    15.69,2,     0.00,2,     1.11,2, -999.000,9, -999.000,9,  -999.00,9,   2112.6,2,   -999.0,9,-999.0000,9,   -999.0,  9,     7.91,2,   -999.0,  -999.00,9,  -999.00,9,     0.00,2,     0.03,2,   -999.0,-999.0000, -999,9,  200,  13.6979,  25.8861,   -999.0,9
       KS04-01,  137E,KS-0925,  1,     15,02-16021,2,20040201,1837,  5.0183, 137.0038, 4845,    252.0,  12.1422,  34.5313,2,   -999.0,9,-999.0000,9,    129.0,2,    25.00,2,  -999.00,9,    21.15,2,     0.00,2,     1.49,2, -999.000,9, -999.000,9,  -999.00,9,   2153.0,2,   -999.0,9,-999.0000,9,   -999.0,  9,     7.82,2,   -999.0,  -999.00,9,  -999.00,9,     0.00,2,     0.03,2,   -999.0,-999.0000, -999,9,  250,  12.1092,  26.2042,   -999.0,9
       KS04-01,  137E,KS-0925,  1,     14,02-16020,2,20040201,1835,  5.0183, 137.0038, 4845,    302.3,   9.8007,  34.5030,2,   -999.0,9,  34.5056,2,     96.0,2,    35.12,2,  -999.00,9,    28.35,2,     0.00,2,     2.02,2, -999.000,9, -999.000,9,  -999.00,9,   2204.0,6,   -999.0,9,-999.0000,9,   -999.0,  9,     7.72,2,   -999.0,  -999.00,9,  -999.00,9,     0.00,2,     0.03,2,   -999.0,-999.0000, -999,9,  300,   9.7661,  26.6034,   -999.0,9
       KS04-01,  137E,KS-0925,  1,     13,02-16019,2,20040201,1833,  5.0183, 137.0038, 4845,    403.4,   8.3169,  34.5984,2,   -999.0,9,  34.5710,4,     78.0,2,    37.32,2,  -999.00,9,    31.84,2,     0.00,2,     2.25,2, -999.000,9, -999.000,9,  -999.00,9,   2227.8,2,   -999.0,9,-999.0000,9,   -999.0,  9,     7.66,2,   -999.0,  -999.00,9,  -999.00,9,  -999.00,9,  -999.00,9,   -999.0,-999.0000, -999,9,  401,   8.2748,  26.9170,   -999.0,9
       KS04-01,  137E,KS-0925,  1,     12,02-16018,2,20040201,1831,  5.0183, 137.0038, 4845,    504.3,   7.3128,  34.5573,2,   -999.0,9,  34.5551,2,     91.0,2,    44.47,2,  -999.00,9,    34.18,2,     0.00,2,     2.40,2, -999.000,9, -999.000,9,  -999.00,9,   2239.5,2,   -999.0,9,-999.0000,9,   -999.0,  9,     7.62,2,   -999.0,  -999.00,9,  -999.00,9,  -999.00,9,  -999.00,9,   -999.0,-999.0000, -999,9,  501,   7.2637,  27.0332,   -999.0,9
       KS04-01,  137E,KS-0925,  1,     11,02-16017,2,20040201,1828,  5.0183, 137.0038, 4845,    605.0,   6.6006,  34.5405,2,   -999.0,9,  34.5408,2,    112.0,2,    47.35,2,  -999.00,9,    33.49,2,     0.00,2,     2.36,2, -999.000,9, -999.000,9,  -999.00,9,   2236.5,2,   -999.0,9,-999.0000,9,   -999.0,  9,     7.68,2,   -999.0,  -999.00,9,  -999.00,9,  -999.00,9,  -999.00,9,   -999.0,-999.0000, -999,9,  601,   6.5445,  27.1186,   -999.0,9
       KS04-01,  137E,KS-0925,  1,     10,02-16016,2,20040201,1826,  5.0183, 137.0038, 4845,    706.0,   6.1194,  34.5357,2,   -999.0,9,  34.5347,2,     94.0,2,    57.02,2,  -999.00,9,    36.02,2,     0.00,2,     2.55,2, -999.000,9, -999.000,9,  -999.00,9,   2258.1,2,   -999.0,9,-999.0000,9,   -999.0,  9,     7.64,2,   -999.0,  -999.00,9,  -999.00,9,  -999.00,9,  -999.00,9,   -999.0,-999.0000, -999,9,  701,   6.0560,  27.1787,   -999.0,9
       KS04-01,  137E,KS-0925,  1,      9,02-16015,2,20040201,1823,  5.0183, 137.0038, 4845,    806.3,   5.6761,  34.5358,2,   -999.0,9,  34.5353,2,     98.0,2,    62.11,2,  -999.00,9,    36.60,2,     0.00,2,     2.60,2, -999.000,9, -999.000,9,  -999.00,9,   2265.5,2,   -999.0,9,-999.0000,9,   -999.0,  9,     7.63,2,   -999.0,  -999.00,9,  -999.00,9,  -999.00,9,  -999.00,9,   -999.0,-999.0000, -999,9,  800,   5.6059,  27.2350,   -999.0,9
       KS04-01,  137E,KS-0925,  1,      8,02-16014,2,20040201,1819,  5.0183, 137.0038, 4845,   1008.6,   4.7219,  34.5498,2,   -999.0,9,  34.5486,2,     93.0,2,    82.20,2,  -999.00,9,    37.86,2,     0.00,2,     2.71,2, -999.000,9, -999.000,9,  -999.00,9,   2283.5,3,   -999.0,9,-999.0000,9,   -999.0,  9,     7.62,2,   -999.0,  -999.00,9,  -999.00,9,  -999.00,9,  -999.00,9,   -999.0,-999.0000, -999,9, 1001,   4.6399,  27.3592,   -999.0,9
       KS04-01,  137E,KS-0925,  1,      7,02-16013,2,20040201,1814,  5.0183, 137.0038, 4845,   1260.5,   3.8392,  34.5722,2,   -999.0,9,  34.5710,2,     94.0,2,   101.14,2,  -999.00,9,    38.64,2,     0.00,2,     2.75,2, -999.000,9, -999.000,9,  -999.00,9,   -999.0,9,   -999.0,9,-999.0000,9,   -999.0,  9,     7.61,2,   -999.0,  -999.00,9,  -999.00,9,  -999.00,9,  -999.00,9,   -999.0,-999.0000, -999,9, 1250,   3.7428,  27.4722,   -999.0,9
       KS04-01,  137E,KS-0925,  1,      6,02-16012,2,20040201,1808,  5.0183, 137.0038, 4845,   1512.9,   3.0955,  34.5959,2,   -999.0,9,  34.5946,2,    102.0,2,   115.61,2,  -999.00,9,    38.64,2,     0.00,2,     2.74,2, -999.000,9, -999.000,9,  -999.00,9,   -999.0,9,   -999.0,9,-999.0000,9,   -999.0,  9,     7.63,2,   -999.0,  -999.00,9,  -999.00,9,  -999.00,9,  -999.00,9,   -999.0,-999.0000, -999,9, 1499,   2.9854,  27.5639,   -999.0,9
       KS04-01,  137E,KS-0925,  1,      5,02-16011,2,20040201,1758,  5.0183, 137.0038, 4845,   2020.5,   2.1839,  34.6393,2,   -999.0,9,  34.6382,2,    117.0,2,   133.12,2,  -999.00,9,    38.24,2,     0.00,2,     2.69,2, -999.000,9, -999.000,9,  -999.00,9,   -999.0,9,   -999.0,9,-999.0000,9,   -999.0,  9,     7.65,2,   -999.0,  -999.00,9,  -999.00,9,  -999.00,9,  -999.00,9,   -999.0,-999.0000, -999,9, 2000,   2.0429,  27.6793,   -999.0,9
       KS04-01,  137E,KS-0925,  1,      4,02-16010,4,20040201,1748,  5.0183, 137.0038, 4845,   2528.6,   1.7991,  34.6602,2,   -999.0,9,  34.5341,4,     94.0,4,    60.77,4,  -999.00,9,    36.49,4,     0.00,4,     2.58,4, -999.000,9, -999.000,9,  -999.00,9,   -999.0,9,   -999.0,9,-999.0000,9,   -999.0,  9,     7.64,4,   -999.0,  -999.00,9,  -999.00,9,  -999.00,9,  -999.00,9,   -999.0,-999.0000, -999,9, 2500,   1.6200,  27.7286,   -999.0,9
       KS04-01,  137E,KS-0925,  1,      3,02-16009,2,20040201,1737,  5.0183, 137.0038, 4845,   3037.8,   1.6101,  34.6730,2,   -999.0,9,  34.6653,4,    138.0,2,   139.97,2,  -999.00,9,    36.97,2,     0.00,2,     2.58,2, -999.000,9, -999.000,9,  -999.00,9,   -999.0,9,   -999.0,9,-999.0000,9,   -999.0,  9,     7.68,2,   -999.0,  -999.00,9,  -999.00,9,  -999.00,9,  -999.00,9,   -999.0,-999.0000, -999,9, 2999,   1.3873,  27.7559,   -999.0,9
       KS04-01,  137E,KS-0925,  1,      2,02-16008,2,20040201,1718,  5.0183, 137.0038, 4845,   4060.7,   1.5173,  34.6869,2,   -999.0,9,  34.6851,2,    157.0,2,   137.92,2,  -999.00,9,    35.81,2,     0.00,2,     2.46,2, -999.000,9, -999.000,9,  -999.00,9,   -999.0,9,   -999.0,9,-999.0000,9,   -999.0,  9,     7.70,2,   -999.0,  -999.00,9,  -999.00,9,  -999.00,9,  -999.00,9,   -999.0,-999.0000, -999,9, 4000,   1.1913,  27.7808,   -999.0,9
       KS04-01,  137E,KS-0925,  1,      1,02-16007,2,20040201,1703,  5.0183, 137.0038, 4845,   4886.7,   1.5530,  34.6907,2,   -999.0,9,  34.6889,2,    162.0,2,   135.02,2,  -999.00,9,    35.42,2,     0.00,2,     2.44,2, -999.000,9, -999.000,9,  -999.00,9,   -999.0,9,   -999.0,9,-999.0000,9,   -999.0,  9,     7.71,2,   -999.0,  -999.00,9,  -999.00,9,  -999.00,9,  -999.00,9,   -999.0,-999.0000, -999,9, 4805,   1.1307,  27.7880,   -999.0,9