BOTTLE,20130510GEMDJMAYT
EXPOCODE,SECT_ID,STNNBR,CASTNO,SAMPNO,BTLNBR,BTLNBR_FLAG_W,DATE,TIME,LATITUDE,LONGITUDE,DEPTH,CTDPRS,CTDTMP,CTDSAL,CTDSAL_FLAG_W,CTDOXY,CTDOXY_FLAG_W,SALNTY,SALNTY_FLAG_W,OXYGEN,OXYGEN_FLAG_W,SILCAT,SILCAT_FLAG_W,NITRAT,NITRAT_FLAG_W,NO2+NO3,NO2+NO3_FLAG_W,NITRIT,NITRIT_FLAG_W,PHSPHT,PHSPHT_FLAG_W,CFC-11,CFC-11_FLAG_W,CFC-12,CFC-12_FLAG_W,DELC13,DELC13_FLAG_W,TCARBN,TCARBN_FLAG_W,ALKALI,ALKALI_FLAG_W,PH,PH_FLAG_W,PH_TMP,PH_SCALE,PH_NBS,PH_NBS_FLAG_W,C13ERR,TOTALP,TOTALP_FLAG_W,AMMONI,AMMONI_FLAG_W,CHLORA,CHLORA_FLAG_W,PPHYTN,PPHYTN_FLAG_W,REVPRS,REVTMP,DEPTH_,DEPTH_FLAG,CTDDEP,THETA,SIGTHT,DOC,DOC_FLAG_W
,,,,,,,GMT,GMT,,,METER,DBAR,ITS-90,PSS-78,,UMOL/KG,,PSS-78,,UMOL/KG,,UMOL/KG,,UMOL/KG,,UMOL/KG,,UMOL/KG,,UMOL/KG,,PMOL/KG,,PMOL/KG,,/MILLE,,UMOL/KG,,UMOL/KG,,25_DEG_C,,DEG_C,,,,/MILLE,UMOL/KG,,UMOL/KG,,UG/L,,UG/L,,DBAR,ITS-90,METERS,,METERS,DEG_C,,UMOL/L,
       KS04-01,  137E,KS-0895,  1,     24,02-16030,2,20040123,0115, 31.9877, 137.0208, 4171,      5.4,  20.1102,  34.8694,2,   -999.0,9,  34.8711,2,    223.0,2,     1.82,2,  -999.00,9,     0.68,2,  -999.00,4,     0.06,2, -999.000,9, -999.000,9,  -999.00,9,   1979.0,6,   -999.0,9,   8.0591,2,     25.0, TS,  -999.00,9,   -999.0,  -999.00,9,  -999.00,9,     0.28,2,     0.22,2,   -999.0,-999.0000, -999,9,    5,  20.1092,  24.6333,   -999.0,9
       KS04-01,  137E,KS-0895,  1,     23,02-16029,2,20040123,0108, 31.9877, 137.0208, 4171,      9.9,  20.0955,  34.8705,2,   -999.0,9,-999.0000,9,    221.0,2,     1.80,2,  -999.00,9,     0.68,2,  -999.00,4,     0.06,2, -999.000,9, -999.000,9,  -999.00,9,   -999.0,9,   -999.0,9,-999.0000,9,   -999.0,  9,  -999.00,9,   -999.0,  -999.00,9,  -999.00,9,     0.32,2,     0.24,2,   -999.0,-999.0000, -999,9,   10,  20.0937,  24.6382,   -999.0,9
       KS04-01,  137E,KS-0895,  1,     22,02-16028,4,20040123,0106, 31.9877, 137.0208, 4171,     27.1,  20.1048,  34.8700,2,   -999.0,9,-999.0000,9,   -999.0,9,  -999.00,9,  -999.00,9,  -999.00,9,  -999.00,9,  -999.00,9, -999.000,9, -999.000,9,  -999.00,9,   -999.0,9,   -999.0,9,-999.0000,9,   -999.0,  9,  -999.00,9,   -999.0,  -999.00,9,  -999.00,9,  -999.00,9,  -999.00,9,   -999.0,-999.0000, -999,9,   27,  20.0998,  24.6363,   -999.0,9
       KS04-01,  137E,KS-0895,  1,     21,02-16027,2,20040123,0104, 31.9877, 137.0208, 4171,     51.0,  20.1151,  34.8689,2,   -999.0,9,-999.0000,9,    222.0,2,     1.79,2,  -999.00,9,     0.68,2,  -999.00,4,     0.06,2, -999.000,9, -999.000,9,  -999.00,9,   -999.0,9,   -999.0,9,-999.0000,9,   -999.0,  9,  -999.00,9,   -999.0,  -999.00,9,  -999.00,9,     0.33,2,     0.22,2,   -999.0,-999.0000, -999,9,   51,  20.1057,  24.6339,   -999.0,9
       KS04-01,  137E,KS-0895,  1,     20,02-16026,2,20040123,0103, 31.9877, 137.0208, 4171,     74.1,  20.1159,  34.8694,2,   -999.0,9,-999.0000,9,    221.0,2,     1.78,2,  -999.00,9,     0.68,2,  -999.00,4,     0.06,2, -999.000,9, -999.000,9,  -999.00,9,   -999.0,9,   -999.0,9,-999.0000,9,   -999.0,  9,  -999.00,9,   -999.0,  -999.00,9,  -999.00,9,     0.32,2,     0.25,2,   -999.0,-999.0000, -999,9,   74,  20.1022,  24.6351,   -999.0,9
       KS04-01,  137E,KS-0895,  1,     19,02-16025,2,20040123,0058, 31.9877, 137.0208, 4171,    101.0,  19.8683,  34.8632,2,   -999.0,9,  34.8642,2,    221.0,2,     1.82,2,  -999.00,9,     0.78,2,  -999.00,4,     0.07,2, -999.000,9, -999.000,9,  -999.00,9,   -999.0,9,   -999.0,9,-999.0000,9,   -999.0,  9,  -999.00,9,   -999.0,  -999.00,9,  -999.00,9,     0.22,2,     0.19,2,   -999.0,-999.0000, -999,9,  100,  19.8497,  24.6968,   -999.0,9
       KS04-01,  137E,KS-0895,  1,     18,02-16024,2,20040123,0057, 31.9877, 137.0208, 4171,    125.8,  19.8165,  34.8605,2,   -999.0,9,-999.0000,9,    220.0,2,     1.85,2,  -999.00,9,     0.78,2,  -999.00,4,     0.07,2, -999.000,9, -999.000,9,  -999.00,9,   -999.0,9,   -999.0,9,-999.0000,9,   -999.0,  9,  -999.00,9,   -999.0,  -999.00,9,  -999.00,9,     0.19,2,     0.20,2,   -999.0,-999.0000, -999,9,  125,  19.7934,  24.7096,   -999.0,9
       KS04-01,  137E,KS-0895,  1,     17,02-16023,2,20040123,0056, 31.9877, 137.0208, 4171,    151.1,  19.7610,  34.8580,2,   -999.0,9,-999.0000,9,    220.0,2,     1.89,2,  -999.00,9,     0.88,2,  -999.00,4,     0.07,2, -999.000,9, -999.000,9,  -999.00,9,   -999.0,9,   -999.0,9,-999.0000,9,   -999.0,  9,  -999.00,9,   -999.0,  -999.00,9,  -999.00,9,     0.14,2,     0.15,2,   -999.0,-999.0000, -999,9,  150,  19.7333,  24.7234,   -999.0,9
       KS04-01,  137E,KS-0895,  1,     16,02-16022,2,20040123,0055, 31.9877, 137.0208, 4171,    202.3,  19.2628,  34.8423,2,   -999.0,9,  34.8446,2,    206.0,2,     2.69,2,  -999.00,9,     2.54,2,  -999.00,4,     0.18,2, -999.000,9, -999.000,9,  -999.00,9,   -999.0,9,   -999.0,9,-999.0000,9,   -999.0,  9,  -999.00,9,   -999.0,  -999.00,9,  -999.00,9,     0.03,2,     0.05,2,   -999.0,-999.0000, -999,9,  201,  19.2264,  24.8427,   -999.0,9
       KS04-01,  137E,KS-0895,  1,     15,02-16021,2,20040123,0052, 31.9877, 137.0208, 4171,    252.1,  18.0679,  34.7936,2,   -999.0,9,-999.0000,9,    203.0,2,     3.65,2,  -999.00,9,     4.10,2,  -999.00,4,     0.27,2, -999.000,9, -999.000,9,  -999.00,9,   -999.0,9,   -999.0,9,-999.0000,9,   -999.0,  9,  -999.00,9,   -999.0,  -999.00,9,  -999.00,9,     0.00,2,     0.02,2,   -999.0,-999.0000, -999,9,  250,  18.0245,  25.1079,   -999.0,9
       KS04-01,  137E,KS-0895,  1,     14,02-16020,2,20040123,0050, 31.9877, 137.0208, 4171,    301.8,  17.3927,  34.7563,2,   -999.0,9,  34.7589,2,    204.0,2,     4.45,2,  -999.00,9,     5.07,2,  -999.00,4,     0.32,2, -999.000,9, -999.000,9,  -999.00,9,   -999.0,9,   -999.0,9,-999.0000,9,   -999.0,  9,  -999.00,9,   -999.0,  -999.00,9,  -999.00,9,     0.00,2,     0.01,2,   -999.0,-999.0000, -999,9,  300,  17.3420,  25.2455,   -999.0,9
       KS04-01,  137E,KS-0895,  1,     13,02-16019,2,20040123,0048, 31.9877, 137.0208, 4171,    404.1,  16.2944,  34.7034,2,   -999.0,9,  34.7085,2,    204.0,2,     6.47,2,  -999.00,9,     6.63,2,  -999.00,4,     0.44,2, -999.000,9, -999.000,9,  -999.00,9,   -999.0,9,   -999.0,9,-999.0000,9,   -999.0,  9,  -999.00,9,   -999.0,  -999.00,9,  -999.00,9,  -999.00,9,  -999.00,9,   -999.0,-999.0000, -999,9,  401,  16.2294,  25.4668,   -999.0,9
       KS04-01,  137E,KS-0895,  1,     12,02-16018,2,20040123,0046, 31.9877, 137.0208, 4171,    506.2,  13.9336,  34.5280,2,   -999.0,9,  34.5305,2,    181.0,2,    14.68,2,  -999.00,9,    12.48,2,  -999.00,4,     0.85,2, -999.000,9, -999.000,9,  -999.00,9,   -999.0,9,   -999.0,9,-999.0000,9,   -999.0,  9,  -999.00,9,   -999.0,  -999.00,9,  -999.00,9,  -999.00,9,  -999.00,9,   -999.0,-999.0000, -999,9,  502,  13.8602,  25.8515,   -999.0,9
       KS04-01,  137E,KS-0895,  1,     11,02-16017,2,20040123,0044, 31.9877, 137.0208, 4171,    605.5,  11.0950,  34.3442,2,   -999.0,9,  34.3458,2,    166.0,2,    26.84,2,  -999.00,9,    18.32,2,  -999.00,4,     1.29,2, -999.000,9, -999.000,9,  -999.00,9,   -999.0,9,   -999.0,9,-999.0000,9,   -999.0,  9,  -999.00,9,   -999.0,  -999.00,9,  -999.00,9,  -999.00,9,  -999.00,9,   -999.0,-999.0000, -999,9,  600,  11.0191,  26.2614,   -999.0,9
       KS04-01,  137E,KS-0895,  1,     10,02-16016,3,20040123,0041, 31.9877, 137.0208, 4171,    707.3,   8.8490,  34.2434,2,   -999.0,9,  34.2491,4,    142.0,2,    43.89,2,  -999.00,9,    24.35,2,  -999.00,4,     1.74,2, -999.000,9, -999.000,9,  -999.00,9,   -999.0,9,   -999.0,9,-999.0000,9,   -999.0,  9,  -999.00,9,   -999.0,  -999.00,9,  -999.00,9,  -999.00,9,  -999.00,9,   -999.0,-999.0000, -999,9,  701,   8.7715,  26.5618,   -999.0,9
       KS04-01,  137E,KS-0895,  1,      9,02-16015,2,20040123,0038, 31.9877, 137.0208, 4171,    809.0,   6.7601,  34.2821,2,   -999.0,9,  34.2852,2,    106.0,2,    70.82,2,  -999.00,9,    31.55,2,  -999.00,4,     2.26,2, -999.000,9, -999.000,9,  -999.00,9,   -999.0,9,   -999.0,9,-999.0000,9,   -999.0,  9,  -999.00,9,   -999.0,  -999.00,9,  -999.00,9,  -999.00,9,  -999.00,9,   -999.0,-999.0000, -999,9,  802,   6.6833,  26.8963,   -999.0,9
       KS04-01,  137E,KS-0895,  1,      8,02-16014,2,20040123,0036, 31.9877, 137.0208, 4171,    909.2,   5.1493,  34.2859,2,   -999.0,9,  34.2840,2,     81.0,2,    90.71,2,  -999.00,9,    36.12,2,  -999.00,4,     2.60,2, -999.000,9, -999.000,9,  -999.00,9,   -999.0,9,   -999.0,9,-999.0000,9,   -999.0,  9,  -999.00,9,   -999.0,  -999.00,9,  -999.00,9,  -999.00,9,  -999.00,9,   -999.0,-999.0000, -999,9,  901,   5.0734,  27.1006,   -999.0,9
       KS04-01,  137E,KS-0895,  1,      7,02-17642,9,20040123,0034, 31.9877, 137.0208, 4171,   1010.1,   4.2405,  34.3454,2,   -999.0,9,-999.0000,9,   -999.0,9,  -999.00,9,  -999.00,9,  -999.00,9,  -999.00,9,  -999.00,9, -999.000,9, -999.000,9,  -999.00,9,   -999.0,9,   -999.0,9,-999.0000,9,   -999.0,  9,  -999.00,9,   -999.0,  -999.00,9,  -999.00,9,  -999.00,9,  -999.00,9,   -999.0,-999.0000, -999,9, 1001,   4.1624,  27.2485,   -999.0,9
       KS04-01,  137E,KS-0895,  1,      6,02-16012,2,20040123,0034, 31.9877, 137.0208, 4171,   1010.3,   4.2395,  34.3460,2,   -999.0,9,  34.3456,2,     70.0,2,   106.01,2,  -999.00,9,    38.35,2,  -999.00,4,     2.77,2, -999.000,9, -999.000,9,  -999.00,9,   -999.0,9,   -999.0,9,-999.0000,9,   -999.0,  9,  -999.00,9,   -999.0,  -999.00,9,  -999.00,9,  -999.00,9,  -999.00,9,   -999.0,-999.0000, -999,9, 1001,   4.1614,  27.2491,   -999.0,9
       KS04-01,  137E,KS-0895,  1,      5,02-16011,2,20040123,0029, 31.9877, 137.0208, 4171,   1262.3,   3.2128,  34.4516,2,   -999.0,9,  34.4516,2,     71.0,2,   126.02,2,  -999.00,9,    39.91,2,  -999.00,4,     2.85,2, -999.000,9, -999.000,9,  -999.00,9,   -999.0,9,   -999.0,9,-999.0000,9,   -999.0,  9,  -999.00,9,   -999.0,  -999.00,9,  -999.00,9,  -999.00,9,  -999.00,9,   -999.0,-999.0000, -999,9, 1250,   3.1226,  27.4360,   -999.0,9
       KS04-01,  137E,KS-0895,  1,      4,02-16010,2,20040123,0023, 31.9877, 137.0208, 4171,   1517.2,   2.6606,  34.5178,2,   -999.0,9,  34.5180,2,     82.0,2,   134.20,2,  -999.00,9,    39.71,2,  -999.00,4,     2.83,2, -999.000,9, -999.000,9,  -999.00,9,   -999.0,9,   -999.0,9,-999.0000,9,   -999.0,  9,  -999.00,9,   -999.0,  -999.00,9,  -999.00,9,  -999.00,9,  -999.00,9,   -999.0,-999.0000, -999,9, 1501,   2.5554,  27.5396,   -999.0,9
       KS04-01,  137E,KS-0895,  1,      3,02-16009,2,20040123,0019, 31.9877, 137.0208, 4171,   1770.9,   2.2972,  34.5639,2,   -999.0,9,  34.5629,2,     93.0,2,   138.17,2,  -999.00,9,    39.12,2,  -999.00,4,     2.78,2, -999.000,9, -999.000,9,  -999.00,9,   -999.0,9,   -999.0,9,-999.0000,9,   -999.0,  9,  -999.00,9,   -999.0,  -999.00,9,  -999.00,9,  -999.00,9,  -999.00,9,   -999.0,-999.0000, -999,9, 1751,   2.1757,  27.6082,   -999.0,9
       KS04-01,  137E,KS-0895,  1,      2,02-16008,9,20040123,0010, 31.9877, 137.0208, 4171,   2025.2,   2.0402,  34.5997,2,   -999.0,9,-999.0000,9,   -999.0,9,  -999.00,9,  -999.00,9,  -999.00,9,  -999.00,9,  -999.00,9, -999.000,9, -999.000,9,  -999.00,9,   -999.0,9,   -999.0,9,-999.0000,9,   -999.0,  9,  -999.00,9,   -999.0,  -999.00,9,  -999.00,9,  -999.00,9,  -999.00,9,   -999.0,-999.0000, -999,9, 2001,   1.9011,  27.6588,   -999.0,9
       KS04-01,  137E,KS-0895,  1,      1,02-16007,2,20040123,0010, 31.9877, 137.0208, 4171,   2024.1,   2.0398,  34.5997,2,   -999.0,9,  34.5981,2,    107.0,2,   138.54,2,  -999.00,9,    38.24,2,  -999.00,4,     2.71,2, -999.000,9, -999.000,9,  -999.00,9,   -999.0,9,   -999.0,9,-999.0000,9,   -999.0,  9,  -999.00,9,   -999.0,  -999.00,9,  -999.00,9,  -999.00,9,  -999.00,9,   -999.0,-999.0000, -999,9, 2000,   1.9008,  27.6588,   -999.0,9