BOTTLE,20130510GEMDJMAYT
EXPOCODE,SECT_ID,STNNBR,CASTNO,SAMPNO,BTLNBR,BTLNBR_FLAG_W,DATE,TIME,LATITUDE,LONGITUDE,DEPTH,CTDPRS,CTDTMP,CTDSAL,CTDSAL_FLAG_W,CTDOXY,CTDOXY_FLAG_W,SALNTY,SALNTY_FLAG_W,OXYGEN,OXYGEN_FLAG_W,SILCAT,SILCAT_FLAG_W,NITRAT,NITRAT_FLAG_W,NO2+NO3,NO2+NO3_FLAG_W,NITRIT,NITRIT_FLAG_W,PHSPHT,PHSPHT_FLAG_W,CFC-11,CFC-11_FLAG_W,CFC-12,CFC-12_FLAG_W,DELC13,DELC13_FLAG_W,TCARBN,TCARBN_FLAG_W,ALKALI,ALKALI_FLAG_W,PH,PH_FLAG_W,PH_TMP,PH_SCALE,PH_NBS,PH_NBS_FLAG_W,C13ERR,TOTALP,TOTALP_FLAG_W,AMMONI,AMMONI_FLAG_W,CHLORA,CHLORA_FLAG_W,PPHYTN,PPHYTN_FLAG_W,REVPRS,REVTMP,DEPTH_,DEPTH_FLAG,CTDDEP,THETA,SIGTHT,DOC,DOC_FLAG_W
,,,,,,,GMT,GMT,,,METER,DBAR,ITS-90,PSS-78,,UMOL/KG,,PSS-78,,UMOL/KG,,UMOL/KG,,UMOL/KG,,UMOL/KG,,UMOL/KG,,UMOL/KG,,PMOL/KG,,PMOL/KG,,/MILLE,,UMOL/KG,,UMOL/KG,,25_DEG_C,,DEG_C,,,,/MILLE,UMOL/KG,,UMOL/KG,,UG/L,,UG/L,,DBAR,ITS-90,METERS,,METERS,DEG_C,,UMOL/L,
       KS04-01,  137E,KS-0910,  1,     24,02-16030,2,20040127,1531, 19.9907, 136.9952, 4815,      4.7,  25.2880,  34.7286,2,   -999.0,9,  34.7288,2,    207.0,2,     1.04,2,  -999.00,9,     0.00,2,     0.00,2,     0.01,2, -999.000,9, -999.000,9,  -999.00,9,   1938.0,3,   -999.0,9,   8.1082,2,     25.0, TS,  -999.00,9,   -999.0,  -999.00,9,  -999.00,9,     0.12,2,     0.07,2,   -999.0,-999.0000, -999,9,    5,  25.2870,  23.0486,     47.3,2
       KS04-01,  137E,KS-0910,  1,     23,02-16029,2,20040127,1530, 19.9907, 136.9952, 4815,     10.4,  25.2896,  34.7281,2,   -999.0,9,-999.0000,9,    207.0,2,     1.03,2,  -999.00,9,     0.00,2,     0.00,2,     0.01,2, -999.000,9, -999.000,9,  -999.00,9,   1938.8,2,   -999.0,9,   8.1100,2,     25.0, TS,  -999.00,9,   -999.0,  -999.00,9,  -999.00,9,     0.13,2,     0.07,2,   -999.0,-999.0000, -999,9,   10,  25.2873,  23.0482,     76.4,2
       KS04-01,  137E,KS-0910,  1,     22,02-16028,2,20040127,1529, 19.9907, 136.9952, 4815,     25.9,  25.2982,  34.7277,2,   -999.0,9,-999.0000,9,    207.0,2,     1.03,2,  -999.00,9,     0.00,2,     0.00,2,     0.01,2, -999.000,9, -999.000,9,  -999.00,9,   1939.6,2,   -999.0,9,   8.1097,2,     25.0, TS,  -999.00,9,   -999.0,  -999.00,9,  -999.00,9,     0.12,2,     0.07,2,   -999.0,-999.0000, -999,9,   26,  25.2925,  23.0463,     77.1,2
       KS04-01,  137E,KS-0910,  1,     21,02-16027,2,20040127,1526, 19.9907, 136.9952, 4815,     49.7,  25.2998,  34.7286,2,   -999.0,9,-999.0000,9,    206.0,2,     1.02,2,  -999.00,9,     0.00,2,     0.00,2,     0.01,2, -999.000,9, -999.000,9,  -999.00,9,   1940.1,2,   -999.0,9,   8.1055,2,     25.0, TS,  -999.00,9,   -999.0,  -999.00,9,  -999.00,9,     0.13,2,     0.07,2,   -999.0,-999.0000, -999,9,   49,  25.2890,  23.0480,     71.5,2
       KS04-01,  137E,KS-0910,  1,     20,02-16026,2,20040127,1525, 19.9907, 136.9952, 4815,     75.0,  23.9790,  34.8915,2,   -999.0,9,-999.0000,9,    202.0,2,     1.32,2,  -999.00,9,     0.00,2,     0.05,2,     0.02,2, -999.000,9, -999.000,9,  -999.00,9,   1970.9,2,   -999.0,9,   8.0708,2,     25.0, TS,  -999.00,9,   -999.0,  -999.00,9,  -999.00,9,     0.19,2,     0.43,2,   -999.0,-999.0000, -999,9,   75,  23.9632,  23.5701,     63.1,2
       KS04-01,  137E,KS-0910,  1,     19,02-16025,2,20040127,1524, 19.9907, 136.9952, 4815,    100.2,  22.2227,  34.9777,2,   -999.0,9,  34.9829,4,    201.0,2,     1.62,2,  -999.00,9,     0.49,2,     0.14,2,     0.05,2, -999.000,9, -999.000,9,  -999.00,9,   1997.4,2,   -999.0,9,   8.0354,2,     25.0, TS,  -999.00,9,   -999.0,  -999.00,9,  -999.00,9,     0.08,2,     0.28,2,   -999.0,-999.0000, -999,9,  100,  22.2028,  24.1439,     53.5,2
       KS04-01,  137E,KS-0910,  1,     18,02-16024,2,20040127,1524, 19.9907, 136.9952, 4815,    125.7,  20.5781,  34.9081,2,   -999.0,9,-999.0000,9,    199.0,2,     1.97,2,  -999.00,9,     1.37,2,     0.03,2,     0.11,2, -999.000,9, -999.000,9,  -999.00,9,   2006.7,2,   -999.0,9,   8.0151,2,     25.0, TS,  -999.00,9,   -999.0,  -999.00,9,  -999.00,9,     0.05,2,     0.17,2,   -999.0,-999.0000, -999,9,  125,  20.5544,  24.5443,     45.6,2
       KS04-01,  137E,KS-0910,  1,     17,02-16023,2,20040127,1523, 19.9907, 136.9952, 4815,    151.1,  19.4754,  34.8701,2,   -999.0,9,-999.0000,9,    198.0,2,     2.37,2,  -999.00,9,     2.54,2,     0.01,2,     0.18,2, -999.000,9, -999.000,9,  -999.00,9,   2013.3,2,   -999.0,9,   7.9989,2,     25.0, TS,  -999.00,9,   -999.0,  -999.00,9,  -999.00,9,     0.03,2,     0.08,2,   -999.0,-999.0000, -999,9,  150,  19.4480,  24.8068,     52.8,2
       KS04-01,  137E,KS-0910,  1,     16,02-16022,2,20040127,1521, 19.9907, 136.9952, 4815,    201.6,  18.2168,  34.8081,2,   -999.0,9,  34.8096,2,    204.0,2,     3.07,2,  -999.00,9,     3.61,2,     0.01,2,     0.23,2, -999.000,9, -999.000,9,  -999.00,9,   2015.9,2,   -999.0,9,   7.9899,2,     25.0, TS,  -999.00,9,   -999.0,  -999.00,9,  -999.00,9,     0.00,2,     0.01,2,   -999.0,-999.0000, -999,9,  200,  18.1819,  25.0801,   -999.0,4
       KS04-01,  137E,KS-0910,  1,     15,02-16021,2,20040127,1520, 19.9907, 136.9952, 4815,    252.5,  17.5798,  34.7646,2,   -999.0,9,-999.0000,9,    202.0,2,     3.98,2,  -999.00,9,     4.58,2,     0.00,2,     0.29,2, -999.000,9, -999.000,9,  -999.00,9,   2025.0,2,   -999.0,9,   7.9721,2,     25.0, TS,  -999.00,9,   -999.0,  -999.00,9,  -999.00,9,     0.00,2,     0.01,2,   -999.0,-999.0000, -999,9,  251,  17.5371,  25.2048,     54.3,2
       KS04-01,  137E,KS-0910,  1,     14,02-16020,2,20040127,1518, 19.9907, 136.9952, 4815,    302.9,  16.6653,  34.7084,2,   -999.0,9,  34.7099,2,    199.0,2,     5.65,2,  -999.00,9,     6.24,2,     0.00,2,     0.40,2, -999.000,9, -999.000,9,  -999.00,9,   2042.8,2,   -999.0,9,   7.9449,6,     25.0, TS,  -999.00,9,   -999.0,  -999.00,9,  -999.00,9,     0.00,2,     0.01,2,   -999.0,-999.0000, -999,9,  301,  16.6160,  25.3809,     49.7,2
       KS04-01,  137E,KS-0910,  1,     13,02-16019,2,20040127,1516, 19.9907, 136.9952, 4815,    402.2,  13.3484,  34.4651,2,   -999.0,9,  34.4716,4,    186.0,2,    13.04,2,  -999.00,9,    12.28,2,     0.00,2,     0.84,2, -999.000,9, -999.000,9,  -999.00,9,   2083.1,2,   -999.0,9,   7.8392,2,     25.0, TS,  -999.00,9,   -999.0,  -999.00,9,  -999.00,9,  -999.00,9,  -999.00,9,   -999.0,-999.0000, -999,9,  399,  13.2920,  25.9197,     47.4,2
       KS04-01,  137E,KS-0910,  1,     12,02-16018,2,20040127,1513, 19.9907, 136.9952, 4815,    502.9,  10.3922,  34.2647,2,   -999.0,9,  34.2674,2,    167.0,2,    26.10,2,  -999.00,9,    19.29,2,     0.00,2,     1.34,2, -999.000,9, -999.000,9,  -999.00,9,   2132.3,2,   -999.0,9,   7.7268,2,     25.0, TS,  -999.00,9,   -999.0,  -999.00,9,  -999.00,9,  -999.00,9,  -999.00,9,   -999.0,-999.0000, -999,9,  499,  10.3320,  26.3208,     46.9,2
       KS04-01,  137E,KS-0910,  1,     11,02-16017,2,20040127,1511, 19.9907, 136.9952, 4815,    604.6,   7.6137,  34.1654,2,   -999.0,9,  34.1679,2,    117.0,2,    48.91,2,  -999.00,9,    28.83,2,     0.00,2,     2.06,2, -999.000,9, -999.000,9,  -999.00,9,   -999.0,9,   -999.0,9,   7.5676,2,     25.0, TS,  -999.00,9,   -999.0,  -999.00,9,  -999.00,9,  -999.00,9,  -999.00,9,   -999.0,-999.0000, -999,9,  600,   7.5534,  26.6836,     40.0,2
       KS04-01,  137E,KS-0910,  1,     10,02-16016,4,20040127,1507, 19.9907, 136.9952, 4815,    804.4,   4.9483,  34.2899,2,   -999.0,9,-999.0000,9,   -999.0,9,  -999.00,9,  -999.00,9,  -999.00,9,  -999.00,9,  -999.00,9, -999.000,9, -999.000,9,  -999.00,9,   -999.0,9,   -999.0,9,-999.0000,9,   -999.0,  9,  -999.00,9,   -999.0,  -999.00,9,  -999.00,9,  -999.00,9,  -999.00,9,   -999.0,-999.0000, -999,9,  798,   4.8830,  27.1256,   -999.0,4
       KS04-01,  137E,KS-0910,  1,      9,02-16015,2,20040127,1503, 19.9907, 136.9952, 4815,   1010.1,   3.7984,  34.4525,2,   -999.0,9,  34.4514,2,     69.0,2,   111.12,2,  -999.00,9,    39.52,2,     0.00,2,     2.83,2, -999.000,9, -999.000,9,  -999.00,9,   2325.5,3,   -999.0,9,   7.4489,2,     25.0, TS,  -999.00,9,   -999.0,  -999.00,9,  -999.00,9,  -999.00,9,  -999.00,9,   -999.0,-999.0000, -999,9, 1001,   3.7236,  27.3788,     38.3,2
       KS04-01,  137E,KS-0910,  1,      8,02-16014,9,20040127,1503, 19.9907, 136.9952, 4815,   1009.9,   3.7993,  34.4525,2,   -999.0,9,-999.0000,9,   -999.0,9,  -999.00,9,  -999.00,9,  -999.00,9,  -999.00,9,  -999.00,9, -999.000,9, -999.000,9,  -999.00,9,   -999.0,9,   -999.0,9,-999.0000,9,   -999.0,  9,  -999.00,9,   -999.0,  -999.00,9,  -999.00,9,  -999.00,9,  -999.00,9,   -999.0,-999.0000, -999,9, 1001,   3.7245,  27.3787,   -999.0,9
       KS04-01,  137E,KS-0910,  1,      7,02-17642,9,20040127,1502, 19.9907, 136.9952, 4815,   1010.1,   3.7966,  34.4519,2,   -999.0,9,-999.0000,9,   -999.0,9,  -999.00,9,  -999.00,9,  -999.00,9,  -999.00,9,  -999.00,9, -999.000,9, -999.000,9,  -999.00,9,   -999.0,9,   -999.0,9,-999.0000,9,   -999.0,  9,  -999.00,9,   -999.0,  -999.00,9,  -999.00,9,  -999.00,9,  -999.00,9,   -999.0,-999.0000, -999,9, 1001,   3.7218,  27.3784,   -999.0,9
       KS04-01,  137E,KS-0910,  1,      6,02-16012,2,20040127,1458, 19.9907, 136.9952, 4815,   1261.8,   3.0703,  34.5289,2,   -999.0,9,  34.5247,4,     81.0,2,   123.56,2,  -999.00,9,    39.03,2,     0.00,2,     2.78,2, -999.000,9, -999.000,9,  -999.00,9,   -999.0,9,   -999.0,9,-999.0000,9,   -999.0,  9,  -999.00,9,   -999.0,  -999.00,9,  -999.00,9,  -999.00,9,  -999.00,9,   -999.0,-999.0000, -999,9, 1250,   2.9813,  27.5107,   -999.0,9
       KS04-01,  137E,KS-0910,  1,      5,02-16011,2,20040127,1453, 19.9907, 136.9952, 4815,   1514.9,   2.5836,  34.5783,2,   -999.0,9,  34.5777,2,     98.0,2,   131.26,2,  -999.00,9,    38.34,2,     0.00,2,     2.72,2, -999.000,9, -999.000,9,  -999.00,9,   -999.0,9,   -999.0,9,-999.0000,9,   -999.0,  9,  -999.00,9,   -999.0,  -999.00,9,  -999.00,9,  -999.00,9,  -999.00,9,   -999.0,-999.0000, -999,9, 1500,   2.4794,  27.5945,   -999.0,9
       KS04-01,  137E,KS-0910,  1,      4,02-16010,2,20040127,1444, 19.9907, 136.9952, 4815,   2020.0,   2.0476,  34.6252,2,   -999.0,9,  34.6244,2,    114.0,2,   137.18,2,  -999.00,9,    37.75,2,     0.00,2,     2.66,2, -999.000,9, -999.000,9,  -999.00,9,   -999.0,9,   -999.0,9,-999.0000,9,   -999.0,  9,  -999.00,9,   -999.0,  -999.00,9,  -999.00,9,  -999.00,9,  -999.00,9,   -999.0,-999.0000, -999,9, 1998,   1.9088,  27.6786,   -999.0,9
       KS04-01,  137E,KS-0910,  1,      3,02-16009,2,20040127,1424, 19.9907, 136.9952, 4815,   3039.8,   1.6456,  34.6665,2,   -999.0,9,  34.6641,2,    141.0,2,   138.10,2,  -999.00,9,    36.49,2,     0.00,2,     2.55,2, -999.000,9, -999.000,9,  -999.00,9,   -999.0,9,   -999.0,9,-999.0000,9,   -999.0,  9,  -999.00,9,   -999.0,  -999.00,9,  -999.00,9,  -999.00,9,  -999.00,9,   -999.0,-999.0000, -999,9, 3000,   1.4218,  27.7482,   -999.0,9
       KS04-01,  137E,KS-0910,  1,      2,02-16008,2,20040127,1405, 19.9907, 136.9952, 4815,   4062.6,   1.5274,  34.6844,2,   -999.0,9,  34.6832,2,    156.0,2,   136.30,2,  -999.00,9,    35.42,2,     0.00,2,     2.46,2, -999.000,9, -999.000,9,  -999.00,9,   -999.0,9,   -999.0,9,-999.0000,9,   -999.0,  9,  -999.00,9,   -999.0,  -999.00,9,  -999.00,9,  -999.00,9,  -999.00,9,   -999.0,-999.0000, -999,9, 4000,   1.2009,  27.7782,   -999.0,9
       KS04-01,  137E,KS-0910,  1,      1,02-16007,2,20040127,1348, 19.9907, 136.9952, 4815,   4834.9,   1.5790,  34.6873,2,   -999.0,9,  34.6863,2,    160.0,2,   132.95,2,  -999.00,9,    35.12,2,     0.00,2,     2.44,2, -999.000,9, -999.000,9,  -999.00,9,   -999.0,9,   -999.0,9,-999.0000,9,   -999.0,  9,  -999.00,9,   -999.0,  -999.00,9,  -999.00,9,  -999.00,9,  -999.00,9,   -999.0,-999.0000, -999,9, 4752,   1.1621,  27.7832,   -999.0,9