BOTTLE,20130510GEMDJMAYT
EXPOCODE,SECT_ID,STNNBR,CASTNO,SAMPNO,BTLNBR,BTLNBR_FLAG_W,DATE,TIME,LATITUDE,LONGITUDE,DEPTH,CTDPRS,CTDTMP,CTDSAL,CTDSAL_FLAG_W,CTDOXY,CTDOXY_FLAG_W,SALNTY,SALNTY_FLAG_W,OXYGEN,OXYGEN_FLAG_W,SILCAT,SILCAT_FLAG_W,NITRAT,NITRAT_FLAG_W,NO2+NO3,NO2+NO3_FLAG_W,NITRIT,NITRIT_FLAG_W,PHSPHT,PHSPHT_FLAG_W,CFC-11,CFC-11_FLAG_W,CFC-12,CFC-12_FLAG_W,DELC13,DELC13_FLAG_W,TCARBN,TCARBN_FLAG_W,ALKALI,ALKALI_FLAG_W,PH,PH_FLAG_W,PH_TMP,PH_SCALE,PH_NBS,PH_NBS_FLAG_W,C13ERR,TOTALP,TOTALP_FLAG_W,AMMONI,AMMONI_FLAG_W,CHLORA,CHLORA_FLAG_W,PPHYTN,PPHYTN_FLAG_W,REVPRS,REVTMP,DEPTH_,DEPTH_FLAG,CTDDEP,THETA,SIGTHT,DOC,DOC_FLAG_W
,,,,,,,GMT,GMT,,,METER,DBAR,ITS-90,PSS-78,,UMOL/KG,,PSS-78,,UMOL/KG,,UMOL/KG,,UMOL/KG,,UMOL/KG,,UMOL/KG,,UMOL/KG,,PMOL/KG,,PMOL/KG,,/MILLE,,UMOL/KG,,UMOL/KG,,25_DEG_C,,DEG_C,,,,/MILLE,UMOL/KG,,UMOL/KG,,UG/L,,UG/L,,DBAR,ITS-90,METERS,,METERS,DEG_C,,UMOL/L,
       KS04-01,  137E,KS-0900,  1,     24,02-16030,2,20040124,0116, 29.9895, 137.0337, 4485,      5.7,  19.4625,  34.8552,2,   -999.0,9,  34.8566,2,    221.0,2,     2.20,2,  -999.00,9,     1.07,2,     0.22,2,     0.08,2, -999.000,9, -999.000,9,  -999.00,9,   1987.0,2,   -999.0,9,   8.0452,2,     25.0, TS,     8.15,2,   -999.0,  -999.00,9,  -999.00,9,     0.20,2,     0.17,2,   -999.0,-999.0000, -999,9,    6,  19.4615,  24.7919,     65.1,2
       KS04-01,  137E,KS-0900,  1,     23,02-16029,2,20040124,0115, 29.9895, 137.0337, 4485,     10.8,  19.4732,  34.8559,2,   -999.0,9,-999.0000,9,    222.0,2,     2.17,2,  -999.00,9,     1.07,2,     0.21,2,     0.08,2, -999.000,9, -999.000,9,  -999.00,9,   1983.9,2,   -999.0,9,   8.0455,2,     25.0, TS,     8.15,2,   -999.0,  -999.00,9,  -999.00,9,     0.25,2,     0.21,2,   -999.0,-999.0000, -999,9,   11,  19.4712,  24.7900,     58.1,2
       KS04-01,  137E,KS-0900,  1,     22,02-16028,4,20040124,0113, 29.9895, 137.0337, 4485,     25.5,  19.4739,  34.8559,2,   -999.0,9,-999.0000,9,   -999.0,9,  -999.00,9,  -999.00,9,  -999.00,9,  -999.00,9,  -999.00,9, -999.000,9, -999.000,9,  -999.00,9,   -999.0,9,   -999.0,9,-999.0000,9,   -999.0,  9,  -999.00,9,   -999.0,  -999.00,9,  -999.00,9,  -999.00,9,  -999.00,9,   -999.0,-999.0000, -999,9,   25,  19.4693,  24.7904,   -999.0,9
       KS04-01,  137E,KS-0900,  1,     21,02-16027,2,20040124,0109, 29.9895, 137.0337, 4485,     50.9,  19.4654,  34.8584,2,   -999.0,9,-999.0000,9,    222.0,2,     2.20,2,  -999.00,9,     1.17,2,     0.23,2,     0.09,2, -999.000,9, -999.000,9,  -999.00,9,   1987.9,2,   -999.0,9,   8.0435,2,     25.0, TS,     8.16,2,   -999.0,  -999.00,9,  -999.00,9,     0.23,2,     0.19,2,   -999.0,-999.0000, -999,9,   51,  19.4562,  24.7957,     56.6,2
       KS04-01,  137E,KS-0900,  1,     20,02-16026,2,20040124,0108, 29.9895, 137.0337, 4485,     75.0,  19.4613,  34.8586,2,   -999.0,9,-999.0000,9,    221.0,2,     2.22,2,  -999.00,9,     1.17,2,     0.24,2,     0.09,2, -999.000,9, -999.000,9,  -999.00,9,   1988.1,2,   -999.0,9,   8.0439,2,     25.0, TS,     8.15,2,   -999.0,  -999.00,9,  -999.00,9,     0.19,2,     0.18,2,   -999.0,-999.0000, -999,9,   74,  19.4477,  24.7981,     59.1,2
       KS04-01,  137E,KS-0900,  1,     19,02-16025,2,20040124,0107, 29.9895, 137.0337, 4485,    100.8,  19.4640,  34.8587,2,   -999.0,9,  34.8603,2,    221.0,2,     2.20,2,  -999.00,9,     1.17,2,     0.24,2,     0.09,2, -999.000,9, -999.000,9,  -999.00,9,   1989.5,2,   -999.0,9,   8.0438,2,     25.0, TS,     8.16,2,   -999.0,  -999.00,9,  -999.00,9,     0.23,2,     0.19,2,   -999.0,-999.0000, -999,9,  100,  19.4458,  24.7987,     60.3,2
       KS04-01,  137E,KS-0900,  1,     18,02-16024,2,20040124,0106, 29.9895, 137.0337, 4485,    125.9,  19.4662,  34.8584,2,   -999.0,9,-999.0000,9,    222.0,2,     2.22,2,  -999.00,9,     1.17,2,     0.24,2,     0.09,2, -999.000,9, -999.000,9,  -999.00,9,   1988.4,2,   -999.0,9,   8.0426,2,     25.0, TS,     8.15,2,   -999.0,  -999.00,9,  -999.00,9,     0.19,2,     0.17,2,   -999.0,-999.0000, -999,9,  125,  19.4434,  24.7990,     57.3,2
       KS04-01,  137E,KS-0900,  1,     17,02-16023,2,20040124,0105, 29.9895, 137.0337, 4485,    152.6,  19.4601,  34.8576,2,   -999.0,9,-999.0000,9,    221.0,2,     2.24,2,  -999.00,9,     1.27,2,     0.25,2,     0.10,2, -999.000,9, -999.000,9,  -999.00,9,   1988.8,2,   -999.0,9,   8.0420,2,     25.0, TS,     8.15,2,   -999.0,  -999.00,9,  -999.00,9,     0.00,2,     0.02,2,   -999.0,-999.0000, -999,9,  152,  19.4325,  24.8013,     58.0,2
       KS04-01,  137E,KS-0900,  1,     16,02-16022,2,20040124,0104, 29.9895, 137.0337, 4485,    201.8,  18.2987,  34.7937,2,   -999.0,9,  34.7946,2,    199.0,2,     4.11,2,  -999.00,9,     4.29,2,     0.01,2,     0.28,2, -999.000,9, -999.000,9,  -999.00,9,   2023.8,3,   -999.0,9,   7.9819,2,     25.0, TS,     8.09,2,   -999.0,  -999.00,9,  -999.00,9,     0.00,2,     0.01,2,   -999.0,-999.0000, -999,9,  200,  18.2637,  25.0488,     50.3,2
       KS04-01,  137E,KS-0900,  1,     15,02-16021,2,20040124,0101, 29.9895, 137.0337, 4485,    251.3,  17.4664,  34.7600,2,   -999.0,9,-999.0000,9,    202.0,2,     4.49,2,  -999.00,9,     4.97,2,     0.01,2,     0.32,2, -999.000,9, -999.000,9,  -999.00,9,   2027.0,2,   -999.0,9,   7.9703,2,     25.0, TS,     8.08,2,   -999.0,  -999.00,9,  -999.00,9,     0.00,2,     0.01,2,   -999.0,-999.0000, -999,9,  249,  17.4241,  25.2285,     46.0,2
       KS04-01,  137E,KS-0900,  1,     14,02-16020,2,20040124,0059, 29.9895, 137.0337, 4485,    303.3,  16.6144,  34.7116,2,   -999.0,9,  34.7140,2,    198.0,2,     5.99,2,  -999.00,9,     6.53,2,     0.00,2,     0.43,2, -999.000,9, -999.000,9,  -999.00,9,   2039.5,6,   -999.0,9,   7.9449,6,     25.0, TS,     8.05,2,   -999.0,  -999.00,9,  -999.00,9,     0.02,2,     0.04,2,   -999.0,-999.0000, -999,9,  301,  16.5651,  25.3953,   -999.0,9
       KS04-01,  137E,KS-0900,  1,     13,02-16019,2,20040124,0057, 29.9895, 137.0337, 4485,    406.1,  14.3393,  34.5568,2,   -999.0,9,  34.5590,2,    183.0,2,    12.75,2,  -999.00,9,    11.60,2,     0.00,2,     0.78,2, -999.000,9, -999.000,9,  -999.00,9,   2076.3,2,   -999.0,9,   7.8645,2,     25.0, TS,     7.97,2,   -999.0,  -999.00,9,  -999.00,9,  -999.00,9,  -999.00,9,   -999.0,-999.0000, -999,9,  403,  14.2795,  25.7856,     47.6,2
       KS04-01,  137E,KS-0900,  1,     12,02-16018,2,20040124,0054, 29.9895, 137.0337, 4485,    505.3,  11.0711,  34.3472,2,   -999.0,9,  34.3505,2,    165.0,2,    27.10,2,  -999.00,9,    18.51,2,     0.00,2,     1.30,2, -999.000,9, -999.000,9,  -999.00,9,   2127.3,2,   -999.0,9,   7.7542,2,     25.0, TS,     7.86,2,   -999.0,  -999.00,9,  -999.00,9,  -999.00,9,  -999.00,9,   -999.0,-999.0000, -999,9,  501,  11.0081,  26.2657,     45.8,2
       KS04-01,  137E,KS-0900,  1,     11,02-16017,2,20040124,0051, 29.9895, 137.0337, 4485,    607.0,   8.7919,  34.2251,2,   -999.0,9,  34.2275,2,    145.0,2,    42.39,2,  -999.00,9,    24.26,2,     0.00,2,     1.73,2, -999.000,9, -999.000,9,  -999.00,9,   2172.2,2,   -999.0,9,   7.6591,2,     25.0, TS,     7.76,2,   -999.0,  -999.00,9,  -999.00,9,  -999.00,9,  -999.00,9,   -999.0,-999.0000, -999,9,  602,   8.7260,  26.5546,     43.8,2
       KS04-01,  137E,KS-0900,  1,     10,02-16016,2,20040124,0047, 29.9895, 137.0337, 4485,    708.9,   6.4076,  34.1249,2,   -999.0,9,  34.1268,2,    125.0,3,    63.19,2,  -999.00,9,    30.48,2,     0.00,2,     2.20,2, -999.000,9, -999.000,9,  -999.00,9,   2229.9,2,   -999.0,9,   7.5474,2,     25.0, TS,     7.65,2,   -999.0,  -999.00,9,  -999.00,9,  -999.00,9,  -999.00,9,   -999.0,-999.0000, -999,9,  703,   6.3429,  26.8173,   -999.0,9
       KS04-01,  137E,KS-0900,  1,      9,02-16015,2,20040124,0044, 29.9895, 137.0337, 4485,    809.8,   5.1301,  34.1758,2,   -999.0,9,  34.1754,2,     91.0,2,    84.72,2,  -999.00,9,    35.93,2,     0.00,2,     2.59,2, -999.000,9, -999.000,9,  -999.00,9,   2274.7,2,   -999.0,9,   7.4566,2,     25.0, TS,     7.56,2,   -999.0,  -999.00,9,  -999.00,9,  -999.00,9,  -999.00,9,   -999.0,-999.0000, -999,9,  803,   5.0634,  27.0145,     41.8,2
       KS04-01,  137E,KS-0900,  1,      8,02-16014,2,20040124,0039, 29.9895, 137.0337, 4485,   1011.7,   3.9721,  34.3252,2,   -999.0,9,  34.3227,2,     66.0,2,   111.15,2,  -999.00,9,    39.43,2,     0.00,2,     2.84,2, -999.000,9, -999.000,9,  -999.00,9,   2322.0,2,   -999.0,9,   7.4149,2,     25.0, TS,     7.51,2,   -999.0,  -999.00,9,  -999.00,9,  -999.00,9,  -999.00,9,   -999.0,-999.0000, -999,9, 1002,   3.8960,  27.2600,     42.5,2
       KS04-01,  137E,KS-0900,  1,      7,02-17642,2,20040124,0032, 29.9895, 137.0337, 4485,   1263.4,   3.0741,  34.4579,2,   -999.0,9,  34.4353,4,     59.0,2,   129.75,2,  -999.00,9,    40.68,2,     0.00,2,     2.92,2, -999.000,9, -999.000,9,  -999.00,9,   -999.0,9,   -999.0,9,-999.0000,9,   -999.0,  9,     7.51,2,   -999.0,  -999.00,9,  -999.00,9,  -999.00,9,  -999.00,9,   -999.0,-999.0000, -999,9, 1251,   2.9851,  27.4537,   -999.0,9
       KS04-01,  137E,KS-0900,  1,      6,02-16012,2,20040124,0026, 29.9895, 137.0337, 4485,   1518.1,   2.4996,  34.5284,2,   -999.0,9,  34.5247,2,     82.0,2,   134.90,2,  -999.00,9,    39.41,2,     0.00,2,     2.80,2, -999.000,9, -999.000,9,  -999.00,9,   -999.0,9,   -999.0,9,-999.0000,9,   -999.0,  9,     7.55,2,   -999.0,  -999.00,9,  -999.00,9,  -999.00,9,  -999.00,9,   -999.0,-999.0000, -999,9, 1502,   2.3962,  27.5616,   -999.0,9
       KS04-01,  137E,KS-0900,  1,      5,02-16011,2,20040124,0014, 29.9895, 137.0337, 4485,   2025.3,   1.9660,  34.6062,2,   -999.0,9,  34.6056,2,    107.0,2,   142.34,2,  -999.00,9,    38.53,2,     0.00,2,     2.72,2, -999.000,9, -999.000,9,  -999.00,9,   -999.0,9,   -999.0,9,-999.0000,9,   -999.0,  9,     7.60,2,   -999.0,  -999.00,9,  -999.00,9,  -999.00,9,  -999.00,9,   -999.0,-999.0000, -999,9, 2002,   1.8280,  27.6696,   -999.0,9
       KS04-01,  137E,KS-0900,  1,      4,02-16010,2,20040124,0003, 29.9895, 137.0337, 4485,   2532.4,   1.7591,  34.6412,2,   -999.0,9,  34.6392,2,    129.0,2,   140.05,2,  -999.00,9,    37.27,2,     0.00,2,     2.62,2, -999.000,9, -999.000,9,  -999.00,9,   -999.0,9,   -999.0,9,-999.0000,9,   -999.0,  9,     7.64,2,   -999.0,  -999.00,9,  -999.00,9,  -999.00,9,  -999.00,9,   -999.0,-999.0000, -999,9, 2500,   1.5804,  27.7164,   -999.0,9
       KS04-01,  137E,KS-0900,  1,      3,02-16009,2,20040123,2352, 29.9895, 137.0337, 4485,   3040.3,   1.6129,  34.6647,2,   -999.0,9,  34.6510,4,    134.0,2,   140.13,2,  -999.00,9,    37.07,2,     0.00,2,     2.60,2, -999.000,9, -999.000,9,  -999.00,9,   -999.0,9,   -999.0,9,-999.0000,9,   -999.0,  9,     7.65,2,   -999.0,  -999.00,9,  -999.00,9,  -999.00,9,  -999.00,9,   -999.0,-999.0000, -999,9, 2998,   1.3898,  27.7490,   -999.0,9
       KS04-01,  137E,KS-0900,  1,      2,02-16008,2,20040123,2334, 29.9895, 137.0337, 4485,   4065.0,   1.5464,  34.6827,2,   -999.0,9,  34.6794,4,    153.0,2,   137.14,2,  -999.00,9,    35.71,2,     0.00,2,     2.49,2, -999.000,9, -999.000,9,  -999.00,9,   -999.0,9,   -999.0,9,-999.0000,9,   -999.0,  9,     7.69,2,   -999.0,  -999.00,9,  -999.00,9,  -999.00,9,  -999.00,9,   -999.0,-999.0000, -999,9, 3999,   1.2191,  27.7755,   -999.0,9
       KS04-01,  137E,KS-0900,  1,      1,02-16007,2,20040123,2325, 29.9895, 137.0337, 4485,   4526.8,   1.5882,  34.6837,2,   -999.0,9,  34.6806,2,    156.0,2,   136.26,2,  -999.00,9,    35.51,2,     0.00,2,     2.47,2, -999.000,9, -999.000,9,  -999.00,9,   -999.0,9,   -999.0,9,-999.0000,9,   -999.0,  9,     7.69,2,   -999.0,  -999.00,9,  -999.00,9,  -999.00,9,  -999.00,9,   -999.0,-999.0000, -999,9, 4449,   1.2074,  27.7771,   -999.0,9