BOTTLE,20130510GEMDJMAYT
EXPOCODE,SECT_ID,STNNBR,CASTNO,SAMPNO,BTLNBR,BTLNBR_FLAG_W,DATE,TIME,LATITUDE,LONGITUDE,DEPTH,CTDPRS,CTDTMP,CTDSAL,CTDSAL_FLAG_W,CTDOXY,CTDOXY_FLAG_W,SALNTY,SALNTY_FLAG_W,OXYGEN,OXYGEN_FLAG_W,SILCAT,SILCAT_FLAG_W,NITRAT,NITRAT_FLAG_W,NO2+NO3,NO2+NO3_FLAG_W,NITRIT,NITRIT_FLAG_W,PHSPHT,PHSPHT_FLAG_W,CFC-11,CFC-11_FLAG_W,CFC-12,CFC-12_FLAG_W,DELC13,DELC13_FLAG_W,TCARBN,TCARBN_FLAG_W,ALKALI,ALKALI_FLAG_W,PH,PH_FLAG_W,PH_TMP,PH_SCALE,PH_NBS,PH_NBS_FLAG_W,C13ERR,TOTALP,TOTALP_FLAG_W,AMMONI,AMMONI_FLAG_W,CHLORA,CHLORA_FLAG_W,PPHYTN,PPHYTN_FLAG_W,REVPRS,REVTMP,DEPTH_,DEPTH_FLAG,CTDDEP,THETA,SIGTHT,DOC,DOC_FLAG_W
,,,,,,,GMT,GMT,,,METER,DBAR,ITS-90,PSS-78,,UMOL/KG,,PSS-78,,UMOL/KG,,UMOL/KG,,UMOL/KG,,UMOL/KG,,UMOL/KG,,UMOL/KG,,PMOL/KG,,PMOL/KG,,/MILLE,,UMOL/KG,,UMOL/KG,,25_DEG_C,,DEG_C,,,,/MILLE,UMOL/KG,,UMOL/KG,,UG/L,,UG/L,,DBAR,ITS-90,METERS,,METERS,DEG_C,,UMOL/L,
       KS04-01,  137E,KS-0949,  1,     24,02-16030,2,20040224,0044, 26.9885, 136.1002, 4444,      4.9,  21.5467,  34.9587,2,   -999.0,9,  34.9577,2,    220.0,2,  -999.00,9,  -999.00,9,     0.00,2,     0.01,2,     0.01,2, -999.000,9, -999.000,9,  -999.00,9,   -999.0,9,   -999.0,9,-999.0000,9,   -999.0,  9,  -999.00,9,   -999.0,  -999.00,9,  -999.00,9,  -999.00,9,  -999.00,9,   -999.0,-999.0000, -999,9,    5,  21.5457,  24.3129,   -999.0,9
       KS04-01,  137E,KS-0949,  1,     23,02-16029,2,20040224,0043, 26.9885, 136.1002, 4444,     10.5,  21.5501,  34.9580,2,   -999.0,9,-999.0000,9,    218.0,2,  -999.00,9,  -999.00,9,     0.00,2,     0.01,2,     0.01,2, -999.000,9, -999.000,9,  -999.00,9,   -999.0,9,   -999.0,9,-999.0000,9,   -999.0,  9,  -999.00,9,   -999.0,  -999.00,9,  -999.00,9,  -999.00,9,  -999.00,9,   -999.0,-999.0000, -999,9,   10,  21.5481,  24.3117,   -999.0,9
       KS04-01,  137E,KS-0949,  1,     22,02-16028,2,20040224,0042, 26.9885, 136.1002, 4444,     25.3,  21.5487,  34.9585,2,   -999.0,9,-999.0000,9,    218.0,2,  -999.00,9,  -999.00,9,     0.00,2,     0.01,2,     0.00,2, -999.000,9, -999.000,9,  -999.00,9,   -999.0,9,   -999.0,9,-999.0000,9,   -999.0,  9,  -999.00,9,   -999.0,  -999.00,9,  -999.00,9,  -999.00,9,  -999.00,9,   -999.0,-999.0000, -999,9,   25,  21.5438,  24.3132,   -999.0,9
       KS04-01,  137E,KS-0949,  1,     21,02-16027,2,20040224,0038, 26.9885, 136.1002, 4444,     51.9,  21.5520,  34.9577,2,   -999.0,9,-999.0000,9,    218.0,2,  -999.00,9,  -999.00,9,     0.00,2,     0.01,2,     0.00,2, -999.000,9, -999.000,9,  -999.00,9,   -999.0,9,   -999.0,9,-999.0000,9,   -999.0,  9,  -999.00,9,   -999.0,  -999.00,9,  -999.00,9,  -999.00,9,  -999.00,9,   -999.0,-999.0000, -999,9,   52,  21.5419,  24.3132,   -999.0,9
       KS04-01,  137E,KS-0949,  1,     20,02-16026,2,20040224,0037, 26.9885, 136.1002, 4444,     75.4,  21.5078,  34.9519,2,   -999.0,9,-999.0000,9,    218.0,2,  -999.00,9,  -999.00,9,     0.00,2,     0.02,2,     0.01,2, -999.000,9, -999.000,9,  -999.00,9,   -999.0,9,   -999.0,9,-999.0000,9,   -999.0,  9,  -999.00,9,   -999.0,  -999.00,9,  -999.00,9,  -999.00,9,  -999.00,9,   -999.0,-999.0000, -999,9,   75,  21.4931,  24.3222,   -999.0,9
       KS04-01,  137E,KS-0949,  1,     19,02-16025,2,20040224,0036, 26.9885, 136.1002, 4444,    101.2,  20.8050,  34.9217,2,   -999.0,9,  34.9225,2,    219.0,2,  -999.00,9,  -999.00,9,     0.20,2,     0.11,2,     0.03,2, -999.000,9, -999.000,9,  -999.00,9,   -999.0,9,   -999.0,9,-999.0000,9,   -999.0,  9,  -999.00,9,   -999.0,  -999.00,9,  -999.00,9,  -999.00,9,  -999.00,9,   -999.0,-999.0000, -999,9,  101,  20.7858,  24.4923,   -999.0,9
       KS04-01,  137E,KS-0949,  1,     18,02-16024,2,20040224,0035, 26.9885, 136.1002, 4444,    125.8,  20.4381,  34.9056,2,   -999.0,9,-999.0000,9,    217.0,2,  -999.00,9,  -999.00,9,     0.59,2,     0.19,2,     0.04,2, -999.000,9, -999.000,9,  -999.00,9,   -999.0,9,   -999.0,9,-999.0000,9,   -999.0,  9,  -999.00,9,   -999.0,  -999.00,9,  -999.00,9,  -999.00,9,  -999.00,9,   -999.0,-999.0000, -999,9,  125,  20.4145,  24.5798,   -999.0,9
       KS04-01,  137E,KS-0949,  1,     17,02-16023,2,20040224,0034, 26.9885, 136.1002, 4444,    152.5,  19.9447,  34.8788,2,   -999.0,9,-999.0000,9,    206.0,2,  -999.00,9,  -999.00,9,     1.76,2,     0.05,2,     0.13,2, -999.000,9, -999.000,9,  -999.00,9,   -999.0,9,   -999.0,9,-999.0000,9,   -999.0,  9,  -999.00,9,   -999.0,  -999.00,9,  -999.00,9,  -999.00,9,  -999.00,9,   -999.0,-999.0000, -999,9,  151,  19.9166,  24.6912,   -999.0,9
       KS04-01,  137E,KS-0949,  1,     16,02-16022,2,20040224,0033, 26.9885, 136.1002, 4444,    203.3,  18.7558,  34.8308,2,   -999.0,9,  34.8314,2,    201.0,2,  -999.00,9,  -999.00,9,     3.32,2,     0.01,2,     0.22,2, -999.000,9, -999.000,9,  -999.00,9,   -999.0,9,   -999.0,9,-999.0000,9,   -999.0,  9,  -999.00,9,   -999.0,  -999.00,9,  -999.00,9,  -999.00,9,  -999.00,9,   -999.0,-999.0000, -999,9,  202,  18.7199,  24.9629,   -999.0,9
       KS04-01,  137E,KS-0949,  1,     15,02-16021,2,20040224,0030, 26.9885, 136.1002, 4444,    252.6,  17.6526,  34.7682,2,   -999.0,9,-999.0000,9,    203.0,2,  -999.00,9,  -999.00,9,     4.68,2,     0.00,2,     0.32,2, -999.000,9, -999.000,9,  -999.00,9,   -999.0,9,   -999.0,9,-999.0000,9,   -999.0,  9,  -999.00,9,   -999.0,  -999.00,9,  -999.00,9,  -999.00,9,  -999.00,9,   -999.0,-999.0000, -999,9,  251,  17.6098,  25.1899,   -999.0,9
       KS04-01,  137E,KS-0949,  1,     14,02-16020,2,20040224,0029, 26.9885, 136.1002, 4444,    303.0,  16.9911,  34.7286,2,   -999.0,9,  34.7473,4,    201.0,2,  -999.00,9,  -999.00,9,     5.27,2,     0.00,2,     0.36,2, -999.000,9, -999.000,9,  -999.00,9,   -999.0,9,   -999.0,9,-999.0000,9,   -999.0,  9,  -999.00,9,   -999.0,  -999.00,9,  -999.00,9,  -999.00,9,  -999.00,9,   -999.0,-999.0000, -999,9,  301,  16.9411,  25.3199,   -999.0,9
       KS04-01,  137E,KS-0949,  1,     13,02-16019,9,20040224,0027, 26.9885, 136.1002, 4444,    402.3,  15.3980,  34.6160,2,   -999.0,9,-999.0000,9,   -999.0,9,  -999.00,9,  -999.00,9,  -999.00,9,  -999.00,9,  -999.00,9, -999.000,9, -999.000,9,  -999.00,9,   -999.0,9,   -999.0,9,-999.0000,9,   -999.0,  9,  -999.00,9,   -999.0,  -999.00,9,  -999.00,9,  -999.00,9,  -999.00,9,   -999.0,-999.0000, -999,9,  399,  15.3358,  25.6018,   -999.0,9
       KS04-01,  137E,KS-0949,  1,     12,02-16018,2,20040224,0027, 26.9885, 136.1002, 4444,    401.9,  15.3975,  34.6150,2,   -999.0,9,  34.6178,2,    191.0,2,  -999.00,9,  -999.00,9,     8.97,2,     0.00,2,     0.60,2, -999.000,9, -999.000,9,  -999.00,9,   -999.0,9,   -999.0,9,-999.0000,9,   -999.0,  9,  -999.00,9,   -999.0,  -999.00,9,  -999.00,9,  -999.00,9,  -999.00,9,   -999.0,-999.0000, -999,9,  399,  15.3353,  25.6011,   -999.0,9
       KS04-01,  137E,KS-0949,  1,     11,02-16017,2,20040224,0023, 26.9885, 136.1002, 4444,    504.9,  12.7900,  34.4356,2,   -999.0,9,  34.4418,4,    183.0,2,  -999.00,9,  -999.00,9,    13.84,2,     0.00,2,     0.95,2, -999.000,9, -999.000,9,  -999.00,9,   -999.0,9,   -999.0,9,-999.0000,9,   -999.0,  9,  -999.00,9,   -999.0,  -999.00,9,  -999.00,9,  -999.00,9,  -999.00,9,   -999.0,-999.0000, -999,9,  501,  12.7209,  26.0110,   -999.0,9
       KS04-01,  137E,KS-0949,  1,     10,02-16016,9,20040224,0020, 26.9885, 136.1002, 4444,    607.4,  10.2035,  34.2827,2,   -999.0,9,-999.0000,9,   -999.0,9,  -999.00,9,  -999.00,9,  -999.00,9,  -999.00,9,  -999.00,9, -999.000,9, -999.000,9,  -999.00,9,   -999.0,9,   -999.0,9,-999.0000,9,   -999.0,  9,  -999.00,9,   -999.0,  -999.00,9,  -999.00,9,  -999.00,9,  -999.00,9,   -999.0,-999.0000, -999,9,  602,  10.1313,  26.3695,   -999.0,9
       KS04-01,  137E,KS-0949,  1,      9,02-16015,2,20040224,0020, 26.9885, 136.1002, 4444,    606.4,  10.2120,  34.2821,2,   -999.0,9,  34.2848,2,    165.0,2,  -999.00,9,  -999.00,9,    20.36,2,     0.00,2,     1.42,2, -999.000,9, -999.000,9,  -999.00,9,   -999.0,9,   -999.0,9,-999.0000,9,   -999.0,  9,  -999.00,9,   -999.0,  -999.00,9,  -999.00,9,  -999.00,9,  -999.00,9,   -999.0,-999.0000, -999,9,  602,  10.1399,  26.3675,   -999.0,9
       KS04-01,  137E,KS-0949,  1,      8,02-16014,2,20040224,0017, 26.9885, 136.1002, 4444,    706.2,   7.5745,  34.1652,2,   -999.0,9,  34.1675,2,    132.0,2,  -999.00,9,  -999.00,9,    27.76,2,     0.00,2,     1.98,2, -999.000,9, -999.000,9,  -999.00,9,   -999.0,9,   -999.0,9,-999.0000,9,   -999.0,  9,  -999.00,9,   -999.0,  -999.00,9,  -999.00,9,  -999.00,9,  -999.00,9,   -999.0,-999.0000, -999,9,  700,   7.5038,  26.6905,   -999.0,9
       KS04-01,  137E,KS-0949,  1,      7,02-16013,2,20040224,0013, 26.9885, 136.1002, 4444,    806.7,   5.9618,  34.1641,2,   -999.0,9,  34.1658,2,    100.0,2,  -999.00,9,  -999.00,9,    33.30,2,     0.00,2,     2.38,2, -999.000,9, -999.000,9,  -999.00,9,   -999.0,9,   -999.0,9,-999.0000,9,   -999.0,  9,  -999.00,9,   -999.0,  -999.00,9,  -999.00,9,  -999.00,9,  -999.00,9,   -999.0,-999.0000, -999,9,  800,   5.8903,  26.9059,   -999.0,9
       KS04-01,  137E,KS-0949,  1,      6,02-16012,2,20040224,0011, 26.9885, 136.1002, 4444,    909.3,   4.8933,  34.2189,2,   -999.0,9,  34.2189,2,     77.0,2,  -999.00,9,  -999.00,9,    37.10,2,     0.00,2,     2.66,2, -999.000,9, -999.000,9,  -999.00,9,   -999.0,9,   -999.0,9,-999.0000,9,   -999.0,  9,  -999.00,9,   -999.0,  -999.00,9,  -999.00,9,  -999.00,9,  -999.00,9,   -999.0,-999.0000, -999,9,  901,   4.8193,  27.0765,   -999.0,9
       KS04-01,  137E,KS-0949,  1,      5,02-16011,2,20040224,0008, 26.9885, 136.1002, 4444,   1010.0,   4.2254,  34.2906,2,   -999.0,9,  34.2893,2,     64.0,2,  -999.00,9,  -999.00,9,    39.04,2,     0.00,2,     2.80,2, -999.000,9, -999.000,9,  -999.00,9,   -999.0,9,   -999.0,9,-999.0000,9,   -999.0,  9,  -999.00,9,   -999.0,  -999.00,9,  -999.00,9,  -999.00,9,  -999.00,9,   -999.0,-999.0000, -999,9, 1001,   4.1475,  27.2065,   -999.0,9
       KS04-01,  137E,KS-0949,  1,      4,02-16010,2,20040224,0001, 26.9885, 136.1002, 4444,   1262.2,   3.2851,  34.4249,2,   -999.0,9,  34.4245,2,     61.0,2,  -999.00,9,  -999.00,9,    40.59,2,     0.00,2,     2.91,2, -999.000,9, -999.000,9,  -999.00,9,   -999.0,9,   -999.0,9,-999.0000,9,   -999.0,  9,  -999.00,9,   -999.0,  -999.00,9,  -999.00,9,  -999.00,9,  -999.00,9,   -999.0,-999.0000, -999,9, 1250,   3.1942,  27.4080,   -999.0,9
       KS04-01,  137E,KS-0949,  1,      3,02-16009,2,20040223,2354, 26.9885, 136.1002, 4444,   1516.7,   2.6550,  34.5090,2,   -999.0,9,  34.5078,2,     75.0,2,  -999.00,9,  -999.00,9,    40.29,2,     0.00,2,     2.85,2, -999.000,9, -999.000,9,  -999.00,9,   -999.0,9,   -999.0,9,-999.0000,9,   -999.0,  9,  -999.00,9,   -999.0,  -999.00,9,  -999.00,9,  -999.00,9,  -999.00,9,   -999.0,-999.0000, -999,9, 1501,   2.5500,  27.5330,   -999.0,9
       KS04-01,  137E,KS-0949,  1,      2,02-16008,2,20040223,2345, 26.9885, 136.1002, 4444,   1767.9,   2.2788,  34.5643,2,   -999.0,9,  34.5641,2,     92.0,2,  -999.00,9,  -999.00,9,    39.51,2,     0.00,2,     2.77,2, -999.000,9, -999.000,9,  -999.00,9,   -999.0,9,   -999.0,9,-999.0000,9,   -999.0,  9,  -999.00,9,   -999.0,  -999.00,9,  -999.00,9,  -999.00,9,  -999.00,9,   -999.0,-999.0000, -999,9, 1749,   2.1578,  27.6100,   -999.0,9
       KS04-01,  137E,KS-0949,  1,      1,02-16007,2,20040223,2338, 26.9885, 136.1002, 4444,   2024.6,   1.9994,  34.6084,2,   -999.0,9,  34.6068,2,    112.0,2,  -999.00,9,  -999.00,9,    38.34,2,     0.00,2,     2.71,2, -999.000,9, -999.000,9,  -999.00,9,   -999.0,9,   -999.0,9,-999.0000,9,   -999.0,  9,  -999.00,9,   -999.0,  -999.00,9,  -999.00,9,  -999.00,9,  -999.00,9,   -999.0,-999.0000, -999,9, 2002,   1.8610,  27.6688,   -999.0,9