BOTTLE,20130510GEMDJMAYT
EXPOCODE,SECT_ID,STNNBR,CASTNO,SAMPNO,BTLNBR,BTLNBR_FLAG_W,DATE,TIME,LATITUDE,LONGITUDE,DEPTH,CTDPRS,CTDTMP,CTDSAL,CTDSAL_FLAG_W,CTDOXY,CTDOXY_FLAG_W,SALNTY,SALNTY_FLAG_W,OXYGEN,OXYGEN_FLAG_W,SILCAT,SILCAT_FLAG_W,NITRAT,NITRAT_FLAG_W,NO2+NO3,NO2+NO3_FLAG_W,NITRIT,NITRIT_FLAG_W,PHSPHT,PHSPHT_FLAG_W,CFC-11,CFC-11_FLAG_W,CFC-12,CFC-12_FLAG_W,DELC13,DELC13_FLAG_W,TCARBN,TCARBN_FLAG_W,ALKALI,ALKALI_FLAG_W,PH,PH_FLAG_W,PH_TMP,PH_SCALE,PH_NBS,PH_NBS_FLAG_W,C13ERR,TOTALP,TOTALP_FLAG_W,AMMONI,AMMONI_FLAG_W,CHLORA,CHLORA_FLAG_W,PPHYTN,PPHYTN_FLAG_W,REVPRS,REVTMP,DEPTH_,DEPTH_FLAG,CTDDEP,THETA,SIGTHT,DOC,DOC_FLAG_W
,,,,,,,GMT,GMT,,,METER,DBAR,ITS-90,PSS-78,,UMOL/KG,,PSS-78,,UMOL/KG,,UMOL/KG,,UMOL/KG,,UMOL/KG,,UMOL/KG,,UMOL/KG,,PMOL/KG,,PMOL/KG,,/MILLE,,UMOL/KG,,UMOL/KG,,25_DEG_C,,DEG_C,,,,/MILLE,UMOL/KG,,UMOL/KG,,UG/L,,UG/L,,DBAR,ITS-90,METERS,,METERS,DEG_C,,UMOL/L,
       KS04-01,  137E,KS-0905,  1,     24,02-16030,2,20040126,0540, 24.9872, 137.0138, 5191,      4.1,  23.2179,  34.9592,2,   -999.0,9,  34.9591,2,    211.0,2,     1.28,2,  -999.00,9,     0.00,2,     0.00,2,     0.00,2, -999.000,9, -999.000,9,  -999.00,9,   1964.3,2,   -999.0,9,   8.0889,2,     25.0, TS,     8.21,2,   -999.0,  -999.00,9,  -999.00,9,     0.19,2,     0.13,2,   -999.0,-999.0000, -999,9,    4,  23.2171,  23.8399,     63.8,2
       KS04-01,  137E,KS-0905,  1,     23,02-16029,2,20040126,0540, 24.9872, 137.0138, 5191,     10.8,  23.2245,  34.9586,2,   -999.0,9,-999.0000,9,    212.0,2,     1.20,2,  -999.00,9,     0.00,2,     0.00,2,     0.00,2, -999.000,9, -999.000,9,  -999.00,9,   1962.5,2,   -999.0,9,   8.0901,2,     25.0, TS,     8.21,2,   -999.0,  -999.00,9,  -999.00,9,     0.19,2,     0.12,2,   -999.0,-999.0000, -999,9,   11,  23.2223,  23.8379,     65.2,2
       KS04-01,  137E,KS-0905,  1,     22,02-16028,2,20040126,0539, 24.9872, 137.0138, 5191,     25.7,  23.2294,  34.9584,2,   -999.0,9,-999.0000,9,    211.0,2,     1.19,2,  -999.00,9,     0.00,2,     0.00,2,     0.00,2, -999.000,9, -999.000,9,  -999.00,9,   1964.5,2,   -999.0,9,   8.0897,2,     25.0, TS,     8.21,2,   -999.0,  -999.00,9,  -999.00,9,     0.19,2,     0.12,2,   -999.0,-999.0000, -999,9,   26,  23.2241,  23.8372,     65.4,2
       KS04-01,  137E,KS-0905,  1,     21,02-16027,2,20040126,0537, 24.9872, 137.0138, 5191,     51.4,  23.2252,  34.9586,2,   -999.0,9,-999.0000,9,    211.0,2,     1.22,2,  -999.00,9,     0.00,2,     0.00,2,     0.00,2, -999.000,9, -999.000,9,  -999.00,9,   1964.8,2,   -999.0,9,   8.0896,2,     25.0, TS,     8.21,2,   -999.0,  -999.00,9,  -999.00,9,     0.18,2,     0.11,2,   -999.0,-999.0000, -999,9,   51,  23.2146,  23.8402,     65.3,2
       KS04-01,  137E,KS-0905,  1,     20,02-16026,2,20040126,0536, 24.9872, 137.0138, 5191,     76.1,  23.2315,  34.9571,2,   -999.0,9,-999.0000,9,    211.0,2,     1.21,2,  -999.00,9,     0.00,2,     0.00,2,     0.00,2, -999.000,9, -999.000,9,  -999.00,9,   1967.1,2,   -999.0,9,   8.0895,2,     25.0, TS,     8.21,2,   -999.0,  -999.00,9,  -999.00,9,     0.20,2,     0.13,2,   -999.0,-999.0000, -999,9,   76,  23.2159,  23.8387,     65.0,2
       KS04-01,  137E,KS-0905,  1,     19,02-16025,2,20040126,0532, 24.9872, 137.0138, 5191,    100.8,  23.2307,  34.9556,2,   -999.0,9,  34.9577,2,    210.0,2,     1.24,2,  -999.00,9,     0.00,2,     0.00,2,     0.00,2, -999.000,9, -999.000,9,  -999.00,9,   1964.3,2,   -999.0,9,   8.0889,2,     25.0, TS,     8.21,2,   -999.0,  -999.00,9,  -999.00,9,     0.08,4,     0.26,4,   -999.0,-999.0000, -999,9,  100,  23.2100,  23.8393,     62.2,2
       KS04-01,  137E,KS-0905,  1,     18,02-16024,2,20040126,0531, 24.9872, 137.0138, 5191,    125.6,  23.2165,  34.9528,2,   -999.0,9,-999.0000,9,    211.0,2,     1.22,2,  -999.00,9,     0.00,2,     0.01,2,     0.00,2, -999.000,9, -999.000,9,  -999.00,9,   1964.5,2,   -999.0,9,   8.0883,2,     25.0, TS,     8.21,2,   -999.0,  -999.00,9,  -999.00,9,     0.17,2,     0.12,2,   -999.0,-999.0000, -999,9,  125,  23.1907,  23.8427,     64.3,2
       KS04-01,  137E,KS-0905,  1,     17,02-16023,2,20040126,0531, 24.9872, 137.0138, 5191,    152.4,  21.5144,  34.9498,2,   -999.0,9,-999.0000,9,    199.0,2,     1.78,2,  -999.00,9,     0.98,2,     0.03,2,     0.08,2, -999.000,9, -999.000,9,  -999.00,9,   2003.0,2,   -999.0,9,   8.0310,2,     25.0, TS,     8.15,2,   -999.0,  -999.00,9,  -999.00,9,     0.04,2,     0.14,2,   -999.0,-999.0000, -999,9,  151,  21.4847,  24.3229,     59.6,2
       KS04-01,  137E,KS-0905,  1,     16,02-16022,2,20040126,0529, 24.9872, 137.0138, 5191,    201.5,  19.0508,  34.8461,2,   -999.0,9,  34.8477,2,    202.0,2,     2.58,2,  -999.00,9,     2.73,2,     0.01,2,     0.19,2, -999.000,9, -999.000,9,  -999.00,9,   2013.9,2,   -999.0,9,   7.9985,2,     25.0, TS,     8.11,2,   -999.0,  -999.00,9,  -999.00,9,     0.01,2,     0.03,2,   -999.0,-999.0000, -999,9,  200,  19.0148,  24.8997,     41.0,2
       KS04-01,  137E,KS-0905,  1,     15,02-16021,2,20040126,0527, 24.9872, 137.0138, 5191,    252.9,  17.9141,  34.7843,2,   -999.0,9,-999.0000,9,    204.0,2,     3.48,2,  -999.00,9,     4.00,2,     0.00,2,     0.25,2, -999.000,9, -999.000,9,  -999.00,9,   2018.0,2,   -999.0,9,   7.9813,2,     25.0, TS,     8.10,2,   -999.0,  -999.00,9,  -999.00,9,     0.00,2,     0.01,2,   -999.0,-999.0000, -999,9,  251,  17.8708,  25.1386,     49.1,2
       KS04-01,  137E,KS-0905,  1,     14,02-16020,2,20040126,0526, 24.9872, 137.0138, 5191,    300.8,  16.9650,  34.7270,2,   -999.0,9,  34.7282,2,    202.0,2,     4.69,2,  -999.00,9,     5.46,2,     0.00,2,     0.35,2, -999.000,9, -999.000,9,  -999.00,9,   2030.3,6,   -999.0,9,   7.9569,6,     25.0, TS,     8.07,2,   -999.0,  -999.00,9,  -999.00,9,     0.00,2,     0.01,2,   -999.0,-999.0000, -999,9,  299,  16.9154,  25.3248,     47.9,2
       KS04-01,  137E,KS-0905,  1,     13,02-16019,2,20040126,0523, 24.9872, 137.0138, 5191,    404.7,  14.7809,  34.5756,2,   -999.0,9,  34.5791,2,    187.0,2,    10.31,2,  -999.00,9,    10.14,2,     0.00,2,     0.67,2, -999.000,9, -999.000,9,  -999.00,9,   2067.6,2,   -999.0,9,   7.8796,2,     25.0, TS,     8.00,2,   -999.0,  -999.00,9,  -999.00,9,  -999.00,9,  -999.00,9,   -999.0,-999.0000, -999,9,  402,  14.7200,  25.7057,     47.4,2
       KS04-01,  137E,KS-0905,  1,     12,02-16018,2,20040126,0521, 24.9872, 137.0138, 5191,    502.9,  11.3160,  34.3329,2,   -999.0,9,  34.3329,2,    175.0,2,    22.62,2,  -999.00,9,    17.25,2,     0.00,2,     1.18,2, -999.000,9, -999.000,9,  -999.00,9,   2113.5,2,   -999.0,9,   7.7684,2,     25.0, TS,     7.88,2,   -999.0,  -999.00,9,  -999.00,9,  -999.00,9,  -999.00,9,   -999.0,-999.0000, -999,9,  499,  11.2525,  26.2102,     41.9,2
       KS04-01,  137E,KS-0905,  1,     11,02-16017,4,20040126,0518, 24.9872, 137.0138, 5191,    604.7,   9.4122,  34.2027,2,   -999.0,9,  34.3425,4,    175.0,4,    21.70,4,  -999.00,9,    16.85,4,     0.00,4,     1.17,4, -999.000,9, -999.000,9,  -999.00,9,   2113.2,4,   -999.0,9,   7.7755,4,     25.0, TS,     7.89,4,   -999.0,  -999.00,9,  -999.00,9,  -999.00,9,  -999.00,9,   -999.0,-999.0000, -999,9,  600,   9.3439,  26.4384,     45.2,2
       KS04-01,  137E,KS-0905,  1,     10,02-16016,2,20040126,0515, 24.9872, 137.0138, 5191,    705.6,   6.8752,  34.1456,2,   -999.0,9,  34.1468,2,    121.0,2,    59.51,2,  -999.00,9,    29.90,2,     0.00,2,     2.12,2, -999.000,9, -999.000,9,  -999.00,9,   2217.8,2,   -999.0,9,   7.5625,2,     25.0, TS,     7.68,2,   -999.0,  -999.00,9,  -999.00,9,  -999.00,9,  -999.00,9,   -999.0,-999.0000, -999,9,  700,   6.8083,  26.7719,   -999.0,9
       KS04-01,  137E,KS-0905,  1,      9,02-16015,2,20040126,0513, 24.9872, 137.0138, 5191,    808.7,   5.5149,  34.1796,2,   -999.0,9,  34.1803,2,     89.0,2,    79.30,2,  -999.00,9,    35.05,2,     0.00,2,     2.50,2, -999.000,9, -999.000,9,  -999.00,9,   2264.0,3,   -999.0,9,   7.4778,2,     25.0, TS,     7.59,2,   -999.0,  -999.00,9,  -999.00,9,  -999.00,9,  -999.00,9,   -999.0,-999.0000, -999,9,  802,   5.4459,  26.9725,     42.2,2
       KS04-01,  137E,KS-0905,  1,      8,02-16014,2,20040126,0509, 24.9872, 137.0138, 5191,   1007.9,   3.9440,  34.3170,2,   -999.0,9,  34.3172,2,     57.0,2,   110.27,2,  -999.00,9,    40.01,2,     0.00,2,     2.86,2, -999.000,9, -999.000,9,  -999.00,9,   2324.1,2,   -999.0,9,   7.4066,2,     25.0, TS,     7.53,2,   -999.0,  -999.00,9,  -999.00,9,  -999.00,9,  -999.00,9,   -999.0,-999.0000, -999,9,  999,   3.8684,  27.2563,     36.7,2
       KS04-01,  137E,KS-0905,  1,      7,02-17642,2,20040126,0504, 24.9872, 137.0138, 5191,   1259.9,   3.1084,  34.4471,2,   -999.0,9,  34.4475,2,     62.0,2,   128.38,2,  -999.00,9,    40.68,2,     0.00,2,     2.89,2, -999.000,9, -999.000,9,  -999.00,9,   -999.0,9,   -999.0,9,-999.0000,9,   -999.0,  9,     7.54,2,   -999.0,  -999.00,9,  -999.00,9,  -999.00,9,  -999.00,9,   -999.0,-999.0000, -999,9, 1248,   3.0194,  27.4420,   -999.0,9
       KS04-01,  137E,KS-0905,  1,      6,02-16012,2,20040126,0500, 24.9872, 137.0138, 5191,   1515.1,   2.5863,  34.5302,2,   -999.0,9,  34.5319,2,     82.0,2,   135.56,2,  -999.00,9,    39.90,2,     0.00,2,     2.81,2, -999.000,9, -999.000,9,  -999.00,9,   -999.0,9,   -999.0,9,-999.0000,9,   -999.0,  9,     7.58,2,   -999.0,  -999.00,9,  -999.00,9,  -999.00,9,  -999.00,9,   -999.0,-999.0000, -999,9, 1500,   2.4821,  27.5557,   -999.0,9
       KS04-01,  137E,KS-0905,  1,      5,02-16011,2,20040126,0451, 24.9872, 137.0138, 5191,   2025.0,   2.0508,  34.6100,2,   -999.0,9,  34.6095,2,    112.0,2,   138.32,2,  -999.00,9,    38.24,2,     0.00,2,     2.68,2, -999.000,9, -999.000,9,  -999.00,9,   -999.0,9,   -999.0,9,-999.0000,9,   -999.0,  9,     7.63,2,   -999.0,  -999.00,9,  -999.00,9,  -999.00,9,  -999.00,9,   -999.0,-999.0000, -999,9, 2002,   1.9116,  27.6662,   -999.0,9
       KS04-01,  137E,KS-0905,  1,      4,02-16010,2,20040126,0442, 24.9872, 137.0138, 5191,   2531.8,   1.8095,  34.6429,2,   -999.0,9,  34.6429,2,    128.0,2,   138.64,2,  -999.00,9,    37.36,2,     0.00,2,     2.61,2, -999.000,9, -999.000,9,  -999.00,9,   -999.0,9,   -999.0,9,-999.0000,9,   -999.0,  9,     7.66,2,   -999.0,  -999.00,9,  -999.00,9,  -999.00,9,  -999.00,9,   -999.0,-999.0000, -999,9, 2500,   1.6299,  27.7140,   -999.0,9
       KS04-01,  137E,KS-0905,  1,      3,02-16009,2,20040126,0433, 24.9872, 137.0138, 5191,   3041.7,   1.6685,  34.6611,2,   -999.0,9,  34.6610,2,    139.0,2,   137.89,2,  -999.00,9,    36.78,2,     0.00,2,     2.56,2, -999.000,9, -999.000,9,  -999.00,9,   -999.0,9,   -999.0,9,-999.0000,9,   -999.0,  9,     7.68,2,   -999.0,  -999.00,9,  -999.00,9,  -999.00,9,  -999.00,9,   -999.0,-999.0000, -999,9, 3001,   1.4440,  27.7423,   -999.0,9
       KS04-01,  137E,KS-0905,  1,      2,02-16008,2,20040126,0416, 24.9872, 137.0138, 5191,   4062.6,   1.5434,  34.6830,2,   -999.0,9,  34.6814,2,    155.0,2,   137.05,2,  -999.00,9,    35.81,2,     0.00,2,     2.46,2, -999.000,9, -999.000,9,  -999.00,9,   -999.0,9,   -999.0,9,-999.0000,9,   -999.0,  9,     7.71,2,   -999.0,  -999.00,9,  -999.00,9,  -999.00,9,  -999.00,9,   -999.0,-999.0000, -999,9, 3998,   1.2164,  27.7759,   -999.0,9
       KS04-01,  137E,KS-0905,  1,      1,02-16007,2,20040126,0358, 24.9872, 137.0138, 5191,   5149.5,   1.6445,  34.6855,2,   -999.0,9,  34.6853,2,    158.0,2,   136.72,2,  -999.00,9,    35.61,2,     0.00,2,     2.45,2, -999.000,9, -999.000,9,  -999.00,9,   -999.0,9,   -999.0,9,-999.0000,9,   -999.0,  9,     7.71,2,   -999.0,  -999.00,9,  -999.00,9,  -999.00,9,  -999.00,9,   -999.0,-999.0000, -999,9, 5056,   1.1870,  27.7800,   -999.0,9